| Back to Multiple platform build/check report for BioC 3.23: simplified long |
|
This page was generated on 2025-11-19 10:12 -0500 (Wed, 19 Nov 2025).
| Hostname | OS | Arch (*) | R version | Installed pkgs |
|---|---|---|---|---|
| nebbiolo1 | Linux (Ubuntu 24.04.3 LTS) | x86_64 | R Under development (unstable) (2025-10-20 r88955) -- "Unsuffered Consequences" | 4827 |
| lconway | macOS 12.7.6 Monterey | x86_64 | R Under development (unstable) (2025-10-21 r88958) -- "Unsuffered Consequences" | 4600 |
| kjohnson3 | macOS 13.7.7 Ventura | arm64 | R Under development (unstable) (2025-11-04 r88984) -- "Unsuffered Consequences" | 4564 |
| Click on any hostname to see more info about the system (e.g. compilers) (*) as reported by 'uname -p', except on Windows and Mac OS X | ||||
| Package 1719/2325 | Hostname | OS / Arch | INSTALL | BUILD | CHECK | BUILD BIN | ||||||||
| ReactomeGSA 1.25.0 (landing page) Johannes Griss
| nebbiolo1 | Linux (Ubuntu 24.04.3 LTS) / x86_64 | OK | OK | OK | |||||||||
| lconway | macOS 12.7.6 Monterey / x86_64 | OK | OK | OK | OK | |||||||||
| kjohnson3 | macOS 13.7.7 Ventura / arm64 | OK | OK | OK | OK | |||||||||
|
To the developers/maintainers of the ReactomeGSA package: - Allow up to 24 hours (and sometimes 48 hours) for your latest push to git@git.bioconductor.org:packages/ReactomeGSA.git to reflect on this report. See Troubleshooting Build Report for more information. - Use the following Renviron settings to reproduce errors and warnings. - If 'R CMD check' started to fail recently on the Linux builder(s) over a missing dependency, add the missing dependency to 'Suggests:' in your DESCRIPTION file. See Renviron.bioc for more information. |
| Package: ReactomeGSA |
| Version: 1.25.0 |
| Command: /home/biocbuild/bbs-3.23-bioc/R/bin/R CMD check --install=check:ReactomeGSA.install-out.txt --library=/home/biocbuild/bbs-3.23-bioc/R/site-library --timings ReactomeGSA_1.25.0.tar.gz |
| StartedAt: 2025-11-19 03:54:09 -0500 (Wed, 19 Nov 2025) |
| EndedAt: 2025-11-19 04:23:34 -0500 (Wed, 19 Nov 2025) |
| EllapsedTime: 1765.1 seconds |
| RetCode: 0 |
| Status: OK |
| CheckDir: ReactomeGSA.Rcheck |
| Warnings: 0 |
##############################################################################
##############################################################################
###
### Running command:
###
### /home/biocbuild/bbs-3.23-bioc/R/bin/R CMD check --install=check:ReactomeGSA.install-out.txt --library=/home/biocbuild/bbs-3.23-bioc/R/site-library --timings ReactomeGSA_1.25.0.tar.gz
###
##############################################################################
##############################################################################
* using log directory ‘/home/biocbuild/bbs-3.23-bioc/meat/ReactomeGSA.Rcheck’
* using R Under development (unstable) (2025-10-20 r88955)
* using platform: x86_64-pc-linux-gnu
* R was compiled by
gcc (Ubuntu 13.3.0-6ubuntu2~24.04) 13.3.0
GNU Fortran (Ubuntu 13.3.0-6ubuntu2~24.04) 13.3.0
* running under: Ubuntu 24.04.3 LTS
* using session charset: UTF-8
* checking for file ‘ReactomeGSA/DESCRIPTION’ ... OK
* checking extension type ... Package
* this is package ‘ReactomeGSA’ version ‘1.25.0’
* package encoding: UTF-8
* checking package namespace information ... OK
* checking package dependencies ... OK
* checking if this is a source package ... OK
* checking if there is a namespace ... OK
* checking for hidden files and directories ... OK
* checking for portable file names ... OK
* checking for sufficient/correct file permissions ... OK
* checking whether package ‘ReactomeGSA’ can be installed ... OK
* checking installed package size ... OK
* checking package directory ... OK
* checking ‘build’ directory ... OK
* checking DESCRIPTION meta-information ... OK
* checking top-level files ... OK
* checking for left-over files ... OK
* checking index information ... OK
* checking package subdirectories ... OK
* checking code files for non-ASCII characters ... OK
* checking R files for syntax errors ... OK
* checking whether the package can be loaded ... OK
* checking whether the package can be loaded with stated dependencies ... OK
* checking whether the package can be unloaded cleanly ... OK
* checking whether the namespace can be loaded with stated dependencies ... OK
* checking whether the namespace can be unloaded cleanly ... OK
* checking loading without being on the library search path ... OK
* checking whether startup messages can be suppressed ... OK
* checking dependencies in R code ... OK
* checking S3 generic/method consistency ... OK
* checking replacement functions ... OK
* checking foreign function calls ... OK
* checking R code for possible problems ... NOTE
plot_correlations,ReactomeAnalysisResult: no visible binding for global
variable ‘combined_sig’
plot_correlations,ReactomeAnalysisResult: no visible binding for global
variable ‘alpha’
plot_gsva_pathway,ReactomeAnalysisResult: no visible binding for global
variable ‘cluster_id’
plot_gsva_pathway,ReactomeAnalysisResult: no visible binding for global
variable ‘expr’
plot_gsva_pca,ReactomeAnalysisResult: no visible binding for global
variable ‘gsva_result’
plot_gsva_pca,ReactomeAnalysisResult: no visible binding for global
variable ‘PC1’
plot_gsva_pca,ReactomeAnalysisResult: no visible binding for global
variable ‘PC2’
plot_heatmap,ReactomeAnalysisResult: no visible global function
definition for ‘desc’
plot_heatmap,ReactomeAnalysisResult: no visible binding for global
variable ‘n_sig’
plot_heatmap,ReactomeAnalysisResult: no visible binding for global
variable ‘dataset’
plot_heatmap,ReactomeAnalysisResult: no visible binding for global
variable ‘Name’
plot_volcano,ReactomeAnalysisResult: no visible binding for global
variable ‘av_foldchange’
plot_volcano,ReactomeAnalysisResult: no visible binding for global
variable ‘FDR’
Undefined global functions or variables:
FDR Name PC1 PC2 alpha av_foldchange cluster_id combined_sig dataset
desc expr gsva_result n_sig
* checking Rd files ... OK
* checking Rd metadata ... OK
* checking Rd cross-references ... OK
* checking for missing documentation entries ... OK
* checking for code/documentation mismatches ... OK
* checking Rd \usage sections ... OK
* checking Rd contents ... OK
* checking for unstated dependencies in examples ... OK
* checking files in ‘vignettes’ ... OK
* checking examples ... OK
Examples with CPU (user + system) or elapsed time > 5s
user system elapsed
analyse_sc_clusters-Seurat-method 88.277 2.863 691.099
plot_gsva_pathway-ReactomeAnalysisResult-method 36.068 1.731 100.831
plot_gsva_heatmap-ReactomeAnalysisResult-method 36.597 0.679 80.814
analyse_sc_clusters-SingleCellExperiment-method 35.893 1.173 108.388
plot_gsva_heatmap 34.422 0.628 68.564
plot_gsva_pathway 31.948 0.861 66.685
plot_gsva_pca-ReactomeAnalysisResult-method 31.883 0.617 64.671
plot_gsva_pca 31.127 0.821 57.761
analyse_sc_clusters 30.812 0.597 60.249
generate_pseudo_bulk_data 13.903 0.889 14.797
perform_reactome_analysis 7.314 0.197 58.454
ReactomeAnalysisRequest 4.910 0.227 5.140
load_public_dataset 3.206 0.046 29.153
* checking for unstated dependencies in ‘tests’ ... OK
* checking tests ...
Running ‘testthat.R’
OK
* checking for unstated dependencies in vignettes ... OK
* checking package vignettes ... OK
* checking re-building of vignette outputs ... OK
* checking PDF version of manual ... OK
* DONE
Status: 1 NOTE
See
‘/home/biocbuild/bbs-3.23-bioc/meat/ReactomeGSA.Rcheck/00check.log’
for details.
ReactomeGSA.Rcheck/00install.out
############################################################################## ############################################################################## ### ### Running command: ### ### /home/biocbuild/bbs-3.23-bioc/R/bin/R CMD INSTALL ReactomeGSA ### ############################################################################## ############################################################################## * installing to library ‘/home/biocbuild/bbs-3.23-bioc/R/site-library’ * installing *source* package ‘ReactomeGSA’ ... ** this is package ‘ReactomeGSA’ version ‘1.25.0’ ** using staged installation ** R ** inst ** byte-compile and prepare package for lazy loading in method for ‘analyse_sc_clusters’ with signature ‘object="Seurat"’: no definition for class “Seurat” in method for ‘analyse_sc_clusters’ with signature ‘object="SingleCellExperiment"’: no definition for class “SingleCellExperiment” in method for ‘add_dataset’ with signature ‘request="ReactomeAnalysisRequest",expression_values="EList"’: no definition for class “EList” in method for ‘add_dataset’ with signature ‘request="ReactomeAnalysisRequest",expression_values="DGEList"’: no definition for class “DGEList” in method for ‘generate_pseudo_bulk_data’ with signature ‘object="Seurat"’: no definition for class “Seurat” in method for ‘generate_pseudo_bulk_data’ with signature ‘object="SingleCellExperiment"’: no definition for class “SingleCellExperiment” ** help *** installing help indices ** building package indices ** installing vignettes ** testing if installed package can be loaded from temporary location ** testing if installed package can be loaded from final location ** testing if installed package keeps a record of temporary installation path * DONE (ReactomeGSA)
ReactomeGSA.Rcheck/tests/testthat.Rout
R Under development (unstable) (2025-10-20 r88955) -- "Unsuffered Consequences"
Copyright (C) 2025 The R Foundation for Statistical Computing
Platform: x86_64-pc-linux-gnu
R is free software and comes with ABSOLUTELY NO WARRANTY.
You are welcome to redistribute it under certain conditions.
Type 'license()' or 'licence()' for distribution details.
R is a collaborative project with many contributors.
Type 'contributors()' for more information and
'citation()' on how to cite R or R packages in publications.
Type 'demo()' for some demos, 'help()' for on-line help, or
'help.start()' for an HTML browser interface to help.
Type 'q()' to quit R.
> library(testthat)
> library(ReactomeGSA)
>
> test_check("ReactomeGSA")
[ FAIL 0 | WARN 0 | SKIP 0 | PASS 17 ]
>
> proc.time()
user system elapsed
1.712 0.117 1.817
ReactomeGSA.Rcheck/ReactomeGSA-Ex.timings
| name | user | system | elapsed | |
| ReactomeAnalysisRequest | 4.910 | 0.227 | 5.140 | |
| ReactomeAnalysisResult-class | 0.191 | 0.005 | 0.196 | |
| add_dataset-ReactomeAnalysisRequest-DGEList-method | 0.900 | 0.011 | 0.910 | |
| add_dataset-ReactomeAnalysisRequest-EList-method | 0.519 | 0.002 | 0.521 | |
| add_dataset-ReactomeAnalysisRequest-ExpressionSet-method | 0.521 | 0.025 | 0.546 | |
| add_dataset-ReactomeAnalysisRequest-data.frame-method | 0.524 | 0.003 | 0.526 | |
| add_dataset-ReactomeAnalysisRequest-matrix-method | 0.513 | 0.006 | 0.520 | |
| add_dataset | 0.517 | 0.003 | 0.520 | |
| analyse_sc_clusters-Seurat-method | 88.277 | 2.863 | 691.099 | |
| analyse_sc_clusters-SingleCellExperiment-method | 35.893 | 1.173 | 108.388 | |
| analyse_sc_clusters | 30.812 | 0.597 | 60.249 | |
| find_public_datasets | 0.527 | 0.007 | 4.250 | |
| generate_metadata | 0.002 | 0.000 | 0.002 | |
| generate_pseudo_bulk_data | 13.903 | 0.889 | 14.797 | |
| get_public_species | 0.142 | 0.003 | 0.597 | |
| get_reactome_data_types | 0.337 | 0.003 | 1.509 | |
| get_reactome_methods | 0.576 | 0.015 | 2.132 | |
| get_result-ReactomeAnalysisResult-method | 0.519 | 0.027 | 0.547 | |
| get_result | 0.211 | 0.004 | 0.216 | |
| load_public_dataset | 3.206 | 0.046 | 29.153 | |
| names-ReactomeAnalysisResult-method | 0.216 | 0.003 | 0.218 | |
| open_reactome-ReactomeAnalysisResult-method | 0.224 | 0.006 | 0.229 | |
| open_reactome | 0.212 | 0.016 | 0.228 | |
| pathways-ReactomeAnalysisResult-method | 0.260 | 0.006 | 0.267 | |
| pathways | 0.244 | 0.003 | 0.247 | |
| perform_reactome_analysis | 7.314 | 0.197 | 58.454 | |
| plot_correlations-ReactomeAnalysisResult-method | 0.308 | 0.007 | 0.315 | |
| plot_correlations | 0.289 | 0.002 | 0.291 | |
| plot_gsva_heatmap-ReactomeAnalysisResult-method | 36.597 | 0.679 | 80.814 | |
| plot_gsva_heatmap | 34.422 | 0.628 | 68.564 | |
| plot_gsva_pathway-ReactomeAnalysisResult-method | 36.068 | 1.731 | 100.831 | |
| plot_gsva_pathway | 31.948 | 0.861 | 66.685 | |
| plot_gsva_pca-ReactomeAnalysisResult-method | 31.883 | 0.617 | 64.671 | |
| plot_gsva_pca | 31.127 | 0.821 | 57.761 | |
| plot_heatmap-ReactomeAnalysisResult-method | 0.511 | 0.011 | 0.522 | |
| plot_heatmap | 0.606 | 0.008 | 0.615 | |
| plot_volcano-ReactomeAnalysisResult-method | 0.228 | 0.001 | 0.229 | |
| plot_volcano | 0.227 | 0.002 | 0.230 | |
| print-ReactomeAnalysisRequest-method | 0.001 | 0.001 | 0.001 | |
| print-ReactomeAnalysisResult-method | 0.205 | 0.001 | 0.206 | |
| reactome_links-ReactomeAnalysisResult-method | 0.196 | 0.005 | 0.201 | |
| reactome_links | 0.200 | 0.003 | 0.203 | |
| result_types-ReactomeAnalysisResult-method | 0.198 | 0.004 | 0.202 | |
| result_types | 0.189 | 0.004 | 0.193 | |
| set_method-ReactomeAnalysisRequest-method | 0.001 | 0.001 | 0.002 | |
| set_method | 0.001 | 0.000 | 0.002 | |
| set_parameters-ReactomeAnalysisRequest-method | 0.001 | 0.000 | 0.001 | |
| set_parameters | 0.000 | 0.001 | 0.001 | |
| show-ReactomeAnalysisRequest-method | 0.001 | 0.000 | 0.001 | |
| show-ReactomeAnalysisResult-method | 0.195 | 0.004 | 0.199 | |