Back to Multiple platform build/check report for BioC 3.23:   simplified   long
ABCDEFGHIJKLMNOPQR[S]TUVWXYZ

This page was generated on 2025-11-19 10:13 -0500 (Wed, 19 Nov 2025).

HostnameOSArch (*)R versionInstalled pkgs
nebbiolo1Linux (Ubuntu 24.04.3 LTS)x86_64R Under development (unstable) (2025-10-20 r88955) -- "Unsuffered Consequences" 4827
lconwaymacOS 12.7.6 Montereyx86_64R Under development (unstable) (2025-10-21 r88958) -- "Unsuffered Consequences" 4600
kjohnson3macOS 13.7.7 Venturaarm64R Under development (unstable) (2025-11-04 r88984) -- "Unsuffered Consequences" 4564
Click on any hostname to see more info about the system (e.g. compilers)      (*) as reported by 'uname -p', except on Windows and Mac OS X

Package 2062/2325HostnameOS / ArchINSTALLBUILDCHECKBUILD BIN
SpectriPy 1.1.0  (landing page)
Johannes Rainer
Snapshot Date: 2025-11-18 13:40 -0500 (Tue, 18 Nov 2025)
git_url: https://git.bioconductor.org/packages/SpectriPy
git_branch: devel
git_last_commit: 09e5773
git_last_commit_date: 2025-10-29 11:36:52 -0500 (Wed, 29 Oct 2025)
nebbiolo1Linux (Ubuntu 24.04.3 LTS) / x86_64  OK    OK    OK  UNNEEDED, same version is already published
lconwaymacOS 12.7.6 Monterey / x86_64  OK    OK    OK    OK  NO, package depends on 'MsCoreUtils' which is only available as a source package that needs compilation
kjohnson3macOS 13.7.7 Ventura / arm64  ERROR    ERROR  skippedskipped


CHECK results for SpectriPy on nebbiolo1

To the developers/maintainers of the SpectriPy package:
- Allow up to 24 hours (and sometimes 48 hours) for your latest push to git@git.bioconductor.org:packages/SpectriPy.git to reflect on this report. See Troubleshooting Build Report for more information.
- Use the following Renviron settings to reproduce errors and warnings.
- If 'R CMD check' started to fail recently on the Linux builder(s) over a missing dependency, add the missing dependency to 'Suggests:' in your DESCRIPTION file. See Renviron.bioc for more information.

raw results


Summary

Package: SpectriPy
Version: 1.1.0
Command: /home/biocbuild/bbs-3.23-bioc/R/bin/R CMD check --install=check:SpectriPy.install-out.txt --library=/home/biocbuild/bbs-3.23-bioc/R/site-library --timings SpectriPy_1.1.0.tar.gz
StartedAt: 2025-11-19 05:10:42 -0500 (Wed, 19 Nov 2025)
EndedAt: 2025-11-19 05:23:51 -0500 (Wed, 19 Nov 2025)
EllapsedTime: 789.0 seconds
RetCode: 0
Status:   OK  
CheckDir: SpectriPy.Rcheck
Warnings: 0

Command output

##############################################################################
##############################################################################
###
### Running command:
###
###   /home/biocbuild/bbs-3.23-bioc/R/bin/R CMD check --install=check:SpectriPy.install-out.txt --library=/home/biocbuild/bbs-3.23-bioc/R/site-library --timings SpectriPy_1.1.0.tar.gz
###
##############################################################################
##############################################################################


* using log directory ‘/home/biocbuild/bbs-3.23-bioc/meat/SpectriPy.Rcheck’
* using R Under development (unstable) (2025-10-20 r88955)
* using platform: x86_64-pc-linux-gnu
* R was compiled by
    gcc (Ubuntu 13.3.0-6ubuntu2~24.04) 13.3.0
    GNU Fortran (Ubuntu 13.3.0-6ubuntu2~24.04) 13.3.0
* running under: Ubuntu 24.04.3 LTS
* using session charset: UTF-8
* checking for file ‘SpectriPy/DESCRIPTION’ ... OK
* this is package ‘SpectriPy’ version ‘1.1.0’
* package encoding: UTF-8
* checking package namespace information ... OK
* checking package dependencies ... OK
* checking if this is a source package ... OK
* checking if there is a namespace ... OK
* checking for hidden files and directories ... OK
* checking for portable file names ... OK
* checking for sufficient/correct file permissions ... OK
* checking whether package ‘SpectriPy’ can be installed ... OK
* checking installed package size ... OK
* checking package directory ... OK
* checking ‘build’ directory ... OK
* checking DESCRIPTION meta-information ... OK
* checking top-level files ... OK
* checking for left-over files ... OK
* checking index information ... OK
* checking package subdirectories ... OK
* checking code files for non-ASCII characters ... OK
* checking R files for syntax errors ... OK
* checking whether the package can be loaded ... OK
* checking whether the package can be loaded with stated dependencies ... OK
* checking whether the package can be unloaded cleanly ... OK
* checking whether the namespace can be loaded with stated dependencies ... OK
* checking whether the namespace can be unloaded cleanly ... OK
* checking loading without being on the library search path ... OK
* checking whether startup messages can be suppressed ... OK
* checking dependencies in R code ... NOTE
Unexported object imported by a ':::' call: ‘Spectra:::.check_peaks_data_value’
  See the note in ?`:::` about the use of this operator.
* checking S3 generic/method consistency ... OK
* checking replacement functions ... OK
* checking foreign function calls ... OK
* checking R code for possible problems ... OK
* checking Rd files ... OK
* checking Rd metadata ... OK
* checking Rd cross-references ... OK
* checking for missing documentation entries ... OK
* checking for code/documentation mismatches ... OK
* checking Rd \usage sections ... OK
* checking Rd contents ... OK
* checking for unstated dependencies in examples ... OK
* checking files in ‘vignettes’ ... OK
* checking examples ... OK
Examples with CPU (user + system) or elapsed time > 5s
             user system elapsed
MsBackendPy 5.227  0.777   5.881
* checking for unstated dependencies in ‘tests’ ... OK
* checking tests ...
  Running ‘testthat.R’
 OK
* checking for unstated dependencies in vignettes ... OK
* checking package vignettes ... OK
* checking re-building of vignette outputs ... OK
* checking PDF version of manual ... OK
* DONE

Status: 1 NOTE
See
  ‘/home/biocbuild/bbs-3.23-bioc/meat/SpectriPy.Rcheck/00check.log’
for details.


Installation output

SpectriPy.Rcheck/00install.out

##############################################################################
##############################################################################
###
### Running command:
###
###   /home/biocbuild/bbs-3.23-bioc/R/bin/R CMD INSTALL SpectriPy
###
##############################################################################
##############################################################################


* installing to library ‘/home/biocbuild/bbs-3.23-bioc/R/site-library’
* installing *source* package ‘SpectriPy’ ...
** this is package ‘SpectriPy’ version ‘1.1.0’
** using staged installation
** R
** inst
** byte-compile and prepare package for lazy loading
** help
*** installing help indices
*** copying figures
** building package indices
** installing vignettes
** testing if installed package can be loaded from temporary location
** testing if installed package can be loaded from final location
** testing if installed package keeps a record of temporary installation path
* DONE (SpectriPy)

Tests output

SpectriPy.Rcheck/tests/testthat.Rout


R Under development (unstable) (2025-10-20 r88955) -- "Unsuffered Consequences"
Copyright (C) 2025 The R Foundation for Statistical Computing
Platform: x86_64-pc-linux-gnu

R is free software and comes with ABSOLUTELY NO WARRANTY.
You are welcome to redistribute it under certain conditions.
Type 'license()' or 'licence()' for distribution details.

R is a collaborative project with many contributors.
Type 'contributors()' for more information and
'citation()' on how to cite R or R packages in publications.

Type 'demo()' for some demos, 'help()' for on-line help, or
'help.start()' for an HTML browser interface to help.
Type 'q()' to quit R.

> library(testthat)
> library(Spectra)
Loading required package: S4Vectors
Loading required package: stats4
Loading required package: BiocGenerics
Loading required package: generics

Attaching package: 'generics'

The following objects are masked from 'package:base':

    as.difftime, as.factor, as.ordered, intersect, is.element, setdiff,
    setequal, union


Attaching package: 'BiocGenerics'

The following objects are masked from 'package:stats':

    IQR, mad, sd, var, xtabs

The following objects are masked from 'package:base':

    Filter, Find, Map, Position, Reduce, anyDuplicated, aperm, append,
    as.data.frame, basename, cbind, colnames, dirname, do.call,
    duplicated, eval, evalq, get, grep, grepl, is.unsorted, lapply,
    mapply, match, mget, order, paste, pmax, pmax.int, pmin, pmin.int,
    rank, rbind, rownames, sapply, saveRDS, table, tapply, unique,
    unsplit, which.max, which.min


Attaching package: 'S4Vectors'

The following object is masked from 'package:utils':

    findMatches

The following objects are masked from 'package:base':

    I, expand.grid, unname

Loading required package: BiocParallel
> library(SpectriPy)
Loading required package: reticulate
> library(MsBackendMgf)
> 
> fl <- system.file("extdata", "mgf", "test.mgf", package = "SpectriPy")
> s <- Spectra(fl, source = MsBackendMgf())
Start data import from 1 files ... done
> s <- setBackend(s, MsBackendPy(), pythonVariableName = "py_be")
> 
> be <- s@backend
> 
> test_check("SpectriPy")
2025-11-19 05:15:12,434:WARNING:matchms:add_precursor_mz:No precursor_mz found in metadata.
2025-11-19 05:15:12,435:WARNING:matchms:add_precursor_mz:No precursor_mz found in metadata.
2025-11-19 05:15:12,436:WARNING:matchms:add_precursor_mz:No precursor_mz found in metadata.
2025-11-19 05:15:12,436:WARNING:matchms:add_precursor_mz:No precursor_mz found in metadata.
2025-11-19 05:15:12,437:WARNING:matchms:add_precursor_mz:No precursor_mz found in metadata.
2025-11-19 05:15:12,438:WARNING:matchms:add_precursor_mz:No precursor_mz found in metadata.
2025-11-19 05:15:12,438:WARNING:matchms:add_precursor_mz:No precursor_mz found in metadata.
2025-11-19 05:15:12,439:WARNING:matchms:add_precursor_mz:No precursor_mz found in metadata.
2025-11-19 05:15:12,440:WARNING:matchms:add_precursor_mz:No precursor_mz found in metadata.
2025-11-19 05:15:12,441:WARNING:matchms:add_precursor_mz:No precursor_mz found in metadata.
2025-11-19 05:15:12,441:WARNING:matchms:add_precursor_mz:No precursor_mz found in metadata.
2025-11-19 05:15:12,442:WARNING:matchms:add_precursor_mz:No precursor_mz found in metadata.
2025-11-19 05:15:12,443:WARNING:matchms:add_precursor_mz:No precursor_mz found in metadata.
2025-11-19 05:15:12,443:WARNING:matchms:add_precursor_mz:No precursor_mz found in metadata.
2025-11-19 05:15:12,444:WARNING:matchms:add_precursor_mz:No precursor_mz found in metadata.
2025-11-19 05:15:12,445:WARNING:matchms:add_precursor_mz:No precursor_mz found in metadata.
2025-11-19 05:15:12,446:WARNING:matchms:add_precursor_mz:No precursor_mz found in metadata.
2025-11-19 05:15:12,446:WARNING:matchms:add_precursor_mz:No precursor_mz found in metadata.
2025-11-19 05:15:12,447:WARNING:matchms:add_precursor_mz:No precursor_mz found in metadata.
2025-11-19 05:15:12,448:WARNING:matchms:add_precursor_mz:No precursor_mz found in metadata.
2025-11-19 05:15:12,448:WARNING:matchms:add_precursor_mz:No precursor_mz found in metadata.
2025-11-19 05:15:12,449:WARNING:matchms:add_precursor_mz:No precursor_mz found in metadata.
2025-11-19 05:15:12,450:WARNING:matchms:add_precursor_mz:No precursor_mz found in metadata.
2025-11-19 05:15:12,451:WARNING:matchms:add_precursor_mz:No precursor_mz found in metadata.
2025-11-19 05:15:12,451:WARNING:matchms:add_precursor_mz:No precursor_mz found in metadata.
2025-11-19 05:15:12,452:WARNING:matchms:add_precursor_mz:No precursor_mz found in metadata.
2025-11-19 05:15:12,453:WARNING:matchms:add_precursor_mz:No precursor_mz found in metadata.
2025-11-19 05:15:12,454:WARNING:matchms:add_precursor_mz:No precursor_mz found in metadata.
2025-11-19 05:15:12,454:WARNING:matchms:add_precursor_mz:No precursor_mz found in metadata.
2025-11-19 05:15:12,455:WARNING:matchms:add_precursor_mz:No precursor_mz found in metadata.
2025-11-19 05:15:12,456:WARNING:matchms:add_precursor_mz:No precursor_mz found in metadata.
2025-11-19 05:15:12,456:WARNING:matchms:add_precursor_mz:No precursor_mz found in metadata.
2025-11-19 05:15:12,457:WARNING:matchms:add_precursor_mz:No precursor_mz found in metadata.
2025-11-19 05:15:12,458:WARNING:matchms:add_precursor_mz:No precursor_mz found in metadata.
2025-11-19 05:15:12,458:WARNING:matchms:add_precursor_mz:No precursor_mz found in metadata.
2025-11-19 05:15:12,459:WARNING:matchms:add_precursor_mz:No precursor_mz found in metadata.
2025-11-19 05:15:12,460:WARNING:matchms:add_precursor_mz:No precursor_mz found in metadata.
2025-11-19 05:15:12,461:WARNING:matchms:add_precursor_mz:No precursor_mz found in metadata.
2025-11-19 05:15:12,461:WARNING:matchms:add_precursor_mz:No precursor_mz found in metadata.
2025-11-19 05:15:12,462:WARNING:matchms:add_precursor_mz:No precursor_mz found in metadata.
2025-11-19 05:15:12,463:WARNING:matchms:add_precursor_mz:No precursor_mz found in metadata.
2025-11-19 05:15:12,463:WARNING:matchms:add_precursor_mz:No precursor_mz found in metadata.
2025-11-19 05:15:12,464:WARNING:matchms:add_precursor_mz:No precursor_mz found in metadata.
2025-11-19 05:15:12,465:WARNING:matchms:add_precursor_mz:No precursor_mz found in metadata.
2025-11-19 05:15:12,465:WARNING:matchms:add_precursor_mz:No precursor_mz found in metadata.
2025-11-19 05:15:12,466:WARNING:matchms:add_precursor_mz:No precursor_mz found in metadata.
2025-11-19 05:15:12,467:WARNING:matchms:add_precursor_mz:No precursor_mz found in metadata.
2025-11-19 05:15:12,468:WARNING:matchms:add_precursor_mz:No precursor_mz found in metadata.
2025-11-19 05:15:12,469:WARNING:matchms:add_precursor_mz:No precursor_mz found in metadata.
2025-11-19 05:15:12,469:WARNING:matchms:add_precursor_mz:No precursor_mz found in metadata.
2025-11-19 05:15:12,470:WARNING:matchms:add_precursor_mz:No precursor_mz found in metadata.
2025-11-19 05:15:12,471:WARNING:matchms:add_precursor_mz:No precursor_mz found in metadata.
2025-11-19 05:15:12,471:WARNING:matchms:add_precursor_mz:No precursor_mz found in metadata.
2025-11-19 05:15:12,472:WARNING:matchms:add_precursor_mz:No precursor_mz found in metadata.
2025-11-19 05:15:12,473:WARNING:matchms:add_precursor_mz:No precursor_mz found in metadata.
2025-11-19 05:15:12,474:WARNING:matchms:add_precursor_mz:No precursor_mz found in metadata.
2025-11-19 05:15:12,474:WARNING:matchms:add_precursor_mz:No precursor_mz found in metadata.
2025-11-19 05:15:12,475:WARNING:matchms:add_precursor_mz:No precursor_mz found in metadata.
2025-11-19 05:15:12,476:WARNING:matchms:add_precursor_mz:No precursor_mz found in metadata.
2025-11-19 05:15:12,476:WARNING:matchms:add_precursor_mz:No precursor_mz found in metadata.
2025-11-19 05:15:12,477:WARNING:matchms:add_precursor_mz:No precursor_mz found in metadata.
2025-11-19 05:15:12,478:WARNING:matchms:add_precursor_mz:No precursor_mz found in metadata.
2025-11-19 05:15:12,479:WARNING:matchms:add_precursor_mz:No precursor_mz found in metadata.
2025-11-19 05:15:12,479:WARNING:matchms:add_precursor_mz:No precursor_mz found in metadata.
2025-11-19 05:15:12,480:WARNING:matchms:add_precursor_mz:No precursor_mz found in metadata.
2025-11-19 05:15:12,481:WARNING:matchms:add_precursor_mz:No precursor_mz found in metadata.
2025-11-19 05:15:12,482:WARNING:matchms:add_precursor_mz:No precursor_mz found in metadata.
2025-11-19 05:15:12,482:WARNING:matchms:add_precursor_mz:No precursor_mz found in metadata.
2025-11-19 05:15:12,483:WARNING:matchms:add_precursor_mz:No precursor_mz found in metadata.
2025-11-19 05:15:12,484:WARNING:matchms:add_precursor_mz:No precursor_mz found in metadata.
2025-11-19 05:15:12,484:WARNING:matchms:add_precursor_mz:No precursor_mz found in metadata.
2025-11-19 05:15:12,485:WARNING:matchms:add_precursor_mz:No precursor_mz found in metadata.
2025-11-19 05:15:12,486:WARNING:matchms:add_precursor_mz:No precursor_mz found in metadata.
2025-11-19 05:15:12,487:WARNING:matchms:add_precursor_mz:No precursor_mz found in metadata.
2025-11-19 05:15:12,487:WARNING:matchms:add_precursor_mz:No precursor_mz found in metadata.
2025-11-19 05:15:12,488:WARNING:matchms:add_precursor_mz:No precursor_mz found in metadata.
2025-11-19 05:15:12,489:WARNING:matchms:add_precursor_mz:No precursor_mz found in metadata.
2025-11-19 05:15:12,490:WARNING:matchms:add_precursor_mz:No precursor_mz found in metadata.
2025-11-19 05:15:12,490:WARNING:matchms:add_precursor_mz:No precursor_mz found in metadata.
2025-11-19 05:15:12,491:WARNING:matchms:add_precursor_mz:No precursor_mz found in metadata.
2025-11-19 05:15:12,492:WARNING:matchms:add_precursor_mz:No precursor_mz found in metadata.
2025-11-19 05:15:12,492:WARNING:matchms:add_precursor_mz:No precursor_mz found in metadata.
2025-11-19 05:15:12,493:WARNING:matchms:add_precursor_mz:No precursor_mz found in metadata.
2025-11-19 05:15:12,494:WARNING:matchms:add_precursor_mz:No precursor_mz found in metadata.
2025-11-19 05:15:12,494:WARNING:matchms:add_precursor_mz:No precursor_mz found in metadata.
2025-11-19 05:15:12,495:WARNING:matchms:add_precursor_mz:No precursor_mz found in metadata.
2025-11-19 05:15:12,496:WARNING:matchms:add_precursor_mz:No precursor_mz found in metadata.
2025-11-19 05:15:12,497:WARNING:matchms:add_precursor_mz:No precursor_mz found in metadata.
2025-11-19 05:15:12,497:WARNING:matchms:add_precursor_mz:No precursor_mz found in metadata.
2025-11-19 05:15:12,498:WARNING:matchms:add_precursor_mz:No precursor_mz found in metadata.
2025-11-19 05:15:12,499:WARNING:matchms:add_precursor_mz:No precursor_mz found in metadata.
2025-11-19 05:15:12,499:WARNING:matchms:add_precursor_mz:No precursor_mz found in metadata.
2025-11-19 05:15:12,500:WARNING:matchms:add_precursor_mz:No precursor_mz found in metadata.
2025-11-19 05:15:12,501:WARNING:matchms:add_precursor_mz:No precursor_mz found in metadata.
2025-11-19 05:15:12,502:WARNING:matchms:add_precursor_mz:No precursor_mz found in metadata.
2025-11-19 05:15:12,502:WARNING:matchms:add_precursor_mz:No precursor_mz found in metadata.
2025-11-19 05:15:12,503:WARNING:matchms:add_precursor_mz:No precursor_mz found in metadata.
2025-11-19 05:15:12,504:WARNING:matchms:add_precursor_mz:No precursor_mz found in metadata.
2025-11-19 05:15:12,504:WARNING:matchms:add_precursor_mz:No precursor_mz found in metadata.
2025-11-19 05:15:12,505:WARNING:matchms:add_precursor_mz:No precursor_mz found in metadata.

Calculating similarities:   0%|          | 0/4 [00:00<?, ?it/s]
Calculating similarities:  25%|██▌       | 1/4 [00:02<00:07,  2.45s/it]
Calculating similarities: 100%|██████████| 4/4 [00:02<00:00,  1.63it/s]

Calculating similarities:   0%|          | 0/4 [00:00<?, ?it/s]
Calculating similarities: 100%|██████████| 4/4 [00:00<00:00, 5596.14it/s]

Calculating similarities:   0%|          | 0/4 [00:00<?, ?it/s]
Calculating similarities: 100%|██████████| 4/4 [00:00<00:00, 3655.96it/s]

Calculating similarities:   0%|          | 0/4 [00:00<?, ?it/s]
Calculating similarities: 100%|██████████| 4/4 [00:00<00:00, 4999.17it/s]

Calculating similarities:   0%|          | 0/2 [00:00<?, ?it/s]
Calculating similarities: 100%|██████████| 2/2 [00:00<00:00, 6177.18it/s]

Calculating similarities:   0%|          | 0/2 [00:00<?, ?it/s]
Calculating similarities: 100%|██████████| 2/2 [00:00<00:00, 4678.53it/s]

Calculating similarities:   0%|          | 0/2 [00:00<?, ?it/s]
Calculating similarities: 100%|██████████| 2/2 [00:00<00:00, 6374.32it/s]

Calculating similarities:   0%|          | 0/2 [00:00<?, ?it/s]
Calculating similarities: 100%|██████████| 2/2 [00:00<00:00, 2610.83it/s]

Calculating similarities:   0%|          | 0/2 [00:00<?, ?it/s]
Calculating similarities: 100%|██████████| 2/2 [00:00<00:00, 3572.66it/s]

Calculating similarities:   0%|          | 0/2 [00:00<?, ?it/s]
Calculating similarities: 100%|██████████| 2/2 [00:00<00:00, 3943.87it/s]

Calculating similarities:   0%|          | 0/4 [00:00<?, ?it/s]
Calculating similarities:  50%|█████     | 2/4 [00:00<00:00, 2236.37it/s]

Calculating similarities:   0%|          | 0/2 [00:00<?, ?it/s]
Calculating similarities:  50%|█████     | 1/2 [00:00<00:00,  1.61it/s]
Calculating similarities: 100%|██████████| 2/2 [00:00<00:00,  3.22it/s]

Calculating similarities:   0%|          | 0/2 [00:00<?, ?it/s]
Calculating similarities:  50%|█████     | 1/2 [00:00<00:00,  1.19it/s]
Calculating similarities: 100%|██████████| 2/2 [00:00<00:00,  2.38it/s]
2025-11-19 05:15:23,802:WARNING:matchms:add_precursor_mz:No precursor_mz found in metadata.
2025-11-19 05:15:23,860:WARNING:matchms:add_precursor_mz:No precursor_mz found in metadata.
2025-11-19 05:15:23,861:WARNING:matchms:add_precursor_mz:No precursor_mz found in metadata.
2025-11-19 05:15:23,862:WARNING:matchms:add_precursor_mz:No precursor_mz found in metadata.
2025-11-19 05:15:23,955:WARNING:matchms:add_precursor_mz:No precursor_mz found in metadata.
2025-11-19 05:15:23,957:WARNING:matchms:add_precursor_mz:No precursor_mz found in metadata.
2025-11-19 05:15:23,957:WARNING:matchms:add_precursor_mz:No precursor_mz found in metadata.
2025-11-19 05:15:24,207:WARNING:matchms:add_precursor_mz:No precursor_mz found in metadata.
2025-11-19 05:15:24,208:WARNING:matchms:add_precursor_mz:No precursor_mz found in metadata.
2025-11-19 05:15:24,209:WARNING:matchms:add_precursor_mz:No precursor_mz found in metadata.
2025-11-19 05:15:24,239:WARNING:matchms:add_precursor_mz:No precursor_mz found in metadata.
2025-11-19 05:15:24,240:WARNING:matchms:add_precursor_mz:No precursor_mz found in metadata.
2025-11-19 05:15:24,241:WARNING:matchms:add_precursor_mz:No precursor_mz found in metadata.
2025-11-19 05:15:24,538:WARNING:matchms:add_precursor_mz:No precursor_mz found in metadata.
2025-11-19 05:15:24,539:WARNING:matchms:add_precursor_mz:No precursor_mz found in metadata.
2025-11-19 05:15:24,540:WARNING:matchms:add_precursor_mz:No precursor_mz found in metadata.
2025-11-19 05:15:24,574:WARNING:matchms:add_precursor_mz:No precursor_mz found in metadata.
2025-11-19 05:15:24,575:WARNING:matchms:add_precursor_mz:No precursor_mz found in metadata.
2025-11-19 05:15:24,576:WARNING:matchms:add_precursor_mz:No precursor_mz found in metadata.

Processing spectra:   0%|          | 0/4 [00:00<?, ?it/s]
Processing spectra: 100%|██████████| 4/4 [00:00<00:00, 3488.71it/s]

Processing spectra:   0%|          | 0/4 [00:00<?, ?it/s]
Processing spectra: 100%|██████████| 4/4 [00:00<00:00, 3983.19it/s]

Processing spectra:   0%|          | 0/4 [00:00<?, ?it/s]
Processing spectra: 100%|██████████| 4/4 [00:00<00:00, 4080.06it/s]

Processing spectra:   0%|          | 0/4 [00:00<?, ?it/s]
Processing spectra: 100%|██████████| 4/4 [00:00<00:00, 4102.01it/s]

Processing spectra:   0%|          | 0/4 [00:00<?, ?it/s]
Processing spectra: 100%|██████████| 4/4 [00:00<00:00, 3938.31it/s]
[ FAIL 0 | WARN 4 | SKIP 1 | PASS 592 ]

══ Skipped tests (1) ═══════════════════════════════════════════════════════════
• empty test (1): 'test_zzz.R:16:1'

[ FAIL 0 | WARN 4 | SKIP 1 | PASS 592 ]
> 
> ## TODO: add tests from the Spectra unit test suite!
> 
> ## ## Run the MsBackend spectra variable test suite
> ## test_suite <- system.file("test_backends", "test_MsBackend",
> ##                           package = "Spectra")
> 
> ## ## Run single test file.
> ## res <- test_dir(test_suite, stop_on_failure = TRUE)
> 
> proc.time()
   user  system elapsed 
 29.077   2.786  31.193 

Example timings

SpectriPy.Rcheck/SpectriPy-Ex.timings

nameusersystemelapsed
MsBackendPy5.2270.7775.881
compareSpectriPy2.5010.2482.776
conversion0.3510.2960.492
filterSpectriPy0.1770.0280.204