| Back to Multiple platform build/check report for BioC 3.23: simplified long |
|
This page was generated on 2025-11-19 10:13 -0500 (Wed, 19 Nov 2025).
| Hostname | OS | Arch (*) | R version | Installed pkgs |
|---|---|---|---|---|
| nebbiolo1 | Linux (Ubuntu 24.04.3 LTS) | x86_64 | R Under development (unstable) (2025-10-20 r88955) -- "Unsuffered Consequences" | 4827 |
| lconway | macOS 12.7.6 Monterey | x86_64 | R Under development (unstable) (2025-10-21 r88958) -- "Unsuffered Consequences" | 4600 |
| kjohnson3 | macOS 13.7.7 Ventura | arm64 | R Under development (unstable) (2025-11-04 r88984) -- "Unsuffered Consequences" | 4564 |
| Click on any hostname to see more info about the system (e.g. compilers) (*) as reported by 'uname -p', except on Windows and Mac OS X | ||||
| Package 119/2325 | Hostname | OS / Arch | INSTALL | BUILD | CHECK | BUILD BIN | ||||||||
| autonomics 1.19.0 (landing page) Aditya Bhagwat
| nebbiolo1 | Linux (Ubuntu 24.04.3 LTS) / x86_64 | OK | OK | OK | |||||||||
| lconway | macOS 12.7.6 Monterey / x86_64 | OK | OK | OK | OK | |||||||||
| kjohnson3 | macOS 13.7.7 Ventura / arm64 | OK | OK | OK | OK | |||||||||
|
To the developers/maintainers of the autonomics package: - Allow up to 24 hours (and sometimes 48 hours) for your latest push to git@git.bioconductor.org:packages/autonomics.git to reflect on this report. See Troubleshooting Build Report for more information. - Use the following Renviron settings to reproduce errors and warnings. - If 'R CMD check' started to fail recently on the Linux builder(s) over a missing dependency, add the missing dependency to 'Suggests:' in your DESCRIPTION file. See Renviron.bioc for more information. |
| Package: autonomics |
| Version: 1.19.0 |
| Command: /Library/Frameworks/R.framework/Resources/bin/R CMD check --install=check:autonomics.install-out.txt --library=/Library/Frameworks/R.framework/Resources/library --no-vignettes --timings autonomics_1.19.0.tar.gz |
| StartedAt: 2025-11-18 19:26:24 -0500 (Tue, 18 Nov 2025) |
| EndedAt: 2025-11-18 19:49:18 -0500 (Tue, 18 Nov 2025) |
| EllapsedTime: 1373.9 seconds |
| RetCode: 0 |
| Status: OK |
| CheckDir: autonomics.Rcheck |
| Warnings: 0 |
##############################################################################
##############################################################################
###
### Running command:
###
### /Library/Frameworks/R.framework/Resources/bin/R CMD check --install=check:autonomics.install-out.txt --library=/Library/Frameworks/R.framework/Resources/library --no-vignettes --timings autonomics_1.19.0.tar.gz
###
##############################################################################
##############################################################################
* using log directory ‘/Users/biocbuild/bbs-3.23-bioc/meat/autonomics.Rcheck’
* using R Under development (unstable) (2025-10-21 r88958)
* using platform: x86_64-apple-darwin20
* R was compiled by
Apple clang version 14.0.0 (clang-1400.0.29.202)
GNU Fortran (GCC) 14.2.0
* running under: macOS Ventura 13.7.8
* using session charset: UTF-8
* using option ‘--no-vignettes’
* checking for file ‘autonomics/DESCRIPTION’ ... OK
* checking extension type ... Package
* this is package ‘autonomics’ version ‘1.19.0’
* package encoding: UTF-8
* checking package namespace information ... OK
* checking package dependencies ... INFO
Imports includes 32 non-default packages.
Importing from so many packages makes the package vulnerable to any of
them becoming unavailable. Move as many as possible to Suggests and
use conditionally.
* checking if this is a source package ... OK
* checking if there is a namespace ... OK
* checking for hidden files and directories ... NOTE
Found the following hidden files and directories:
.BBSoptions
These were most likely included in error. See section ‘Package
structure’ in the ‘Writing R Extensions’ manual.
* checking for portable file names ... OK
* checking for sufficient/correct file permissions ... OK
* checking whether package ‘autonomics’ can be installed ... OK
* checking installed package size ... OK
* checking package directory ... OK
* checking ‘build’ directory ... OK
* checking DESCRIPTION meta-information ... OK
* checking top-level files ... OK
* checking for left-over files ... OK
* checking index information ... OK
* checking package subdirectories ... OK
* checking code files for non-ASCII characters ... OK
* checking R files for syntax errors ... OK
* checking whether the package can be loaded ... OK
* checking whether the package can be loaded with stated dependencies ... OK
* checking whether the package can be unloaded cleanly ... OK
* checking whether the namespace can be loaded with stated dependencies ... OK
* checking whether the namespace can be unloaded cleanly ... OK
* checking dependencies in R code ... OK
* checking S3 generic/method consistency ... OK
* checking replacement functions ... OK
* checking foreign function calls ... OK
* checking R code for possible problems ... OK
* checking Rd files ... OK
* checking Rd metadata ... OK
* checking Rd cross-references ... NOTE
Non-topic package-anchored link(s) in Rd file 'reexports.Rd':
‘[magrittr:compound]{%<>%}’ ‘[magrittr:pipe]{%>%}’
‘[magrittr:aliases]{extract}’
See section 'Cross-references' in the 'Writing R Extensions' manual.
* checking for missing documentation entries ... OK
* checking for code/documentation mismatches ... OK
* checking Rd \usage sections ... OK
* checking Rd contents ... OK
* checking for unstated dependencies in examples ... OK
* checking files in ‘vignettes’ ... OK
* checking examples ... OK
Examples with CPU (user + system) or elapsed time > 5s
user system elapsed
write_xl 173.503 7.075 230.958
read_diann_proteingroups 114.982 2.152 118.803
awblinmod 46.384 0.285 47.051
read_rnaseq_counts 35.488 3.059 39.218
LINMOD 27.496 0.350 28.129
rm_diann_contaminants 23.162 0.437 23.854
plot_exprs 23.126 0.169 23.458
plot_exprs_per_coef 23.081 0.157 23.394
default_formula 20.286 0.441 20.961
read_somascan 15.923 0.172 16.278
plot_volcano 15.835 0.165 16.154
analyze 15.417 0.220 15.767
plot_summary 15.296 0.140 15.575
fit_survival 14.064 0.168 14.391
read_metabolon 14.004 0.165 14.343
explore-transforms 12.014 0.120 12.243
plot_densities 11.460 0.297 11.864
fcluster 10.955 0.093 11.140
ftype 8.630 0.271 8.976
plot_detections 8.649 0.060 8.767
biplot_covariates 8.260 0.114 8.468
read_fragpipe 7.869 0.173 8.153
plot_xy_density 7.384 0.059 7.505
plot_subgroup_points 6.879 0.095 7.040
subtract_baseline 6.232 0.170 6.500
plot_violins 5.825 0.104 5.982
log2transform 5.677 0.063 5.793
extract_contrast_features 5.581 0.078 5.700
code 5.269 0.075 5.393
reset_fit 5.143 0.107 5.311
* checking for unstated dependencies in ‘tests’ ... OK
* checking tests ...
Running ‘testthat.R’
OK
* checking for unstated dependencies in vignettes ... OK
* checking package vignettes ... OK
* checking running R code from vignettes ... SKIPPED
* checking re-building of vignette outputs ... SKIPPED
* checking PDF version of manual ... OK
* DONE
Status: 2 NOTEs
See
‘/Users/biocbuild/bbs-3.23-bioc/meat/autonomics.Rcheck/00check.log’
for details.
autonomics.Rcheck/00install.out
############################################################################## ############################################################################## ### ### Running command: ### ### /Library/Frameworks/R.framework/Resources/bin/R CMD INSTALL autonomics ### ############################################################################## ############################################################################## * installing to library ‘/Library/Frameworks/R.framework/Versions/4.6-x86_64/Resources/library’ * installing *source* package ‘autonomics’ ... ** this is package ‘autonomics’ version ‘1.19.0’ ** using staged installation ** R ** inst ** byte-compile and prepare package for lazy loading Note: wrong number of arguments to 'seq_along' Note: wrong number of arguments to 'sqrt' ** help *** installing help indices ** building package indices ** installing vignettes ** testing if installed package can be loaded from temporary location ** testing if installed package can be loaded from final location ** testing if installed package keeps a record of temporary installation path * DONE (autonomics)
autonomics.Rcheck/tests/testthat.Rout
R Under development (unstable) (2025-10-21 r88958) -- "Unsuffered Consequences"
Copyright (C) 2025 The R Foundation for Statistical Computing
Platform: x86_64-apple-darwin20
R is free software and comes with ABSOLUTELY NO WARRANTY.
You are welcome to redistribute it under certain conditions.
Type 'license()' or 'licence()' for distribution details.
R is a collaborative project with many contributors.
Type 'contributors()' for more information and
'citation()' on how to cite R or R packages in publications.
Type 'demo()' for some demos, 'help()' for on-line help, or
'help.start()' for an HTML browser interface to help.
Type 'q()' to quit R.
> library(testthat)
> library(autonomics)
Attaching package: 'autonomics'
The following objects are masked from 'package:stats':
biplot, loadings
The following object is masked from 'package:base':
beta
>
> test_check("autonomics")
[ FAIL 0 | WARN 3 | SKIP 0 | PASS 158 ]
[ FAIL 0 | WARN 3 | SKIP 0 | PASS 158 ]
>
> proc.time()
user system elapsed
163.230 16.882 193.247
autonomics.Rcheck/autonomics-Ex.timings
| name | user | system | elapsed | |
| AUTONOMICS_DATASETS | 0.000 | 0.001 | 0.001 | |
| COMPOUNDDISCOVERER_PATTERNS | 0 | 0 | 0 | |
| LINMOD | 27.496 | 0.350 | 28.129 | |
| LINMODENGINES | 0 | 0 | 0 | |
| MAXQUANT_PATTERNS | 0.001 | 0.001 | 0.000 | |
| TAXON_TO_ORGNAME | 0.000 | 0.000 | 0.001 | |
| TESTS | 0 | 0 | 0 | |
| X | 1.447 | 0.052 | 1.512 | |
| abstract_fit | 1.182 | 0.055 | 1.256 | |
| add_adjusted_pvalues | 0.605 | 0.013 | 0.624 | |
| add_assay_means | 0.448 | 0.008 | 0.457 | |
| add_facetvars | 1.650 | 0.066 | 1.891 | |
| add_opentargets_by_uniprot | 0.451 | 0.015 | 0.472 | |
| add_psp | 0.546 | 0.013 | 0.565 | |
| add_smiles | 0.541 | 0.046 | 0.591 | |
| all_non_numeric | 0.690 | 0.003 | 0.697 | |
| analysis | 0.457 | 0.007 | 0.469 | |
| analyze | 15.417 | 0.220 | 15.767 | |
| annotate_maxquant | 1.110 | 0.116 | 1.242 | |
| annotate_uniprot_rest | 0.078 | 0.012 | 2.565 | |
| assert_is_valid_sumexp | 1.578 | 0.055 | 1.652 | |
| awblinmod | 46.384 | 0.285 | 47.051 | |
| biplot | 4.519 | 0.081 | 4.645 | |
| biplot_corrections | 4.305 | 0.087 | 4.444 | |
| biplot_covariates | 8.260 | 0.114 | 8.468 | |
| block2limma | 0.002 | 0.000 | 0.003 | |
| block2lm | 0.004 | 0.000 | 0.004 | |
| block2lme | 0.003 | 0.000 | 0.003 | |
| block2lmer | 0.005 | 0.000 | 0.005 | |
| block_has_two_levels | 0.770 | 0.051 | 0.834 | |
| center | 1.966 | 0.023 | 2.007 | |
| code | 5.269 | 0.075 | 5.393 | |
| collapsed_entrezg_to_symbol | 1.084 | 0.084 | 1.180 | |
| contrast_subgroup_cols | 0.712 | 0.054 | 0.777 | |
| contrastdt | 0.702 | 0.008 | 0.717 | |
| count_in | 0.002 | 0.000 | 0.002 | |
| counts | 0.396 | 0.005 | 0.407 | |
| counts2cpm | 0.403 | 0.004 | 0.412 | |
| counts2tpm | 0.335 | 0.003 | 0.340 | |
| cpm | 0.412 | 0.004 | 0.419 | |
| create_design | 0.854 | 0.054 | 0.919 | |
| default_formula | 20.286 | 0.441 | 20.961 | |
| default_geom | 0.559 | 0.052 | 0.619 | |
| default_sfile | 0.002 | 0.000 | 0.003 | |
| demultiplex | 0.018 | 0.001 | 0.020 | |
| densities | 0.242 | 0.006 | 0.252 | |
| dequantify | 0.002 | 0.000 | 0.003 | |
| dequantify_compounddiscoverer | 0.001 | 0.001 | 0.001 | |
| dot-coxph | 0.452 | 0.057 | 0.518 | |
| dot-merge | 0.027 | 0.002 | 0.029 | |
| dot-read_maxquant_proteingroups | 0.139 | 0.008 | 0.149 | |
| download_data | 0.001 | 0.001 | 0.002 | |
| download_gtf | 0 | 0 | 0 | |
| download_mcclain21 | 0.000 | 0.001 | 0.001 | |
| dt2mat | 0.004 | 0.001 | 0.006 | |
| enrichment | 1.314 | 0.020 | 1.347 | |
| entrezg_to_symbol | 0.179 | 0.006 | 0.187 | |
| explore-transforms | 12.014 | 0.120 | 12.243 | |
| extract_contrast_features | 5.581 | 0.078 | 5.700 | |
| extract_rectangle | 0.169 | 0.050 | 0.222 | |
| factor.vars | 0.223 | 0.002 | 0.228 | |
| factorize | 0.931 | 0.015 | 0.957 | |
| fcluster | 10.955 | 0.093 | 11.140 | |
| fcor | 1.625 | 0.029 | 1.665 | |
| fdata | 0.606 | 0.013 | 0.626 | |
| fdr2p | 0.991 | 0.043 | 1.041 | |
| filter_exprs_replicated_in_some_subgroup | 1.093 | 0.048 | 1.147 | |
| filter_features | 0.595 | 0.057 | 0.662 | |
| filter_medoid | 0.729 | 0.006 | 0.740 | |
| filter_samples | 0.583 | 0.056 | 0.645 | |
| fit_survival | 14.064 | 0.168 | 14.391 | |
| fits | 0.353 | 0.003 | 0.359 | |
| fix_xlgenes | 0.002 | 0.001 | 0.003 | |
| flevels | 0.440 | 0.008 | 0.452 | |
| fnames | 0.535 | 0.009 | 0.550 | |
| formula2str | 0 | 0 | 0 | |
| ftype | 8.630 | 0.271 | 8.976 | |
| fvalues | 0.442 | 0.007 | 0.451 | |
| fvars | 0.402 | 0.006 | 0.411 | |
| genome_to_orgdb | 0 | 0 | 0 | |
| group_by_level | 0.001 | 0.000 | 0.001 | |
| guess_compounddiscoverer_quantity | 0.001 | 0.001 | 0.002 | |
| guess_fitsep | 0.510 | 0.007 | 0.520 | |
| guess_maxquant_quantity | 0.005 | 0.001 | 0.006 | |
| guess_sep | 0.582 | 0.043 | 0.630 | |
| has_multiple_levels | 0.064 | 0.002 | 0.066 | |
| hdlproteins | 0.050 | 0.033 | 0.087 | |
| impute | 3.840 | 0.036 | 3.905 | |
| invert_subgroups | 0.732 | 0.007 | 0.744 | |
| is_character_matrix | 0.165 | 0.001 | 0.168 | |
| is_collapsed_subset | 0.000 | 0.000 | 0.001 | |
| is_compounddiscoverer_output | 0.046 | 0.024 | 0.147 | |
| is_correlation_matrix | 0.001 | 0.000 | 0.001 | |
| is_diann_report | 0.091 | 0.013 | 0.105 | |
| is_fastadt | 0.077 | 0.001 | 0.079 | |
| is_file | 0.000 | 0.001 | 0.001 | |
| is_fraction | 0.001 | 0.001 | 0.003 | |
| is_fragpipe_tsv | 0.054 | 0.008 | 0.062 | |
| is_imputed | 0.788 | 0.009 | 0.803 | |
| is_maxquant_phosphosites | 0.062 | 0.007 | 0.070 | |
| is_maxquant_proteingroups | 0.049 | 0.007 | 0.056 | |
| is_positive_number | 0.003 | 0.001 | 0.003 | |
| is_scalar_subset | 0.375 | 0.006 | 0.383 | |
| is_sig | 1.547 | 0.011 | 1.566 | |
| is_valid_formula | 0.047 | 0.001 | 0.048 | |
| keep_estimable_features | 0.916 | 0.050 | 0.975 | |
| label2index | 0.001 | 0.000 | 0.001 | |
| list2mat | 0.001 | 0.000 | 0.001 | |
| log2counts | 0.347 | 0.003 | 0.354 | |
| log2cpm | 0.369 | 0.003 | 0.376 | |
| log2diffs | 0.400 | 0.006 | 0.410 | |
| log2proteins | 0.358 | 0.006 | 0.366 | |
| log2sites | 0.367 | 0.007 | 0.378 | |
| log2tpm | 0.365 | 0.003 | 0.371 | |
| log2transform | 5.677 | 0.063 | 5.793 | |
| logical2factor | 0.001 | 0.000 | 0.002 | |
| make_alpha_palette | 0.599 | 0.049 | 0.659 | |
| make_colors | 0.008 | 0.001 | 0.010 | |
| make_volcano_dt | 0.971 | 0.013 | 0.990 | |
| map_fvalues | 0.418 | 0.006 | 0.428 | |
| matrix2sumexp | 1.262 | 0.053 | 1.327 | |
| mclust_breaks | 0.619 | 0.100 | 0.727 | |
| merge_sample_file | 0.547 | 0.009 | 0.560 | |
| merge_sdata | 0.715 | 0.062 | 0.790 | |
| message_df | 0.002 | 0.000 | 0.003 | |
| model_coefs | 0.855 | 0.048 | 0.911 | |
| modelvar | 3.668 | 0.061 | 3.755 | |
| object1 | 0.545 | 0.002 | 0.550 | |
| order_on_p | 1.608 | 0.056 | 1.679 | |
| overall_parameters | 0.032 | 0.001 | 0.033 | |
| pca | 3.839 | 0.082 | 3.955 | |
| pg_to_canonical | 0.006 | 0.001 | 0.006 | |
| plot_coef_densities | 1.545 | 0.055 | 1.615 | |
| plot_contrast_venn | 2.645 | 0.058 | 2.726 | |
| plot_contrastogram | 3.243 | 0.115 | 3.392 | |
| plot_data | 1.905 | 0.060 | 1.978 | |
| plot_densities | 11.460 | 0.297 | 11.864 | |
| plot_design | 0.909 | 0.020 | 0.938 | |
| plot_detections | 8.649 | 0.060 | 8.767 | |
| plot_exprs | 23.126 | 0.169 | 23.458 | |
| plot_exprs_per_coef | 23.081 | 0.157 | 23.394 | |
| plot_fit_summary | 2.604 | 0.060 | 2.693 | |
| plot_heatmap | 2.392 | 0.038 | 2.463 | |
| plot_matrix | 0.619 | 0.060 | 0.687 | |
| plot_subgroup_points | 6.879 | 0.095 | 7.040 | |
| plot_summary | 15.296 | 0.140 | 15.575 | |
| plot_venn | 0.016 | 0.002 | 0.017 | |
| plot_venn_heatmap | 0.022 | 0.001 | 0.024 | |
| plot_violins | 5.825 | 0.104 | 5.982 | |
| plot_volcano | 15.835 | 0.165 | 16.154 | |
| plot_xy_density | 7.384 | 0.059 | 7.505 | |
| preprocess_rnaseq_counts | 0.387 | 0.005 | 0.396 | |
| pull_columns | 0.002 | 0.001 | 0.003 | |
| pvalues_estimable | 0.106 | 0.007 | 0.115 | |
| read_affymetrix | 0 | 0 | 0 | |
| read_diann_proteingroups | 114.982 | 2.152 | 118.803 | |
| read_fragpipe | 7.869 | 0.173 | 8.153 | |
| read_maxquant_phosphosites | 1.669 | 0.042 | 1.737 | |
| read_maxquant_proteingroups | 1.364 | 0.025 | 1.404 | |
| read_metabolon | 14.004 | 0.165 | 14.343 | |
| read_msigdt | 0.002 | 0.001 | 0.001 | |
| read_olink | 1.673 | 0.066 | 1.762 | |
| read_rectangles | 0.212 | 0.026 | 0.241 | |
| read_rnaseq_counts | 35.488 | 3.059 | 39.218 | |
| read_salmon | 0.000 | 0.001 | 0.001 | |
| read_somascan | 15.923 | 0.172 | 16.278 | |
| read_uniprotdt | 0.345 | 0.027 | 0.381 | |
| reset_fit | 5.143 | 0.107 | 5.311 | |
| rm_diann_contaminants | 23.162 | 0.437 | 23.854 | |
| rm_missing_in_some_samples | 0.524 | 0.046 | 0.578 | |
| rm_unmatched_samples | 0.738 | 0.025 | 0.772 | |
| sbind | 4.680 | 0.046 | 4.766 | |
| scaledlibsizes | 0.377 | 0.003 | 0.382 | |
| scoremat | 0.990 | 0.060 | 1.067 | |
| slevels | 0.510 | 0.012 | 0.528 | |
| snames | 0.477 | 0.010 | 0.492 | |
| split_extract_fixed | 0.661 | 0.057 | 0.726 | |
| split_samples | 1.460 | 0.065 | 1.543 | |
| stepauc | 0.393 | 0.005 | 0.402 | |
| stri_any_regex | 0.000 | 0.000 | 0.001 | |
| stri_detect_fixed_in_collapsed | 0.418 | 0.010 | 0.433 | |
| subgroup_matrix | 0.730 | 0.052 | 0.791 | |
| subtract_baseline | 6.232 | 0.170 | 6.500 | |
| sumexp_to_longdt | 2.169 | 0.109 | 2.311 | |
| sumexp_to_tsv | 0.657 | 0.014 | 0.680 | |
| sumexplist_to_longdt | 1.751 | 0.034 | 1.833 | |
| summarize_fit | 1.925 | 0.072 | 2.024 | |
| survobj | 0.182 | 0.003 | 0.186 | |
| svalues | 0.577 | 0.013 | 0.597 | |
| svars | 0.471 | 0.011 | 0.488 | |
| systematic_nas | 0.704 | 0.016 | 0.730 | |
| tag_features | 1.362 | 0.048 | 1.434 | |
| tag_hdlproteins | 0.586 | 0.050 | 0.649 | |
| taxon2org | 0.000 | 0.000 | 0.001 | |
| tpm | 0.500 | 0.013 | 0.520 | |
| uncollapse | 0.034 | 0.001 | 0.037 | |
| values | 0.479 | 0.009 | 0.493 | |
| varlevels_dont_clash | 0.027 | 0.001 | 0.029 | |
| venn_detects | 0.754 | 0.019 | 0.783 | |
| weights | 0.391 | 0.005 | 0.401 | |
| write_xl | 173.503 | 7.075 | 230.958 | |
| zero_to_na | 0.002 | 0.009 | 0.022 | |