| Back to Multiple platform build/check report for BioC 3.23: simplified long |
|
This page was generated on 2025-11-19 10:12 -0500 (Wed, 19 Nov 2025).
| Hostname | OS | Arch (*) | R version | Installed pkgs |
|---|---|---|---|---|
| nebbiolo1 | Linux (Ubuntu 24.04.3 LTS) | x86_64 | R Under development (unstable) (2025-10-20 r88955) -- "Unsuffered Consequences" | 4827 |
| lconway | macOS 12.7.6 Monterey | x86_64 | R Under development (unstable) (2025-10-21 r88958) -- "Unsuffered Consequences" | 4600 |
| kjohnson3 | macOS 13.7.7 Ventura | arm64 | R Under development (unstable) (2025-11-04 r88984) -- "Unsuffered Consequences" | 4564 |
| Click on any hostname to see more info about the system (e.g. compilers) (*) as reported by 'uname -p', except on Windows and Mac OS X | ||||
| Package 228/2325 | Hostname | OS / Arch | INSTALL | BUILD | CHECK | BUILD BIN | ||||||||
| blase 1.1.0 (landing page) Andrew McCluskey
| nebbiolo1 | Linux (Ubuntu 24.04.3 LTS) / x86_64 | OK | OK | OK | |||||||||
| lconway | macOS 12.7.6 Monterey / x86_64 | OK | OK | OK | OK | |||||||||
| kjohnson3 | macOS 13.7.7 Ventura / arm64 | OK | ERROR | skipped | skipped | |||||||||
|
To the developers/maintainers of the blase package: - Allow up to 24 hours (and sometimes 48 hours) for your latest push to git@git.bioconductor.org:packages/blase.git to reflect on this report. See Troubleshooting Build Report for more information. - Use the following Renviron settings to reproduce errors and warnings. - If 'R CMD check' started to fail recently on the Linux builder(s) over a missing dependency, add the missing dependency to 'Suggests:' in your DESCRIPTION file. See Renviron.bioc for more information. |
| Package: blase |
| Version: 1.1.0 |
| Command: /home/biocbuild/bbs-3.23-bioc/R/bin/R CMD check --install=check:blase.install-out.txt --library=/home/biocbuild/bbs-3.23-bioc/R/site-library --timings blase_1.1.0.tar.gz |
| StartedAt: 2025-11-18 22:23:03 -0500 (Tue, 18 Nov 2025) |
| EndedAt: 2025-11-18 22:46:11 -0500 (Tue, 18 Nov 2025) |
| EllapsedTime: 1388.7 seconds |
| RetCode: 0 |
| Status: OK |
| CheckDir: blase.Rcheck |
| Warnings: 0 |
##############################################################################
##############################################################################
###
### Running command:
###
### /home/biocbuild/bbs-3.23-bioc/R/bin/R CMD check --install=check:blase.install-out.txt --library=/home/biocbuild/bbs-3.23-bioc/R/site-library --timings blase_1.1.0.tar.gz
###
##############################################################################
##############################################################################
* using log directory ‘/home/biocbuild/bbs-3.23-bioc/meat/blase.Rcheck’
* using R Under development (unstable) (2025-10-20 r88955)
* using platform: x86_64-pc-linux-gnu
* R was compiled by
gcc (Ubuntu 13.3.0-6ubuntu2~24.04) 13.3.0
GNU Fortran (Ubuntu 13.3.0-6ubuntu2~24.04) 13.3.0
* running under: Ubuntu 24.04.3 LTS
* using session charset: UTF-8
* checking for file ‘blase/DESCRIPTION’ ... OK
* this is package ‘blase’ version ‘1.1.0’
* package encoding: UTF-8
* checking package namespace information ... OK
* checking package dependencies ... OK
* checking if this is a source package ... OK
* checking if there is a namespace ... OK
* checking for hidden files and directories ... OK
* checking for portable file names ... OK
* checking for sufficient/correct file permissions ... OK
* checking whether package ‘blase’ can be installed ... OK
* checking installed package size ... INFO
installed size is 5.2Mb
sub-directories of 1Mb or more:
data 4.6Mb
* checking package directory ... OK
* checking ‘build’ directory ... OK
* checking DESCRIPTION meta-information ... OK
* checking top-level files ... OK
* checking for left-over files ... OK
* checking index information ... OK
* checking package subdirectories ... OK
* checking code files for non-ASCII characters ... OK
* checking R files for syntax errors ... OK
* checking whether the package can be loaded ... OK
* checking whether the package can be loaded with stated dependencies ... OK
* checking whether the package can be unloaded cleanly ... OK
* checking whether the namespace can be loaded with stated dependencies ... OK
* checking whether the namespace can be unloaded cleanly ... OK
* checking loading without being on the library search path ... OK
* checking dependencies in R code ... OK
* checking S3 generic/method consistency ... OK
* checking replacement functions ... OK
* checking foreign function calls ... OK
* checking R code for possible problems ... OK
* checking Rd files ... OK
* checking Rd metadata ... OK
* checking Rd cross-references ... NOTE
Non-topic package-anchored link(s) in Rd file 'plot_mapping_result.Rd':
‘[scater:plot_reddim]{scater::plotUMAP()}’
See section 'Cross-references' in the 'Writing R Extensions' manual.
* checking for missing documentation entries ... OK
* checking for code/documentation mismatches ... OK
* checking Rd \usage sections ... OK
* checking Rd contents ... OK
* checking for unstated dependencies in examples ... OK
* checking contents of ‘data’ directory ... OK
* checking data for non-ASCII characters ... OK
* checking data for ASCII and uncompressed saves ... OK
* checking files in ‘vignettes’ ... OK
* checking examples ... OK
Examples with CPU (user + system) or elapsed time > 5s
user system elapsed
plot_gene_peakedness 18.240 0.204 18.445
calculate_gene_peakedness 17.873 0.240 18.116
gene_peakedness_spread_selection 17.137 0.168 17.305
smooth_gene 17.070 0.099 17.170
evaluate_parameters 10.514 0.111 10.626
plot_mapping_result 5.713 0.068 5.781
* checking for unstated dependencies in ‘tests’ ... OK
* checking tests ...
Running ‘testthat.R’
OK
* checking for unstated dependencies in vignettes ... OK
* checking package vignettes ... OK
* checking re-building of vignette outputs ... OK
* checking PDF version of manual ... OK
* DONE
Status: 1 NOTE
See
‘/home/biocbuild/bbs-3.23-bioc/meat/blase.Rcheck/00check.log’
for details.
blase.Rcheck/00install.out
############################################################################## ############################################################################## ### ### Running command: ### ### /home/biocbuild/bbs-3.23-bioc/R/bin/R CMD INSTALL blase ### ############################################################################## ############################################################################## * installing to library ‘/home/biocbuild/bbs-3.23-bioc/R/site-library’ * installing *source* package ‘blase’ ... ** this is package ‘blase’ version ‘1.1.0’ ** using staged installation ** R ** data ** inst ** byte-compile and prepare package for lazy loading ** help *** installing help indices *** copying figures ** building package indices ** installing vignettes ** testing if installed package can be loaded from temporary location ** testing if installed package can be loaded from final location ** testing if installed package keeps a record of temporary installation path * DONE (blase)
blase.Rcheck/tests/testthat.Rout
R Under development (unstable) (2025-10-20 r88955) -- "Unsuffered Consequences"
Copyright (C) 2025 The R Foundation for Statistical Computing
Platform: x86_64-pc-linux-gnu
R is free software and comes with ABSOLUTELY NO WARRANTY.
You are welcome to redistribute it under certain conditions.
Type 'license()' or 'licence()' for distribution details.
R is a collaborative project with many contributors.
Type 'contributors()' for more information and
'citation()' on how to cite R or R packages in publications.
Type 'demo()' for some demos, 'help()' for on-line help, or
'help.start()' for an HTML browser interface to help.
Type 'q()' to quit R.
> # This file is part of the standard setup for testthat.
> # It is recommended that you do not modify it.
> #
> # Where should you do additional test configuration?
> # Learn more about the roles of various files in:
> # * https://r-pkgs.org/testing-design.html#sec-tests-files-overview
> # * https://testthat.r-lib.org/articles/special-files.html
>
> library(testthat)
> library(blase)
>
> test_check("blase")
[ FAIL 0 | WARN 1 | SKIP 0 | PASS 124 ]
[ FAIL 0 | WARN 1 | SKIP 0 | PASS 124 ]
>
> proc.time()
user system elapsed
61.790 1.664 63.453
blase.Rcheck/blase-Ex.timings
| name | user | system | elapsed | |
| BlaseData-class | 1.148 | 0.048 | 1.195 | |
| MappingResult | 2.343 | 0.097 | 2.440 | |
| annotate_sce | 1.377 | 0.001 | 1.378 | |
| as.BlaseData | 0.169 | 0.009 | 0.178 | |
| assign_pseudotime_bins | 2.262 | 0.018 | 2.280 | |
| bins-getter | 0.177 | 0.001 | 0.178 | |
| calculate_gene_peakedness | 17.873 | 0.240 | 18.116 | |
| evaluate_parameters | 10.514 | 0.111 | 10.626 | |
| evaluate_top_n_genes | 2.741 | 0.024 | 2.766 | |
| find_best_params | 4.559 | 0.114 | 4.672 | |
| gene_peakedness_spread_selection | 17.137 | 0.168 | 17.305 | |
| genes-getter | 0.172 | 0.002 | 0.174 | |
| genes-setter | 0.168 | 0.000 | 0.168 | |
| get_bins_as_bulk | 1.266 | 0.004 | 1.271 | |
| get_top_n_genes | 0.001 | 0.000 | 0.001 | |
| map_all_best_bins | 2.095 | 0.033 | 2.128 | |
| map_best_bin | 2.080 | 0.001 | 2.081 | |
| mapping-result-best-bin-getter | 2.076 | 0.005 | 2.080 | |
| mapping-result-best-correlation-getter | 2.083 | 0.025 | 2.108 | |
| mapping-result-bootstrap-iterations-getter | 2.097 | 0.003 | 2.100 | |
| mapping-result-bulk-name-getter | 2.142 | 0.022 | 2.164 | |
| mapping-result-confident-mapping-getter | 2.116 | 0.021 | 2.138 | |
| mapping-result-history-getter | 2.144 | 0.002 | 2.147 | |
| mapping-result-top-2-distance-getter | 2.135 | 0.048 | 2.183 | |
| plot_bin_population | 2.139 | 0.011 | 2.150 | |
| plot_find_best_params_results | 3.767 | 0.023 | 3.791 | |
| plot_gene_peakedness | 18.240 | 0.204 | 18.445 | |
| plot_mapping_result | 5.713 | 0.068 | 5.781 | |
| plot_mapping_result_corr | 2.042 | 0.003 | 2.045 | |
| plot_mapping_result_heatmap | 2.047 | 0.046 | 2.093 | |
| pseudobulk-bins-getter | 0.174 | 0.001 | 0.175 | |
| show-MappingResult-method | 2.049 | 0.005 | 2.054 | |
| show_blase_object | 0.174 | 0.001 | 0.175 | |
| smooth_gene | 17.070 | 0.099 | 17.170 | |