Back to Multiple platform build/check report for BioC 3.23:   simplified   long
ABCDE[F]GHIJKLMNOPQRSTUVWXYZ

This page was generated on 2025-11-19 10:13 -0500 (Wed, 19 Nov 2025).

HostnameOSArch (*)R versionInstalled pkgs
nebbiolo1Linux (Ubuntu 24.04.3 LTS)x86_64R Under development (unstable) (2025-10-20 r88955) -- "Unsuffered Consequences" 4827
lconwaymacOS 12.7.6 Montereyx86_64R Under development (unstable) (2025-10-21 r88958) -- "Unsuffered Consequences" 4600
kjohnson3macOS 13.7.7 Venturaarm64R Under development (unstable) (2025-11-04 r88984) -- "Unsuffered Consequences" 4564
Click on any hostname to see more info about the system (e.g. compilers)      (*) as reported by 'uname -p', except on Windows and Mac OS X

Package 714/2325HostnameOS / ArchINSTALLBUILDCHECKBUILD BIN
fCI 1.41.0  (landing page)
Shaojun Tang
Snapshot Date: 2025-11-18 13:40 -0500 (Tue, 18 Nov 2025)
git_url: https://git.bioconductor.org/packages/fCI
git_branch: devel
git_last_commit: 489f36c
git_last_commit_date: 2025-10-29 10:26:31 -0500 (Wed, 29 Oct 2025)
nebbiolo1Linux (Ubuntu 24.04.3 LTS) / x86_64  OK    OK    OK  UNNEEDED, same version is already published
lconwaymacOS 12.7.6 Monterey / x86_64  OK    OK    OK    OK  UNNEEDED, same version is already published
kjohnson3macOS 13.7.7 Ventura / arm64  OK    OK    OK    OK  UNNEEDED, same version is already published


CHECK results for fCI on lconway

To the developers/maintainers of the fCI package:
- Allow up to 24 hours (and sometimes 48 hours) for your latest push to git@git.bioconductor.org:packages/fCI.git to reflect on this report. See Troubleshooting Build Report for more information.
- Use the following Renviron settings to reproduce errors and warnings.
- If 'R CMD check' started to fail recently on the Linux builder(s) over a missing dependency, add the missing dependency to 'Suggests:' in your DESCRIPTION file. See Renviron.bioc for more information.

raw results


Summary

Package: fCI
Version: 1.41.0
Command: /Library/Frameworks/R.framework/Resources/bin/R CMD check --install=check:fCI.install-out.txt --library=/Library/Frameworks/R.framework/Resources/library --no-vignettes --timings fCI_1.41.0.tar.gz
StartedAt: 2025-11-18 21:02:05 -0500 (Tue, 18 Nov 2025)
EndedAt: 2025-11-18 21:03:40 -0500 (Tue, 18 Nov 2025)
EllapsedTime: 94.6 seconds
RetCode: 0
Status:   OK  
CheckDir: fCI.Rcheck
Warnings: 0

Command output

##############################################################################
##############################################################################
###
### Running command:
###
###   /Library/Frameworks/R.framework/Resources/bin/R CMD check --install=check:fCI.install-out.txt --library=/Library/Frameworks/R.framework/Resources/library --no-vignettes --timings fCI_1.41.0.tar.gz
###
##############################################################################
##############################################################################


* using log directory ‘/Users/biocbuild/bbs-3.23-bioc/meat/fCI.Rcheck’
* using R Under development (unstable) (2025-10-21 r88958)
* using platform: x86_64-apple-darwin20
* R was compiled by
    Apple clang version 14.0.0 (clang-1400.0.29.202)
    GNU Fortran (GCC) 14.2.0
* running under: macOS Ventura 13.7.8
* using session charset: UTF-8
* using option ‘--no-vignettes’
* checking for file ‘fCI/DESCRIPTION’ ... OK
* checking extension type ... Package
* this is package ‘fCI’ version ‘1.41.0’
* checking package namespace information ... NOTE
Found export directives that require package ‘methods’:
  ‘exportClasses’ ‘exportMethods’
Remove all such namespace directives (if obsolete) or ensure that the
DESCRIPTION Depends or Imports field contains ‘methods’.
* checking package dependencies ... INFO
Depends: includes the non-default packages:
  'FNN', 'psych', 'gtools', 'zoo', 'rgl', 'grid', 'VennDiagram'
Adding so many packages to the search path is excessive and importing
selectively is preferable.
* checking if this is a source package ... OK
* checking if there is a namespace ... OK
* checking for hidden files and directories ... OK
* checking for portable file names ... OK
* checking for sufficient/correct file permissions ... OK
* checking whether package ‘fCI’ can be installed ... OK
* checking installed package size ... OK
* checking package directory ... OK
* checking ‘build’ directory ... OK
* checking DESCRIPTION meta-information ... OK
* checking top-level files ... OK
* checking for left-over files ... OK
* checking index information ... OK
* checking package subdirectories ... OK
* checking code files for non-ASCII characters ... OK
* checking R files for syntax errors ... OK
* checking whether the package can be loaded ... OK
* checking whether the package can be loaded with stated dependencies ... OK
* checking whether the package can be unloaded cleanly ... OK
* checking whether the namespace can be loaded with stated dependencies ... OK
* checking whether the namespace can be unloaded cleanly ... OK
* checking dependencies in R code ... NOTE
package 'methods' is used but not declared
* checking S3 generic/method consistency ... OK
* checking replacement functions ... OK
* checking foreign function calls ... OK
* checking R code for possible problems ... NOTE
fCI.call.by.index: no visible global function definition for ‘new’
fCI.call.by.index: no visible global function definition for
  ‘initialize’
find.fci.targets,NPCI: no visible global function definition for
  ‘initialize’
populate,NPCI: no visible global function definition for ‘.hasSlot’
populate,NPCI: no visible global function definition for ‘slot’
Undefined global functions or variables:
  .hasSlot initialize new slot
Consider adding
  importFrom("methods", ".hasSlot", "initialize", "new", "slot")
to your NAMESPACE file (and ensure that your DESCRIPTION Imports field
contains 'methods').
* checking Rd files ... OK
* checking Rd metadata ... OK
* checking Rd cross-references ... OK
* checking for missing documentation entries ... OK
* checking for code/documentation mismatches ... OK
* checking Rd \usage sections ... OK
* checking Rd contents ... NOTE
Argument items with no description in Rd file 'compute.Rd':
  ‘.Object’
Argument items with no description in Rd file 'figures.Rd':
  ‘.Object’
Argument items with no description in Rd file 'find.mid.point.Rd':
  ‘Y’
Argument items with no description in Rd file 'get.npci.data.Rd':
  ‘sample.data.normalized’ ‘wt.index’ ‘df.index’
Argument items with no description in Rd file 'get.npci.distance.matrix.Rd':
  ‘npci.data’ ‘null.data.start’ ‘diff.data.start’ ‘choice’
  ‘rank.index.to.be.removed’ ‘expr.by.fold’ ‘ctr.indexes’ ‘trt.indexes’
  ‘use.intersect’ ‘symmetric.fold’ ‘fold.cutoff.list’
Argument items with no description in Rd file 'get.outline.index.Rd':
  ‘values’
Argument items with no description in Rd file 'populate.Rd':
  ‘.Object’
* checking for unstated dependencies in examples ... OK
* checking contents of ‘data’ directory ... OK
* checking data for non-ASCII characters ... OK
* checking data for ASCII and uncompressed saves ... OK
* checking installed files from ‘inst/doc’ ... OK
* checking files in ‘vignettes’ ... OK
* checking examples ... OK
Examples with CPU (user + system) or elapsed time > 5s
                   user system elapsed
find.fci.targets  6.108  0.177  10.382
fCI.call.by.index 2.769  1.787   7.980
* checking for unstated dependencies in vignettes ... OK
* checking package vignettes ... OK
* checking running R code from vignettes ... SKIPPED
* checking re-building of vignette outputs ... SKIPPED
* checking PDF version of manual ... OK
* DONE

Status: 4 NOTEs
See
  ‘/Users/biocbuild/bbs-3.23-bioc/meat/fCI.Rcheck/00check.log’
for details.


Installation output

fCI.Rcheck/00install.out

##############################################################################
##############################################################################
###
### Running command:
###
###   /Library/Frameworks/R.framework/Resources/bin/R CMD INSTALL fCI
###
##############################################################################
##############################################################################


* installing to library ‘/Library/Frameworks/R.framework/Versions/4.6-x86_64/Resources/library’
* installing *source* package ‘fCI’ ...
** this is package ‘fCI’ version ‘1.41.0’
** using staged installation
** R
** data
** inst
** byte-compile and prepare package for lazy loading
in method for ‘initialize’ with signature ‘"NPCI"’: no definition for class “NPCI”
in method for ‘normalization’ with signature ‘"NPCI"’: no definition for class “NPCI”
in method for ‘setfCI’ with signature ‘"NPCI"’: no definition for class “NPCI”
in method for ‘populate’ with signature ‘"NPCI"’: no definition for class “NPCI”
in method for ‘find.fci.targets’ with signature ‘"NPCI"’: no definition for class “NPCI”
in method for ‘show.targets’ with signature ‘"NPCI"’: no definition for class “NPCI”
in method for ‘call.npci’ with signature ‘"NPCI"’: no definition for class “NPCI”
in method for ‘compute’ with signature ‘"NPCI"’: no definition for class “NPCI”
** help
*** installing help indices
** building package indices
** installing vignettes
** testing if installed package can be loaded from temporary location
** testing if installed package can be loaded from final location
** testing if installed package keeps a record of temporary installation path
* DONE (fCI)

Tests output


Example timings

fCI.Rcheck/fCI-Ex.timings

nameusersystemelapsed
NPCI-class0.0010.0010.003
call.npci0.0000.0000.001
compute0.0000.0000.001
deg.pairwise.fold.change0.0000.0010.001
deg.up.down.info0.0000.0000.001
deseq.median.ratio.normalization0.0070.0010.008
divergence.multivariate.distributions0.0060.0010.023
fCI-class0.0010.0010.002
fCI.call.by.index2.7691.7877.980
figures0.0000.0000.001
find.fci.targets 6.108 0.17710.382
find.mid.point0.2870.0140.733
get.fold.large.step000
get.npci.data0.0010.0010.002
get.npci.distance.matrix0.0190.0010.041
get.outline.index0.0040.0000.004
get.protein.fold.step0.0010.0010.001
get.rank.combinations0.0010.0000.001
get.rna.fold.step0.0010.0000.000
intersect.of.lists000
is.installed0.0320.0010.086
normalization000
npci.gene.by.pvalues0.0020.0000.002
npci.index.reconsidered0.1030.0030.112
npci.index.to.be.removed0.0000.0010.000
npci.venn.diagram0.0960.0140.351
pairwise.change.occupancy0.0010.0000.001
populate0.0010.0000.000
report.target.summary0.0010.0010.000
setfCI0.0010.0000.001
show.targets000
summarize0.0240.0150.056
total.library.size.normalization0.0040.0030.024
trim.size.normalization0.0050.0030.015
two.sample.log.ratio000
two.sample.permutation.test0.0420.0000.070
venndiagram0.0000.0000.001