| Back to Multiple platform build/check report for BioC 3.23: simplified long |
|
This page was generated on 2025-11-19 10:12 -0500 (Wed, 19 Nov 2025).
| Hostname | OS | Arch (*) | R version | Installed pkgs |
|---|---|---|---|---|
| nebbiolo1 | Linux (Ubuntu 24.04.3 LTS) | x86_64 | R Under development (unstable) (2025-10-20 r88955) -- "Unsuffered Consequences" | 4827 |
| lconway | macOS 12.7.6 Monterey | x86_64 | R Under development (unstable) (2025-10-21 r88958) -- "Unsuffered Consequences" | 4600 |
| kjohnson3 | macOS 13.7.7 Ventura | arm64 | R Under development (unstable) (2025-11-04 r88984) -- "Unsuffered Consequences" | 4564 |
| Click on any hostname to see more info about the system (e.g. compilers) (*) as reported by 'uname -p', except on Windows and Mac OS X | ||||
| Package 748/2325 | Hostname | OS / Arch | INSTALL | BUILD | CHECK | BUILD BIN | ||||||||
| flowGraph 1.19.0 (landing page) Alice Yue
| nebbiolo1 | Linux (Ubuntu 24.04.3 LTS) / x86_64 | OK | OK | OK | |||||||||
| lconway | macOS 12.7.6 Monterey / x86_64 | OK | OK | OK | OK | |||||||||
| kjohnson3 | macOS 13.7.7 Ventura / arm64 | OK | OK | OK | OK | |||||||||
|
To the developers/maintainers of the flowGraph package: - Allow up to 24 hours (and sometimes 48 hours) for your latest push to git@git.bioconductor.org:packages/flowGraph.git to reflect on this report. See Troubleshooting Build Report for more information. - Use the following Renviron settings to reproduce errors and warnings. - If 'R CMD check' started to fail recently on the Linux builder(s) over a missing dependency, add the missing dependency to 'Suggests:' in your DESCRIPTION file. See Renviron.bioc for more information. |
| Package: flowGraph |
| Version: 1.19.0 |
| Command: /home/biocbuild/bbs-3.23-bioc/R/bin/R CMD check --install=check:flowGraph.install-out.txt --library=/home/biocbuild/bbs-3.23-bioc/R/site-library --timings flowGraph_1.19.0.tar.gz |
| StartedAt: 2025-11-19 00:27:10 -0500 (Wed, 19 Nov 2025) |
| EndedAt: 2025-11-19 00:31:41 -0500 (Wed, 19 Nov 2025) |
| EllapsedTime: 270.5 seconds |
| RetCode: 0 |
| Status: OK |
| CheckDir: flowGraph.Rcheck |
| Warnings: 0 |
##############################################################################
##############################################################################
###
### Running command:
###
### /home/biocbuild/bbs-3.23-bioc/R/bin/R CMD check --install=check:flowGraph.install-out.txt --library=/home/biocbuild/bbs-3.23-bioc/R/site-library --timings flowGraph_1.19.0.tar.gz
###
##############################################################################
##############################################################################
* using log directory ‘/home/biocbuild/bbs-3.23-bioc/meat/flowGraph.Rcheck’
* using R Under development (unstable) (2025-10-20 r88955)
* using platform: x86_64-pc-linux-gnu
* R was compiled by
gcc (Ubuntu 13.3.0-6ubuntu2~24.04) 13.3.0
GNU Fortran (Ubuntu 13.3.0-6ubuntu2~24.04) 13.3.0
* running under: Ubuntu 24.04.3 LTS
* using session charset: UTF-8
* checking for file ‘flowGraph/DESCRIPTION’ ... OK
* checking extension type ... Package
* this is package ‘flowGraph’ version ‘1.19.0’
* checking package namespace information ... OK
* checking package dependencies ... OK
* checking if this is a source package ... OK
* checking if there is a namespace ... OK
* checking for hidden files and directories ... OK
* checking for portable file names ... OK
* checking for sufficient/correct file permissions ... OK
* checking whether package ‘flowGraph’ can be installed ... OK
* checking installed package size ... OK
* checking package directory ... OK
* checking ‘build’ directory ... OK
* checking DESCRIPTION meta-information ... OK
* checking top-level files ... OK
* checking for left-over files ... OK
* checking index information ... OK
* checking package subdirectories ... OK
* checking code files for non-ASCII characters ... OK
* checking R files for syntax errors ... OK
* checking whether the package can be loaded ... OK
* checking whether the package can be loaded with stated dependencies ... OK
* checking whether the package can be unloaded cleanly ... OK
* checking whether the namespace can be loaded with stated dependencies ... OK
* checking whether the namespace can be unloaded cleanly ... OK
* checking loading without being on the library search path ... OK
* checking dependencies in R code ... OK
* checking S3 generic/method consistency ... OK
* checking replacement functions ... OK
* checking foreign function calls ... OK
* checking R code for possible problems ... NOTE
get_child: no visible binding for global variable ‘no_cores’
get_paren: no visible binding for global variable ‘no_cores’
ms_psig: no visible binding for global variable ‘meta’
Undefined global functions or variables:
meta no_cores
* checking Rd files ... NOTE
checkRd: (-1) fg_get_graph.Rd:13: Lost braces
13 | A list containing two data frames (\code{v} and ]code{e})
| ^
checkRd: (-1) ggdf.Rd:22: Lost braces
22 | code{ggdf} adds to the data frames \code{v} and \code{e} in slot
| ^
* checking Rd metadata ... OK
* checking Rd cross-references ... OK
* checking for missing documentation entries ... OK
* checking for code/documentation mismatches ... OK
* checking Rd \usage sections ... OK
* checking Rd contents ... OK
* checking for unstated dependencies in examples ... OK
* checking contents of ‘data’ directory ... OK
* checking data for non-ASCII characters ... OK
* checking data for ASCII and uncompressed saves ... OK
* checking files in ‘vignettes’ ... OK
* checking examples ... OK
Examples with CPU (user + system) or elapsed time > 5s
user system elapsed
fg_load 46.178 0.915 47.045
fg_save_plots 46.189 0.779 46.973
fg_save 46.106 0.810 46.919
* checking for unstated dependencies in ‘tests’ ... OK
* checking tests ...
Running ‘testthat.R’
OK
* checking for unstated dependencies in vignettes ... OK
* checking package vignettes ... OK
* checking re-building of vignette outputs ... OK
* checking PDF version of manual ... OK
* DONE
Status: 2 NOTEs
See
‘/home/biocbuild/bbs-3.23-bioc/meat/flowGraph.Rcheck/00check.log’
for details.
flowGraph.Rcheck/00install.out
############################################################################## ############################################################################## ### ### Running command: ### ### /home/biocbuild/bbs-3.23-bioc/R/bin/R CMD INSTALL flowGraph ### ############################################################################## ############################################################################## * installing to library ‘/home/biocbuild/bbs-3.23-bioc/R/site-library’ * installing *source* package ‘flowGraph’ ... ** this is package ‘flowGraph’ version ‘1.19.0’ ** using staged installation ** R ** data ** inst ** byte-compile and prepare package for lazy loading ** help Loading required namespace: flowGraph *** installing help indices ** building package indices ** installing vignettes ** testing if installed package can be loaded from temporary location ** testing if installed package can be loaded from final location ** testing if installed package keeps a record of temporary installation path * DONE (flowGraph)
flowGraph.Rcheck/tests/testthat.Rout
R Under development (unstable) (2025-10-20 r88955) -- "Unsuffered Consequences"
Copyright (C) 2025 The R Foundation for Statistical Computing
Platform: x86_64-pc-linux-gnu
R is free software and comes with ABSOLUTELY NO WARRANTY.
You are welcome to redistribute it under certain conditions.
Type 'license()' or 'licence()' for distribution details.
R is a collaborative project with many contributors.
Type 'contributors()' for more information and
'citation()' on how to cite R or R packages in publications.
Type 'demo()' for some demos, 'help()' for on-line help, or
'help.start()' for an HTML browser interface to help.
Type 'q()' to quit R.
> library(testthat)
> library(flowGraph)
>
> test_check("flowGraph")
[ FAIL 0 | WARN 1 | SKIP 0 | PASS 34 ]
[ FAIL 0 | WARN 1 | SKIP 0 | PASS 34 ]
>
> proc.time()
user system elapsed
5.529 0.278 5.794
flowGraph.Rcheck/flowGraph-Ex.timings
| name | user | system | elapsed | |
| cell_type_layers | 0.004 | 0.000 | 0.004 | |
| fg_add_feature | 0.328 | 0.006 | 0.333 | |
| fg_add_summary | 0.868 | 0.007 | 0.876 | |
| fg_clean_phen | 0 | 0 | 0 | |
| fg_clear_features | 0.742 | 0.003 | 0.745 | |
| fg_clear_summary | 0.328 | 0.000 | 0.328 | |
| fg_extract_phenotypes | 0.263 | 0.000 | 0.263 | |
| fg_extract_raw | 0.774 | 0.032 | 0.805 | |
| fg_extract_samples | 0.256 | 0.004 | 0.260 | |
| fg_feat_cumsum | 0.269 | 0.002 | 0.270 | |
| fg_feat_edge_specenr | 0.382 | 0.001 | 0.382 | |
| fg_feat_mean_class | 0.256 | 0.001 | 0.257 | |
| fg_feat_node_prop | 0.270 | 0.002 | 0.273 | |
| fg_feat_node_specenr | 0.394 | 0.029 | 0.423 | |
| fg_feat_prop_edge | 0.261 | 0.008 | 0.269 | |
| fg_get_feature | 0.248 | 0.001 | 0.248 | |
| fg_get_feature_desc | 0.782 | 0.003 | 0.786 | |
| fg_get_feature_means | 1.183 | 0.001 | 1.184 | |
| fg_get_graph | 0.268 | 0.000 | 0.268 | |
| fg_get_markers | 0.266 | 0.001 | 0.268 | |
| fg_get_meta | 0.475 | 0.059 | 0.535 | |
| fg_get_summary | 1.457 | 0.060 | 1.517 | |
| fg_get_summary_desc | 0.684 | 0.002 | 0.687 | |
| fg_get_summary_index | 1.452 | 0.004 | 1.456 | |
| fg_get_summary_tables | 1.042 | 0.036 | 1.079 | |
| fg_gsub_ids | 0.237 | 0.012 | 0.250 | |
| fg_gsub_markers | 0.272 | 0.004 | 0.276 | |
| fg_load | 46.178 | 0.915 | 47.045 | |
| fg_merge | 0.281 | 0.001 | 0.282 | |
| fg_merge_samples | 0.278 | 0.002 | 0.280 | |
| fg_plot | 0.400 | 0.001 | 0.401 | |
| fg_plot_box | 0.725 | 0.005 | 0.730 | |
| fg_plot_pVSdiff | 0.385 | 0.002 | 0.387 | |
| fg_plot_qq | 1.221 | 0.008 | 1.233 | |
| fg_replace_meta | 0.250 | 0.000 | 0.251 | |
| fg_rm_feature | 0.825 | 0.023 | 0.849 | |
| fg_rm_summary | 0.342 | 0.000 | 0.342 | |
| fg_save | 46.106 | 0.810 | 46.919 | |
| fg_save_plots | 46.189 | 0.779 | 46.973 | |
| fg_set_layout | 0.281 | 0.000 | 0.281 | |
| fg_summary | 0.347 | 0.002 | 0.350 | |
| flowGraph-class | 0.000 | 0.001 | 0.001 | |
| flowGraph | 1.163 | 0.006 | 1.169 | |
| flowGraphSubset | 0.001 | 0.000 | 0.000 | |
| flowGraphSubset_summary_adjust | 0 | 0 | 0 | |
| flowGraphSubset_summary_pars | 0.000 | 0.001 | 0.000 | |
| get_phen_list | 0.022 | 0.001 | 0.024 | |
| get_phen_meta | 0.002 | 0.000 | 0.002 | |
| ggdf | 0.259 | 0.003 | 0.262 | |
| loop_ind_f | 0.001 | 0.000 | 0.000 | |
| meandiff | 0.001 | 0.000 | 0.001 | |
| plot_gr | 1.749 | 0.011 | 1.766 | |
| set_layout_graph | 0.259 | 0.029 | 0.289 | |
| summary_table | 0.002 | 0.002 | 0.004 | |
| time_output | 0.000 | 0.000 | 0.001 | |
| tstr | 0.000 | 0.001 | 0.000 | |