Back to Multiple platform build/check report for BioC 3.23:   simplified   long
ABCDEF[G]HIJKLMNOPQRSTUVWXYZ

This page was generated on 2025-11-19 10:12 -0500 (Wed, 19 Nov 2025).

HostnameOSArch (*)R versionInstalled pkgs
nebbiolo1Linux (Ubuntu 24.04.3 LTS)x86_64R Under development (unstable) (2025-10-20 r88955) -- "Unsuffered Consequences" 4827
lconwaymacOS 12.7.6 Montereyx86_64R Under development (unstable) (2025-10-21 r88958) -- "Unsuffered Consequences" 4600
kjohnson3macOS 13.7.7 Venturaarm64R Under development (unstable) (2025-11-04 r88984) -- "Unsuffered Consequences" 4564
Click on any hostname to see more info about the system (e.g. compilers)      (*) as reported by 'uname -p', except on Windows and Mac OS X

Package 796/2325HostnameOS / ArchINSTALLBUILDCHECKBUILD BIN
gDRutils 1.9.2  (landing page)
Arkadiusz Gladki
Snapshot Date: 2025-11-18 13:40 -0500 (Tue, 18 Nov 2025)
git_url: https://git.bioconductor.org/packages/gDRutils
git_branch: devel
git_last_commit: 5ae0322
git_last_commit_date: 2025-11-17 04:03:12 -0500 (Mon, 17 Nov 2025)
nebbiolo1Linux (Ubuntu 24.04.3 LTS) / x86_64  OK    OK    OK  UNNEEDED, same version is already published
lconwaymacOS 12.7.6 Monterey / x86_64  OK    OK    OK    OK  YES
kjohnson3macOS 13.7.7 Ventura / arm64  OK    OK    OK    OK  UNNEEDED, same version is already published


CHECK results for gDRutils on nebbiolo1

To the developers/maintainers of the gDRutils package:
- Allow up to 24 hours (and sometimes 48 hours) for your latest push to git@git.bioconductor.org:packages/gDRutils.git to reflect on this report. See Troubleshooting Build Report for more information.
- Use the following Renviron settings to reproduce errors and warnings.
- If 'R CMD check' started to fail recently on the Linux builder(s) over a missing dependency, add the missing dependency to 'Suggests:' in your DESCRIPTION file. See Renviron.bioc for more information.

raw results


Summary

Package: gDRutils
Version: 1.9.2
Command: /home/biocbuild/bbs-3.23-bioc/R/bin/R CMD check --install=check:gDRutils.install-out.txt --library=/home/biocbuild/bbs-3.23-bioc/R/site-library --timings gDRutils_1.9.2.tar.gz
StartedAt: 2025-11-19 00:34:08 -0500 (Wed, 19 Nov 2025)
EndedAt: 2025-11-19 00:38:48 -0500 (Wed, 19 Nov 2025)
EllapsedTime: 279.4 seconds
RetCode: 0
Status:   OK  
CheckDir: gDRutils.Rcheck
Warnings: 0

Command output

##############################################################################
##############################################################################
###
### Running command:
###
###   /home/biocbuild/bbs-3.23-bioc/R/bin/R CMD check --install=check:gDRutils.install-out.txt --library=/home/biocbuild/bbs-3.23-bioc/R/site-library --timings gDRutils_1.9.2.tar.gz
###
##############################################################################
##############################################################################


* using log directory ‘/home/biocbuild/bbs-3.23-bioc/meat/gDRutils.Rcheck’
* using R Under development (unstable) (2025-10-20 r88955)
* using platform: x86_64-pc-linux-gnu
* R was compiled by
    gcc (Ubuntu 13.3.0-6ubuntu2~24.04) 13.3.0
    GNU Fortran (Ubuntu 13.3.0-6ubuntu2~24.04) 13.3.0
* running under: Ubuntu 24.04.3 LTS
* using session charset: UTF-8
* checking for file ‘gDRutils/DESCRIPTION’ ... OK
* checking extension type ... Package
* this is package ‘gDRutils’ version ‘1.9.2’
* package encoding: UTF-8
* checking package namespace information ... OK
* checking package dependencies ... OK
* checking if this is a source package ... OK
* checking if there is a namespace ... OK
* checking for hidden files and directories ... OK
* checking for portable file names ... OK
* checking for sufficient/correct file permissions ... OK
* checking whether package ‘gDRutils’ can be installed ... OK
* checking installed package size ... OK
* checking package directory ... OK
* checking ‘build’ directory ... OK
* checking DESCRIPTION meta-information ... OK
* checking top-level files ... OK
* checking for left-over files ... OK
* checking index information ... OK
* checking package subdirectories ... OK
* checking code files for non-ASCII characters ... OK
* checking R files for syntax errors ... OK
* checking whether the package can be loaded ... OK
* checking whether the package can be loaded with stated dependencies ... OK
* checking whether the package can be unloaded cleanly ... OK
* checking whether the namespace can be loaded with stated dependencies ... OK
* checking whether the namespace can be unloaded cleanly ... OK
* checking loading without being on the library search path ... OK
* checking dependencies in R code ... OK
* checking S3 generic/method consistency ... OK
* checking replacement functions ... OK
* checking foreign function calls ... OK
* checking R code for possible problems ... OK
* checking Rd files ... OK
* checking Rd metadata ... OK
* checking Rd cross-references ... NOTE
Found the following Rd file(s) with Rd \link{} targets missing package
anchors:
  SE_metadata.Rd: SummarizedExperiment-class
  convert_mae_assay_to_dt.Rd: SummarizedExperiment-class,
    MultiAssayExperiment-class
  convert_se_assay_to_dt.Rd: SummarizedExperiment-class
  is_exp_empty.Rd: SummarizedExperiment-class
  split_SE_components.Rd: SummarizedExperiment-class
  validate_se_assay_name.Rd: SummarizedExperiment-class
Please provide package anchors for all Rd \link{} targets not in the
package itself and the base packages.
* checking for missing documentation entries ... OK
* checking for code/documentation mismatches ... OK
* checking Rd \usage sections ... OK
* checking Rd contents ... OK
* checking for unstated dependencies in examples ... OK
* checking files in ‘vignettes’ ... OK
* checking examples ... OK
Examples with CPU (user + system) or elapsed time > 5s
           user system elapsed
merge_MAE 4.321   0.88   3.949
* checking for unstated dependencies in ‘tests’ ... OK
* checking tests ...
  Running ‘testthat.R’
 OK
* checking for unstated dependencies in vignettes ... OK
* checking package vignettes ... OK
* checking re-building of vignette outputs ... OK
* checking PDF version of manual ... OK
* DONE

Status: 1 NOTE
See
  ‘/home/biocbuild/bbs-3.23-bioc/meat/gDRutils.Rcheck/00check.log’
for details.


Installation output

gDRutils.Rcheck/00install.out

##############################################################################
##############################################################################
###
### Running command:
###
###   /home/biocbuild/bbs-3.23-bioc/R/bin/R CMD INSTALL gDRutils
###
##############################################################################
##############################################################################


* installing to library ‘/home/biocbuild/bbs-3.23-bioc/R/site-library’
* installing *source* package ‘gDRutils’ ...
** this is package ‘gDRutils’ version ‘1.9.2’
** using staged installation
** R
** inst
** byte-compile and prepare package for lazy loading
** help
*** installing help indices
** building package indices
** installing vignettes
** testing if installed package can be loaded from temporary location
** testing if installed package can be loaded from final location
** testing if installed package keeps a record of temporary installation path
* DONE (gDRutils)

Tests output

gDRutils.Rcheck/tests/testthat.Rout


R Under development (unstable) (2025-10-20 r88955) -- "Unsuffered Consequences"
Copyright (C) 2025 The R Foundation for Statistical Computing
Platform: x86_64-pc-linux-gnu

R is free software and comes with ABSOLUTELY NO WARRANTY.
You are welcome to redistribute it under certain conditions.
Type 'license()' or 'licence()' for distribution details.

R is a collaborative project with many contributors.
Type 'contributors()' for more information and
'citation()' on how to cite R or R packages in publications.

Type 'demo()' for some demos, 'help()' for on-line help, or
'help.start()' for an HTML browser interface to help.
Type 'q()' to quit R.

> library("gDRutils")
> library("testthat")
> 
> test_check("gDRutils")
[ FAIL 0 | WARN 0 | SKIP 0 | PASS 845 ]
> 
> proc.time()
   user  system elapsed 
 96.854   2.200  96.382 

Example timings

gDRutils.Rcheck/gDRutils-Ex.timings

nameusersystemelapsed
MAEpply0.3720.0530.425
SE_metadata0.0310.0020.034
addClass0.0020.0000.002
aggregate_assay1.3010.0081.305
apply_bumpy_function1.4520.1581.611
assert_choices000
average_biological_replicates_dt0.3700.0060.376
calc_sd0.0000.0010.001
capVals0.2060.0050.211
cap_assay_infinities0.2860.0010.236
cap_xc500.0000.0000.001
convert_colData_to_json0.0930.0010.094
convert_combo_data_to_dt0.3030.0060.283
convert_combo_field_to_assay0.0020.0000.002
convert_mae_assay_to_dt0.0610.0020.063
convert_mae_to_json0.0160.0000.016
convert_metadata_to_json0.0090.0000.009
convert_rowData_to_json0.0020.0010.003
convert_se_assay_to_custom_dt1.3710.0541.402
convert_se_assay_to_dt0.0600.0040.064
convert_se_to_json0.0130.0000.014
define_matrix_grid_positions0.0590.0010.051
demote_fields0.4180.0020.373
df_to_bm_assay0.1260.0020.128
dot-set_invalid_fit_params0.0000.0000.001
dot-standardize_conc0.0010.0010.001
extend_normalization_type_name0.0010.0000.001
fit_curves0.1400.0080.148
flatten0.0060.0020.009
gen_synthetic_data0.0050.0010.006
geometric_mean0.0000.0000.001
get_MAE_identifiers0.0060.0020.009
get_additional_variables0.0120.0010.013
get_assay_dt_duplicated_rows0.1690.0020.171
get_assay_names0.0000.0010.000
get_assay_req_uniq_cols0.1110.0010.112
get_combo_assay_names0.0010.0000.001
get_combo_base_assay_names0.0010.0000.001
get_combo_excess_field_names0.0020.0000.002
get_combo_score_assay_names0.0000.0000.001
get_combo_score_field_names0.0010.0000.001
get_default_identifiers0.0010.0010.001
get_duplicated_rows0.0030.0000.003
get_env_assay_names0.0010.0000.001
get_env_var0.0010.0000.000
get_expect_one_identifiers0.0010.0000.000
get_experiment_groups000
get_gDR_session_info0.0630.0040.063
get_identifiers_dt0.0080.0000.008
get_idfs_synonyms0.0000.0000.001
get_isobologram_columns0.0840.0020.085
get_non_empty_assays0.0540.0000.045
get_required_identifiers000
get_settings_from_json0.0020.0010.001
get_supported_experiments0.0010.0000.001
get_synthetic_data0.0110.0000.011
get_testdata0.0850.0240.105
get_testdata_codilution0.0810.0040.080
get_testdata_combo0.1990.0550.234
has_assay_dt_duplicated_rows0.1400.0620.201
has_dt_duplicated_rows0.0010.0000.001
has_single_codrug_data0.1420.0140.156
has_valid_codrug_data0.1350.0290.166
headers0.0240.0160.039
identifiers0.0010.0000.000
identify_unique_se_metadata_fields0.0080.0020.010
is_any_exp_empty0.0560.0170.061
is_combo_data0.1230.0210.143
is_exp_empty0.0530.0010.044
is_mae_empty0.1040.0060.096
logisticFit0.0320.0000.031
loop2.8990.4964.487
map_conc_to_standardized_conc0.0030.0020.005
mcolData0.0150.0030.018
merge_MAE4.3210.8803.949
merge_SE1.5100.0471.424
merge_assay0.3130.0070.299
merge_metadata0.0060.0000.008
modifyData0.2510.0020.253
mrowData0.0130.0010.013
predict_conc_from_efficacy0.0000.0000.001
predict_efficacy_from_conc0.0010.0000.000
predict_smooth_from_combo0.1640.0060.170
prettify_flat_metrics0.0330.0010.034
process_batch0.6790.1210.800
promote_fields0.1710.0020.162
refine_coldata0.0100.0010.010
refine_rowdata0.0380.0020.040
remove_codrug_data0.0560.0010.057
remove_drug_batch0.0010.0010.001
rename_DFrame0.0090.0000.009
rename_bumpy0.0270.0000.027
round_concentration0.0000.0010.000
set_constant_fit_params000
set_unique_cl_names0.0460.0000.046
set_unique_cl_names_dt0.0170.0000.017
set_unique_drug_names0.050.000.05
set_unique_drug_names_dt0.0340.0000.034
set_unique_identifiers0.2460.0010.248
set_unique_names_dt0.0170.0010.018
shorten_normalization_type_name0.0010.0000.000
split_SE_components0.0870.0040.091
split_big_table_for_xlsx0.0050.0010.006
standardize_mae0.1060.0000.106
standardize_se0.0300.0010.032
throw_msg_if_duplicates0.1170.0030.120
update_env_idfs_from_mae0.0010.0000.001
update_idfs_synonyms0.0000.0000.001
validate_MAE0.0680.0010.069
validate_SE0.0240.0010.024
validate_identifiers0.0070.0000.007
validate_json0.0010.0000.000
validate_mae_with_schema0.3590.0790.435
validate_se_assay_name0.0070.0010.007