| Back to Multiple platform build/check report for BioC 3.23: simplified long |
|
This page was generated on 2025-11-19 10:13 -0500 (Wed, 19 Nov 2025).
| Hostname | OS | Arch (*) | R version | Installed pkgs |
|---|---|---|---|---|
| nebbiolo1 | Linux (Ubuntu 24.04.3 LTS) | x86_64 | R Under development (unstable) (2025-10-20 r88955) -- "Unsuffered Consequences" | 4827 |
| lconway | macOS 12.7.6 Monterey | x86_64 | R Under development (unstable) (2025-10-21 r88958) -- "Unsuffered Consequences" | 4600 |
| kjohnson3 | macOS 13.7.7 Ventura | arm64 | R Under development (unstable) (2025-11-04 r88984) -- "Unsuffered Consequences" | 4564 |
| Click on any hostname to see more info about the system (e.g. compilers) (*) as reported by 'uname -p', except on Windows and Mac OS X | ||||
| Package 802/2325 | Hostname | OS / Arch | INSTALL | BUILD | CHECK | BUILD BIN | ||||||||
| gemma.R 3.7.0 (landing page) Ogan Mancarci
| nebbiolo1 | Linux (Ubuntu 24.04.3 LTS) / x86_64 | OK | OK | OK | |||||||||
| lconway | macOS 12.7.6 Monterey / x86_64 | OK | OK | OK | OK | |||||||||
| kjohnson3 | macOS 13.7.7 Ventura / arm64 | OK | OK | OK | OK | |||||||||
|
To the developers/maintainers of the gemma.R package: - Allow up to 24 hours (and sometimes 48 hours) for your latest push to git@git.bioconductor.org:packages/gemma.R.git to reflect on this report. See Troubleshooting Build Report for more information. - Use the following Renviron settings to reproduce errors and warnings. - If 'R CMD check' started to fail recently on the Linux builder(s) over a missing dependency, add the missing dependency to 'Suggests:' in your DESCRIPTION file. See Renviron.bioc for more information. |
| Package: gemma.R |
| Version: 3.7.0 |
| Command: /Library/Frameworks/R.framework/Resources/bin/R CMD check --install=check:gemma.R.install-out.txt --library=/Library/Frameworks/R.framework/Resources/library --no-vignettes --timings gemma.R_3.7.0.tar.gz |
| StartedAt: 2025-11-18 21:12:22 -0500 (Tue, 18 Nov 2025) |
| EndedAt: 2025-11-18 21:20:54 -0500 (Tue, 18 Nov 2025) |
| EllapsedTime: 512.4 seconds |
| RetCode: 0 |
| Status: OK |
| CheckDir: gemma.R.Rcheck |
| Warnings: 0 |
##############################################################################
##############################################################################
###
### Running command:
###
### /Library/Frameworks/R.framework/Resources/bin/R CMD check --install=check:gemma.R.install-out.txt --library=/Library/Frameworks/R.framework/Resources/library --no-vignettes --timings gemma.R_3.7.0.tar.gz
###
##############################################################################
##############################################################################
* using log directory ‘/Users/biocbuild/bbs-3.23-bioc/meat/gemma.R.Rcheck’
* using R Under development (unstable) (2025-10-21 r88958)
* using platform: x86_64-apple-darwin20
* R was compiled by
Apple clang version 14.0.0 (clang-1400.0.29.202)
GNU Fortran (GCC) 14.2.0
* running under: macOS Ventura 13.7.8
* using session charset: UTF-8
* using option ‘--no-vignettes’
* checking for file ‘gemma.R/DESCRIPTION’ ... OK
* this is package ‘gemma.R’ version ‘3.7.0’
* package encoding: UTF-8
* checking package namespace information ... OK
* checking package dependencies ... INFO
Imports includes 21 non-default packages.
Importing from so many packages makes the package vulnerable to any of
them becoming unavailable. Move as many as possible to Suggests and
use conditionally.
* checking if this is a source package ... OK
* checking if there is a namespace ... OK
* checking for hidden files and directories ... OK
* checking for portable file names ... OK
* checking for sufficient/correct file permissions ... OK
* checking whether package ‘gemma.R’ can be installed ... OK
* checking installed package size ... OK
* checking package directory ... OK
* checking ‘build’ directory ... OK
* checking DESCRIPTION meta-information ... OK
* checking top-level files ... OK
* checking for left-over files ... OK
* checking index information ... OK
* checking package subdirectories ... OK
* checking code files for non-ASCII characters ... OK
* checking R files for syntax errors ... OK
* checking whether the package can be loaded ... OK
* checking whether the package can be loaded with stated dependencies ... OK
* checking whether the package can be unloaded cleanly ... OK
* checking whether the namespace can be loaded with stated dependencies ... OK
* checking whether the namespace can be unloaded cleanly ... OK
* checking dependencies in R code ... OK
* checking S3 generic/method consistency ... OK
* checking replacement functions ... OK
* checking foreign function calls ... OK
* checking R code for possible problems ... OK
* checking Rd files ... OK
* checking Rd metadata ... OK
* checking Rd cross-references ... OK
* checking for missing documentation entries ... OK
* checking for code/documentation mismatches ... OK
* checking Rd \usage sections ... OK
* checking Rd contents ... OK
* checking for unstated dependencies in examples ... OK
* checking files in ‘vignettes’ ... OK
* checking examples ... OK
Examples with CPU (user + system) or elapsed time > 5s
user system elapsed
get_dataset_object 8.307 0.371 11.590
get_gene_differential_expression_values 2.085 0.102 11.473
dot-get_gene_differential_expression_values 2.043 0.021 12.163
update_result 0.664 0.043 6.116
get_dataset_differential_expression_analyses 0.483 0.041 5.399
get_datasets 0.168 0.019 6.763
* checking for unstated dependencies in ‘tests’ ... OK
* checking tests ...
Running ‘testthat.R’
OK
* checking for unstated dependencies in vignettes ... OK
* checking package vignettes ... OK
* checking running R code from vignettes ... SKIPPED
* checking re-building of vignette outputs ... SKIPPED
* checking PDF version of manual ... OK
* DONE
Status: OK
gemma.R.Rcheck/00install.out
############################################################################## ############################################################################## ### ### Running command: ### ### /Library/Frameworks/R.framework/Resources/bin/R CMD INSTALL gemma.R ### ############################################################################## ############################################################################## * installing to library ‘/Library/Frameworks/R.framework/Versions/4.6-x86_64/Resources/library’ * installing *source* package ‘gemma.R’ ... ** this is package ‘gemma.R’ version ‘3.7.0’ ** using staged installation ** R ** inst ** byte-compile and prepare package for lazy loading ** help *** installing help indices *** copying figures ** building package indices ** installing vignettes ** testing if installed package can be loaded from temporary location ** testing if installed package can be loaded from final location ** testing if installed package keeps a record of temporary installation path * DONE (gemma.R)
gemma.R.Rcheck/tests/testthat.Rout
R Under development (unstable) (2025-10-21 r88958) -- "Unsuffered Consequences"
Copyright (C) 2025 The R Foundation for Statistical Computing
Platform: x86_64-apple-darwin20
R is free software and comes with ABSOLUTELY NO WARRANTY.
You are welcome to redistribute it under certain conditions.
Type 'license()' or 'licence()' for distribution details.
R is a collaborative project with many contributors.
Type 'contributors()' for more information and
'citation()' on how to cite R or R packages in publications.
Type 'demo()' for some demos, 'help()' for on-line help, or
'help.start()' for an HTML browser interface to help.
Type 'q()' to quit R.
> library(testthat)
> library(dplyr)
Attaching package: 'dplyr'
The following objects are masked from 'package:stats':
filter, lag
The following objects are masked from 'package:base':
intersect, setdiff, setequal, union
>
> # Prevent certificate issues for GitHub actions
> options(gemma.SSL = FALSE)
> # get gemma api path if it's set in the environment
> gemma.R:::setGemmaPath('prod')
[1] "https://gemma.msl.ubc.ca/rest/v2/"
> print(gemma.R:::gemmaPath())
[1] "https://gemma.msl.ubc.ca/rest/v2/"
> test_check("gemma.R")
Loading required package: gemma.R
Warning: stack imbalance in '::', 130 then 131
Warning: stack imbalance in '{', 126 then 127
Warning: stack imbalance in 'lapply', 115 then 116
[ FAIL 0 | WARN 0 | SKIP 5 | PASS 192 ]
══ Skipped tests (5) ═══════════════════════════════════════════════════════════
• On Bioconductor (4): 'testCaches.R:37:3', 'testConvenience.R:15:5',
'testConvenience.R:37:5', 'testDatasetEndpoints.R:88:5'
• empty test (1): 'testConvenience.R:1:1'
[ FAIL 0 | WARN 0 | SKIP 5 | PASS 192 ]
>
>
>
> proc.time()
user system elapsed
118.218 5.806 368.134
gemma.R.Rcheck/gemma.R-Ex.timings
| name | user | system | elapsed | |
| dot-getResultSets | 0.000 | 0.001 | 0.000 | |
| dot-get_dataset_expression_for_genes | 1.091 | 0.084 | 3.530 | |
| dot-get_gene_differential_expression_values | 2.043 | 0.021 | 12.163 | |
| filter_properties | 0.028 | 0.003 | 0.033 | |
| forget_gemma_memoised | 0.019 | 0.047 | 0.262 | |
| gemma_call | 0.007 | 0.007 | 0.164 | |
| get_annotation_children | 0.010 | 0.001 | 0.152 | |
| get_annotation_parents | 0.024 | 0.001 | 0.166 | |
| get_child_terms | 0.020 | 0.001 | 0.185 | |
| get_dataset_annotations | 0.010 | 0.001 | 0.166 | |
| get_dataset_differential_expression_analyses | 0.483 | 0.041 | 5.399 | |
| get_dataset_expression | 0.728 | 0.078 | 3.176 | |
| get_dataset_expression_for_genes | 0.289 | 0.010 | 1.213 | |
| get_dataset_object | 8.307 | 0.371 | 11.590 | |
| get_dataset_platforms | 0.014 | 0.002 | 0.463 | |
| get_dataset_processed_expression | 1.154 | 0.074 | 4.949 | |
| get_dataset_publications | 0.010 | 0.001 | 0.134 | |
| get_dataset_quantitation_types | 0.012 | 0.001 | 0.260 | |
| get_dataset_raw_expression | 0.612 | 0.053 | 2.583 | |
| get_dataset_samples | 0.783 | 0.024 | 1.279 | |
| get_datasets | 0.168 | 0.019 | 6.763 | |
| get_datasets_by_ids | 0.050 | 0.003 | 0.391 | |
| get_differential_expression_values | 0.214 | 0.025 | 3.874 | |
| get_gene_differential_expression_values | 2.085 | 0.102 | 11.473 | |
| get_gene_go_terms | 0.037 | 0.003 | 0.418 | |
| get_gene_locations | 0.024 | 0.002 | 0.358 | |
| get_gene_probes | 0.030 | 0.005 | 0.282 | |
| get_genes | 0.031 | 0.003 | 0.348 | |
| get_platform_annotations | 0.554 | 0.063 | 3.182 | |
| get_platform_datasets | 0.038 | 0.004 | 0.615 | |
| get_platform_element_genes | 0.014 | 0.001 | 0.184 | |
| get_platforms_by_ids | 0.029 | 0.001 | 0.350 | |
| get_result_sets | 0.045 | 0.002 | 0.357 | |
| get_taxa | 0.013 | 0.001 | 0.154 | |
| get_taxa_by_ids | 0.012 | 0.001 | 0.163 | |
| get_taxon_datasets | 0.043 | 0.005 | 0.405 | |
| make_design | 0.677 | 0.022 | 1.235 | |
| search_annotations | 0.013 | 0.002 | 0.164 | |
| search_datasets | 0.040 | 0.005 | 0.597 | |
| search_gemma | 0.121 | 0.020 | 0.889 | |
| update_result | 0.664 | 0.043 | 6.116 | |