Back to Multiple platform build/check report for BioC 3.23:   simplified   long
ABCDEFGH[I]JKLMNOPQRSTUVWXYZ

This page was generated on 2025-11-20 11:38 -0500 (Thu, 20 Nov 2025).

HostnameOSArch (*)R versionInstalled pkgs
nebbiolo1Linux (Ubuntu 24.04.3 LTS)x86_64R Under development (unstable) (2025-10-20 r88955) -- "Unsuffered Consequences" 4827
lconwaymacOS 12.7.6 Montereyx86_64R Under development (unstable) (2025-10-21 r88958) -- "Unsuffered Consequences" 4600
kjohnson3macOS 13.7.7 Venturaarm64R Under development (unstable) (2025-11-04 r88984) -- "Unsuffered Consequences" 4564
Click on any hostname to see more info about the system (e.g. compilers)      (*) as reported by 'uname -p', except on Windows and Mac OS X

Package 1065/2325HostnameOS / ArchINSTALLBUILDCHECKBUILD BIN
iscream 1.1.1  (landing page)
James Eapen
Snapshot Date: 2025-11-19 13:40 -0500 (Wed, 19 Nov 2025)
git_url: https://git.bioconductor.org/packages/iscream
git_branch: devel
git_last_commit: b1bda1c
git_last_commit_date: 2025-10-29 14:17:07 -0500 (Wed, 29 Oct 2025)
nebbiolo1Linux (Ubuntu 24.04.3 LTS) / x86_64  OK    OK    OK  UNNEEDED, same version is already published
lconwaymacOS 12.7.6 Monterey / x86_64  ERROR    ERROR  skippedskipped
kjohnson3macOS 13.7.7 Ventura / arm64  OK    OK    OK    OK  UNNEEDED, same version is already published


BUILD results for iscream on lconway

To the developers/maintainers of the iscream package:
- Allow up to 24 hours (and sometimes 48 hours) for your latest push to git@git.bioconductor.org:packages/iscream.git to reflect on this report. See Troubleshooting Build Report for more information.
- Use the following Renviron settings to reproduce errors and warnings.
- If 'R CMD check' started to fail recently on the Linux builder(s) over a missing dependency, add the missing dependency to 'Suggests:' in your DESCRIPTION file. See Renviron.bioc for more information.

raw results


Summary

Package: iscream
Version: 1.1.1
Command: /Library/Frameworks/R.framework/Resources/bin/R CMD build --keep-empty-dirs --no-resave-data iscream
StartedAt: 2025-11-19 17:28:16 -0500 (Wed, 19 Nov 2025)
EndedAt: 2025-11-19 17:28:22 -0500 (Wed, 19 Nov 2025)
EllapsedTime: 6.8 seconds
RetCode: 1
Status:   ERROR  
PackageFile: None
PackageFileSize: NA

Command output

##############################################################################
##############################################################################
###
### Running command:
###
###   /Library/Frameworks/R.framework/Resources/bin/R CMD build --keep-empty-dirs --no-resave-data iscream
###
##############################################################################
##############################################################################


* checking for file ‘iscream/DESCRIPTION’ ... OK
* preparing ‘iscream’:
* checking DESCRIPTION meta-information ... OK
* cleaning src
* running ‘cleanup’
* installing the package (it is needed to build vignettes)
      -----------------------------------
* installing *source* package ‘iscream’ ...
** this is package ‘iscream’ version ‘1.1.1’
** using staged installation
*** Configuring for package installation...
**** Trying pkg-config to use system htslib headers...
     Found pkg-config cflags and libs for htslib!
**** Using clang
     Apple clang version 14.0.3 (clang-1403.0.22.14.1)
     Target: x86_64-apple-darwin22.6.0
     Thread model: posix
     InstalledDir: /Library/Developer/CommandLineTools/usr/bin
**** Checking htslib version
------------------------- ANTICONF ERROR ---------------------------
Configuration failed because htslib version 1.15.1 does not meet the minimum version requirement 1.17
--------------------------------------------------------------------
ERROR: configuration failed for package ‘iscream’
* removing ‘/private/tmp/Rtmp4VpeSL/Rinst170f31cdba07b/iscream’
      -----------------------------------
ERROR: package installation failed