Back to Multiple platform build/check report for BioC 3.23:   simplified   long
ABCDEFGHIJKLMNO[P]QRSTUVWXYZ

This page was generated on 2025-11-19 10:12 -0500 (Wed, 19 Nov 2025).

HostnameOSArch (*)R versionInstalled pkgs
nebbiolo1Linux (Ubuntu 24.04.3 LTS)x86_64R Under development (unstable) (2025-10-20 r88955) -- "Unsuffered Consequences" 4827
lconwaymacOS 12.7.6 Montereyx86_64R Under development (unstable) (2025-10-21 r88958) -- "Unsuffered Consequences" 4600
kjohnson3macOS 13.7.7 Venturaarm64R Under development (unstable) (2025-11-04 r88984) -- "Unsuffered Consequences" 4564
Click on any hostname to see more info about the system (e.g. compilers)      (*) as reported by 'uname -p', except on Windows and Mac OS X

Package 1590/2325HostnameOS / ArchINSTALLBUILDCHECKBUILD BIN
plotgardener 1.17.0  (landing page)
Nicole Kramer
Snapshot Date: 2025-11-18 13:40 -0500 (Tue, 18 Nov 2025)
git_url: https://git.bioconductor.org/packages/plotgardener
git_branch: devel
git_last_commit: eaa9c96
git_last_commit_date: 2025-10-29 11:11:39 -0500 (Wed, 29 Oct 2025)
nebbiolo1Linux (Ubuntu 24.04.3 LTS) / x86_64  OK    OK    OK  UNNEEDED, same version is already published
lconwaymacOS 12.7.6 Monterey / x86_64  OK    OK    WARNINGS    OK  NO, package depends on 'GenomicRanges' which is only available as a source package that needs compilation
kjohnson3macOS 13.7.7 Ventura / arm64  OK    OK    WARNINGS    OK  NO, package depends on 'GenomicRanges' which is only available as a source package that needs compilation


CHECK results for plotgardener on nebbiolo1

To the developers/maintainers of the plotgardener package:
- Allow up to 24 hours (and sometimes 48 hours) for your latest push to git@git.bioconductor.org:packages/plotgardener.git to reflect on this report. See Troubleshooting Build Report for more information.
- Use the following Renviron settings to reproduce errors and warnings.
- If 'R CMD check' started to fail recently on the Linux builder(s) over a missing dependency, add the missing dependency to 'Suggests:' in your DESCRIPTION file. See Renviron.bioc for more information.

raw results


Summary

Package: plotgardener
Version: 1.17.0
Command: /home/biocbuild/bbs-3.23-bioc/R/bin/R CMD check --install=check:plotgardener.install-out.txt --library=/home/biocbuild/bbs-3.23-bioc/R/site-library --timings plotgardener_1.17.0.tar.gz
StartedAt: 2025-11-19 03:29:44 -0500 (Wed, 19 Nov 2025)
EndedAt: 2025-11-19 03:38:56 -0500 (Wed, 19 Nov 2025)
EllapsedTime: 551.6 seconds
RetCode: 0
Status:   OK  
CheckDir: plotgardener.Rcheck
Warnings: 0

Command output

##############################################################################
##############################################################################
###
### Running command:
###
###   /home/biocbuild/bbs-3.23-bioc/R/bin/R CMD check --install=check:plotgardener.install-out.txt --library=/home/biocbuild/bbs-3.23-bioc/R/site-library --timings plotgardener_1.17.0.tar.gz
###
##############################################################################
##############################################################################


* using log directory ‘/home/biocbuild/bbs-3.23-bioc/meat/plotgardener.Rcheck’
* using R Under development (unstable) (2025-10-20 r88955)
* using platform: x86_64-pc-linux-gnu
* R was compiled by
    gcc (Ubuntu 13.3.0-6ubuntu2~24.04) 13.3.0
    GNU Fortran (Ubuntu 13.3.0-6ubuntu2~24.04) 13.3.0
* running under: Ubuntu 24.04.3 LTS
* using session charset: UTF-8
* checking for file ‘plotgardener/DESCRIPTION’ ... OK
* this is package ‘plotgardener’ version ‘1.17.0’
* package encoding: UTF-8
* checking package namespace information ... OK
* checking package dependencies ... OK
* checking if this is a source package ... OK
* checking if there is a namespace ... OK
* checking for hidden files and directories ... OK
* checking for portable file names ... OK
* checking for sufficient/correct file permissions ... OK
* checking whether package ‘plotgardener’ can be installed ... OK
* used C++ compiler: ‘g++ (Ubuntu 13.3.0-6ubuntu2~24.04) 13.3.0’
* checking installed package size ... OK
* checking package directory ... OK
* checking ‘build’ directory ... OK
* checking DESCRIPTION meta-information ... OK
* checking top-level files ... OK
* checking for left-over files ... OK
* checking index information ... OK
* checking package subdirectories ... OK
* checking code files for non-ASCII characters ... OK
* checking R files for syntax errors ... OK
* checking whether the package can be loaded ... OK
* checking whether the package can be loaded with stated dependencies ... OK
* checking whether the package can be unloaded cleanly ... OK
* checking whether the namespace can be loaded with stated dependencies ... OK
* checking whether the namespace can be unloaded cleanly ... OK
* checking loading without being on the library search path ... OK
* checking whether startup messages can be suppressed ... OK
* checking dependencies in R code ... OK
* checking S3 generic/method consistency ... OK
* checking replacement functions ... OK
* checking foreign function calls ... OK
* checking R code for possible problems ... NOTE
.checkCool: no visible binding for global variable ‘name’
pgParams: no visible binding for global variable ‘width’
pgParams: no visible binding for global variable ‘strand’
Undefined global functions or variables:
  name strand width
* checking Rd files ... NOTE
checkRd: (-1) annoDomains.Rd:28-29: Lost braces in \itemize; meant \describe ?
checkRd: (-1) annoDomains.Rd:30-31: Lost braces in \itemize; meant \describe ?
checkRd: (-1) annoDomains.Rd:32-33: Lost braces in \itemize; meant \describe ?
checkRd: (-1) annoDomains.Rd:34-35: Lost braces in \itemize; meant \describe ?
checkRd: (-1) annoGenomeLabel.Rd:47: Lost braces in \itemize; meant \describe ?
checkRd: (-1) annoGenomeLabel.Rd:48-49: Lost braces in \itemize; meant \describe ?
checkRd: (-1) annoGenomeLabel.Rd:50-51: Lost braces in \itemize; meant \describe ?
checkRd: (-1) annoGenomeLabel.Rd:69: Lost braces in \itemize; meant \describe ?
checkRd: (-1) annoGenomeLabel.Rd:70-72: Lost braces in \itemize; meant \describe ?
checkRd: (-1) annoHeatmapLegend.Rd:33: Lost braces in \itemize; meant \describe ?
checkRd: (-1) annoHeatmapLegend.Rd:34: Lost braces in \itemize; meant \describe ?
checkRd: (-1) annoPixels.Rd:30: Lost braces in \itemize; meant \describe ?
checkRd: (-1) annoPixels.Rd:31: Lost braces in \itemize; meant \describe ?
checkRd: (-1) annoPixels.Rd:32: Lost braces in \itemize; meant \describe ?
checkRd: (-1) annoPixels.Rd:39-40: Lost braces in \itemize; meant \describe ?
checkRd: (-1) annoPixels.Rd:41-42: Lost braces in \itemize; meant \describe ?
checkRd: (-1) annoPixels.Rd:43-44: Lost braces in \itemize; meant \describe ?
checkRd: (-1) annoPixels.Rd:45-46: Lost braces in \itemize; meant \describe ?
checkRd: (-1) annoSegments.Rd:64: Lost braces in \itemize; meant \describe ?
checkRd: (-1) annoSegments.Rd:65: Lost braces in \itemize; meant \describe ?
checkRd: (-1) annoSegments.Rd:66: Lost braces in \itemize; meant \describe ?
checkRd: (-1) annoXaxis.Rd:31: Lost braces in \itemize; meant \describe ?
checkRd: (-1) annoXaxis.Rd:32: Lost braces in \itemize; meant \describe ?
checkRd: (-1) annoYaxis.Rd:31: Lost braces in \itemize; meant \describe ?
checkRd: (-1) annoYaxis.Rd:32: Lost braces in \itemize; meant \describe ?
checkRd: (-1) plotGenomeLabel.Rd:58: Lost braces in \itemize; meant \describe ?
checkRd: (-1) plotGenomeLabel.Rd:59-60: Lost braces in \itemize; meant \describe ?
checkRd: (-1) plotGenomeLabel.Rd:61-62: Lost braces in \itemize; meant \describe ?
checkRd: (-1) plotGenomeLabel.Rd:80: Lost braces in \itemize; meant \describe ?
checkRd: (-1) plotGenomeLabel.Rd:81-83: Lost braces in \itemize; meant \describe ?
checkRd: (-1) plotHicRectangle.Rd:55: Lost braces in \itemize; meant \describe ?
checkRd: (-1) plotHicRectangle.Rd:56: Lost braces in \itemize; meant \describe ?
checkRd: (-1) plotHicRectangle.Rd:57: Lost braces in \itemize; meant \describe ?
checkRd: (-1) plotHicSquare.Rd:58: Lost braces in \itemize; meant \describe ?
checkRd: (-1) plotHicSquare.Rd:59: Lost braces in \itemize; meant \describe ?
checkRd: (-1) plotHicSquare.Rd:60: Lost braces in \itemize; meant \describe ?
checkRd: (-1) plotHicSquare.Rd:97: Lost braces in \itemize; meant \describe ?
checkRd: (-1) plotHicSquare.Rd:98: Lost braces in \itemize; meant \describe ?
checkRd: (-1) plotHicSquare.Rd:99: Lost braces in \itemize; meant \describe ?
checkRd: (-1) plotHicTriangle.Rd:54: Lost braces in \itemize; meant \describe ?
checkRd: (-1) plotHicTriangle.Rd:55: Lost braces in \itemize; meant \describe ?
checkRd: (-1) plotHicTriangle.Rd:56: Lost braces in \itemize; meant \describe ?
checkRd: (-1) plotIdeogram.Rd:40: Lost braces in \itemize; meant \describe ?
checkRd: (-1) plotIdeogram.Rd:41: Lost braces in \itemize; meant \describe ?
checkRd: (-1) plotLegend.Rd:42: Lost braces in \itemize; meant \describe ?
checkRd: (-1) plotLegend.Rd:43: Lost braces in \itemize; meant \describe ?
checkRd: (-1) plotManhattan.Rd:45: Lost braces in \itemize; meant \describe ?
checkRd: (-1) plotManhattan.Rd:46-47: Lost braces in \itemize; meant \describe ?
checkRd: (-1) plotManhattan.Rd:48-49: Lost braces in \itemize; meant \describe ?
checkRd: (-1) plotManhattan.Rd:50-51: Lost braces in \itemize; meant \describe ?
checkRd: (-1) plotMultiSignal.Rd:103-104: Lost braces in \itemize; meant \describe ?
checkRd: (-1) plotMultiSignal.Rd:105-106: Lost braces in \itemize; meant \describe ?
checkRd: (-1) plotPairs.Rd:58: Lost braces in \itemize; meant \describe ?
checkRd: (-1) plotPairs.Rd:59: Lost braces in \itemize; meant \describe ?
checkRd: (-1) plotPairsArches.Rd:56: Lost braces in \itemize; meant \describe ?
checkRd: (-1) plotPairsArches.Rd:57: Lost braces in \itemize; meant \describe ?
checkRd: (-1) plotPairsArches.Rd:79: Lost braces in \itemize; meant \describe ?
checkRd: (-1) plotPairsArches.Rd:80: Lost braces in \itemize; meant \describe ?
checkRd: (-1) plotRanges.Rd:62: Lost braces in \itemize; meant \describe ?
checkRd: (-1) plotRanges.Rd:63: Lost braces in \itemize; meant \describe ?
checkRd: (-1) plotRanges.Rd:70: Lost braces in \itemize; meant \describe ?
checkRd: (-1) plotRanges.Rd:71: Lost braces in \itemize; meant \describe ?
checkRd: (-1) plotSegments.Rd:68: Lost braces in \itemize; meant \describe ?
checkRd: (-1) plotSegments.Rd:69: Lost braces in \itemize; meant \describe ?
checkRd: (-1) plotSegments.Rd:70: Lost braces in \itemize; meant \describe ?
checkRd: (-1) plotSignal.Rd:104: Lost braces in \itemize; meant \describe ?
checkRd: (-1) plotSignal.Rd:105: Lost braces in \itemize; meant \describe ?
checkRd: (-1) plotTranscripts.Rd:92: Lost braces in \itemize; meant \describe ?
checkRd: (-1) plotTranscripts.Rd:93: Lost braces in \itemize; meant \describe ?
checkRd: (-1) plotTranscripts.Rd:94: Lost braces in \itemize; meant \describe ?
checkRd: (-1) plotTranscripts.Rd:95-96: Lost braces in \itemize; meant \describe ?
checkRd: (-1) readBigwig.Rd:29: Lost braces in \itemize; meant \describe ?
checkRd: (-1) readBigwig.Rd:30: Lost braces in \itemize; meant \describe ?
checkRd: (-1) readBigwig.Rd:31: Lost braces in \itemize; meant \describe ?
checkRd: (-1) readHic.Rd:54: Lost braces in \itemize; meant \describe ?
checkRd: (-1) readHic.Rd:55: Lost braces in \itemize; meant \describe ?
checkRd: (-1) readHic.Rd:68: Lost braces in \itemize; meant \describe ?
checkRd: (-1) readHic.Rd:69: Lost braces in \itemize; meant \describe ?
checkRd: (-1) readHic.Rd:70: Lost braces in \itemize; meant \describe ?
* checking Rd metadata ... OK
* checking Rd cross-references ... OK
* checking for missing documentation entries ... OK
* checking for code/documentation mismatches ... OK
* checking Rd \usage sections ... OK
* checking Rd contents ... OK
* checking for unstated dependencies in examples ... OK
* checking R/sysdata.rda ... OK
* checking line endings in C/C++/Fortran sources/headers ... OK
* checking compiled code ... INFO
Note: information on .o files is not available
* checking files in ‘vignettes’ ... OK
* checking examples ... OK
Examples with CPU (user + system) or elapsed time > 5s
             user system elapsed
plotGenes  26.101  1.083  27.185
plotRaster 18.817  1.812  20.634
readCool    0.843  0.593  64.044
* checking for unstated dependencies in ‘tests’ ... OK
* checking tests ...
  Running ‘testthat.R’
 OK
* checking for unstated dependencies in vignettes ... OK
* checking package vignettes ... OK
* checking re-building of vignette outputs ... OK
* checking PDF version of manual ... OK
* DONE

Status: 2 NOTEs
See
  ‘/home/biocbuild/bbs-3.23-bioc/meat/plotgardener.Rcheck/00check.log’
for details.


Installation output

plotgardener.Rcheck/00install.out

##############################################################################
##############################################################################
###
### Running command:
###
###   /home/biocbuild/bbs-3.23-bioc/R/bin/R CMD INSTALL plotgardener
###
##############################################################################
##############################################################################


* installing to library ‘/home/biocbuild/bbs-3.23-bioc/R/site-library’
* installing *source* package ‘plotgardener’ ...
** this is package ‘plotgardener’ version ‘1.17.0’
** using staged installation
** libs
using C++ compiler: ‘g++ (Ubuntu 13.3.0-6ubuntu2~24.04) 13.3.0’
g++ -std=gnu++17 -I"/home/biocbuild/bbs-3.23-bioc/R/include" -DNDEBUG  -I'/home/biocbuild/bbs-3.23-bioc/R/site-library/Rcpp/include' -I/usr/local/include    -fpic  -g -O2  -Wall -Werror=format-security  -c RcppExports.cpp -o RcppExports.o
g++ -std=gnu++17 -I"/home/biocbuild/bbs-3.23-bioc/R/include" -DNDEBUG  -I'/home/biocbuild/bbs-3.23-bioc/R/site-library/Rcpp/include' -I/usr/local/include    -fpic  -g -O2  -Wall -Werror=format-security  -c checkRow.cpp -o checkRow.o
g++ -std=gnu++17 -I"/home/biocbuild/bbs-3.23-bioc/R/include" -DNDEBUG  -I'/home/biocbuild/bbs-3.23-bioc/R/site-library/Rcpp/include' -I/usr/local/include    -fpic  -g -O2  -Wall -Werror=format-security  -c rebinBigwig.cpp -o rebinBigwig.o
g++ -std=gnu++17 -shared -L/home/biocbuild/bbs-3.23-bioc/R/lib -L/usr/local/lib -o plotgardener.so RcppExports.o checkRow.o rebinBigwig.o -L/home/biocbuild/bbs-3.23-bioc/R/lib -lR
installing to /home/biocbuild/bbs-3.23-bioc/R/site-library/00LOCK-plotgardener/00new/plotgardener/libs
** R
** inst
** byte-compile and prepare package for lazy loading
** help
*** installing help indices
*** copying figures
** building package indices
** installing vignettes
** testing if installed package can be loaded from temporary location
** checking absolute paths in shared objects and dynamic libraries
** testing if installed package can be loaded from final location
** testing if installed package keeps a record of temporary installation path
* DONE (plotgardener)

Tests output

plotgardener.Rcheck/tests/testthat.Rout


R Under development (unstable) (2025-10-20 r88955) -- "Unsuffered Consequences"
Copyright (C) 2025 The R Foundation for Statistical Computing
Platform: x86_64-pc-linux-gnu

R is free software and comes with ABSOLUTELY NO WARRANTY.
You are welcome to redistribute it under certain conditions.
Type 'license()' or 'licence()' for distribution details.

R is a collaborative project with many contributors.
Type 'contributors()' for more information and
'citation()' on how to cite R or R packages in publications.

Type 'demo()' for some demos, 'help()' for on-line help, or
'help.start()' for an HTML browser interface to help.
Type 'q()' to quit R.

> library(testthat)
> library(plotgardener)

Attaching package: 'plotgardener'

The following object is masked from 'package:base':

    c

> 
> test_check("plotgardener")
Loading required package: GenomicFeatures
Loading required package: BiocGenerics
Loading required package: generics

Attaching package: 'generics'

The following objects are masked from 'package:base':

    as.difftime, as.factor, as.ordered, intersect, is.element, setdiff,
    setequal, union


Attaching package: 'BiocGenerics'

The following objects are masked from 'package:stats':

    IQR, mad, sd, var, xtabs

The following objects are masked from 'package:base':

    Filter, Find, Map, Position, Reduce, anyDuplicated, aperm, append,
    as.data.frame, basename, cbind, colnames, dirname, do.call,
    duplicated, eval, evalq, get, grep, grepl, is.unsorted, lapply,
    mapply, match, mget, order, paste, pmax, pmax.int, pmin, pmin.int,
    rank, rbind, rownames, sapply, saveRDS, table, tapply, unique,
    unsplit, which.max, which.min

Loading required package: S4Vectors
Loading required package: stats4

Attaching package: 'S4Vectors'

The following object is masked from 'package:utils':

    findMatches

The following objects are masked from 'package:base':

    I, expand.grid, unname

Loading required package: IRanges
Loading required package: Seqinfo
Loading required package: GenomicRanges
Loading required package: AnnotationDbi
Loading required package: Biobase
Welcome to Bioconductor

    Vignettes contain introductory material; view with
    'browseVignettes()'. To cite Bioconductor, see
    'citation("Biobase")', and for packages 'citation("pkgname")'.


Using poppler version 24.02.0
Loading required package: BiocFileCache
Loading required package: dbplyr

Attaching package: 'AnnotationHub'

The following object is masked from 'package:Biobase':

    cache

pairs[pairs1]
arches[arches1]
ranges[ranges1]
transcripts[transcripts1]
start, endLoading required package: SummarizedExperiment
Loading required package: MatrixGenerics
Loading required package: matrixStats

Attaching package: 'matrixStats'

The following objects are masked from 'package:Biobase':

    anyMissing, rowMedians


Attaching package: 'MatrixGenerics'

The following objects are masked from 'package:matrixStats':

    colAlls, colAnyNAs, colAnys, colAvgsPerRowSet, colCollapse,
    colCounts, colCummaxs, colCummins, colCumprods, colCumsums,
    colDiffs, colIQRDiffs, colIQRs, colLogSumExps, colMadDiffs,
    colMads, colMaxs, colMeans2, colMedians, colMins, colOrderStats,
    colProds, colQuantiles, colRanges, colRanks, colSdDiffs, colSds,
    colSums2, colTabulates, colVarDiffs, colVars, colWeightedMads,
    colWeightedMeans, colWeightedMedians, colWeightedSds,
    colWeightedVars, rowAlls, rowAnyNAs, rowAnys, rowAvgsPerColSet,
    rowCollapse, rowCounts, rowCummaxs, rowCummins, rowCumprods,
    rowCumsums, rowDiffs, rowIQRDiffs, rowIQRs, rowLogSumExps,
    rowMadDiffs, rowMads, rowMaxs, rowMeans2, rowMedians, rowMins,
    rowOrderStats, rowProds, rowQuantiles, rowRanges, rowRanks,
    rowSdDiffs, rowSds, rowSums2, rowTabulates, rowVarDiffs, rowVars,
    rowWeightedMads, rowWeightedMeans, rowWeightedMedians,
    rowWeightedSds, rowWeightedVars

The following object is masked from 'package:Biobase':

    rowMedians

Read in hic file with KR normalization at 1e+05 BP resolution.
trying URL 'https://usgs2.osn.mghpcc.org/cooler01/examples/hg19/Rao2014-IMR90-MboI-allreps-filtered.1000kb.cool'
Content type 'binary/octet-stream' length 4103444 bytes (3.9 MB)
==================================================
downloaded 3.9 MB

trying URL 'https://zenodo.org/records/10906240/files/LEUK_HEK_PJA27_inter_30.mcool?download=1'
Content type 'application/octet-stream' length 55194561 bytes (52.6 MB)
==================================================
downloaded 52.6 MB

signal[signal1_h]
signal[signal1_h]
transcripts[transcripts1]
[ FAIL 0 | WARN 0 | SKIP 1 | PASS 133 ]

══ Skipped tests (1) ═══════════════════════════════════════════════════════════
• empty test (1): 'test-transcriptFilter.R:4:1'

[ FAIL 0 | WARN 0 | SKIP 1 | PASS 133 ]
> 
> proc.time()
   user  system elapsed 
 60.562   5.353 109.173 

Example timings

plotgardener.Rcheck/plotgardener-Ex.timings

nameusersystemelapsed
annoDomains0.7810.0710.853
annoGenomeLabel3.0260.2343.259
annoHeatmapLegend0.5320.0050.537
annoHighlight1.6650.1001.767
annoPixels0.8350.0110.846
annoSegments1.6980.0281.728
annoText0.7850.0370.822
annoXaxis2.7910.0942.886
annoYaxis0.5280.0170.545
annoZoomLines2.3340.0392.373
assembly0.0010.0000.001
c0.0010.0000.001
calcSignalRange0.2800.0120.294
colorby0.5380.0060.543
defaultPackages0.0080.0010.009
genomes000
mapColors0.0910.0000.092
pageCreate0.0380.0010.040
pageGuideHide0.0320.0000.033
pageGuideHorizontal0.0520.0000.052
pageGuideShow0.7200.0170.737
pageGuideVertical0.0880.0020.090
pageLayoutCol0.0000.0000.001
pageLayoutRow0.0000.0010.000
pagePlotPlace0.5150.0050.519
pagePlotRemove0.4280.0120.439
pgParams1.9030.0641.967
plotCircle0.0270.0020.029
plotGG0.2570.0040.260
plotGenes26.101 1.08327.185
plotGenomeLabel1.7950.0351.830
plotHicRectangle0.4670.0050.473
plotHicSquare0.5990.0090.608
plotHicTriangle1.140.031.17
plotIdeogram4.1250.5044.910
plotLegend0.3110.0210.333
plotManhattan1.8320.0871.920
plotMultiSignal1.7310.1461.878
plotPairs0.1480.0110.160
plotPairsArches0.1340.0120.145
plotPolygon0.0490.0120.061
plotRanges0.1650.0050.170
plotRaster18.817 1.81220.634
plotRect0.4900.0260.515
plotSegments0.0600.0080.068
plotSignal0.7150.0600.776
plotText0.0450.0060.051
plotTranscripts1.1250.0891.215
readBigwig0.2370.0050.242
readCool 0.843 0.59364.044
readHic0.0120.0040.016