| Back to Multiple platform build/check report for BioC 3.23: simplified long |
|
This page was generated on 2025-11-19 10:14 -0500 (Wed, 19 Nov 2025).
| Hostname | OS | Arch (*) | R version | Installed pkgs |
|---|---|---|---|---|
| nebbiolo1 | Linux (Ubuntu 24.04.3 LTS) | x86_64 | R Under development (unstable) (2025-10-20 r88955) -- "Unsuffered Consequences" | 4827 |
| lconway | macOS 12.7.6 Monterey | x86_64 | R Under development (unstable) (2025-10-21 r88958) -- "Unsuffered Consequences" | 4600 |
| kjohnson3 | macOS 13.7.7 Ventura | arm64 | R Under development (unstable) (2025-11-04 r88984) -- "Unsuffered Consequences" | 4564 |
| Click on any hostname to see more info about the system (e.g. compilers) (*) as reported by 'uname -p', except on Windows and Mac OS X | ||||
| Package 1897/2325 | Hostname | OS / Arch | INSTALL | BUILD | CHECK | BUILD BIN | ||||||||
| scGraphVerse 1.1.0 (landing page) Francesco Cecere
| nebbiolo1 | Linux (Ubuntu 24.04.3 LTS) / x86_64 | OK | OK | OK | |||||||||
| lconway | macOS 12.7.6 Monterey / x86_64 | OK | OK | OK | OK | |||||||||
| kjohnson3 | macOS 13.7.7 Ventura / arm64 | OK | OK | OK | OK | |||||||||
|
To the developers/maintainers of the scGraphVerse package: - Allow up to 24 hours (and sometimes 48 hours) for your latest push to git@git.bioconductor.org:packages/scGraphVerse.git to reflect on this report. See Troubleshooting Build Report for more information. - Use the following Renviron settings to reproduce errors and warnings. - If 'R CMD check' started to fail recently on the Linux builder(s) over a missing dependency, add the missing dependency to 'Suggests:' in your DESCRIPTION file. See Renviron.bioc for more information. |
| Package: scGraphVerse |
| Version: 1.1.0 |
| Command: /Library/Frameworks/R.framework/Resources/bin/R CMD check --install=check:scGraphVerse.install-out.txt --library=/Library/Frameworks/R.framework/Resources/library --no-vignettes --timings scGraphVerse_1.1.0.tar.gz |
| StartedAt: 2025-11-18 22:26:43 -0500 (Tue, 18 Nov 2025) |
| EndedAt: 2025-11-18 22:35:00 -0500 (Tue, 18 Nov 2025) |
| EllapsedTime: 496.8 seconds |
| RetCode: 0 |
| Status: OK |
| CheckDir: scGraphVerse.Rcheck |
| Warnings: 0 |
##############################################################################
##############################################################################
###
### Running command:
###
### /Library/Frameworks/R.framework/Resources/bin/R CMD check --install=check:scGraphVerse.install-out.txt --library=/Library/Frameworks/R.framework/Resources/library --no-vignettes --timings scGraphVerse_1.1.0.tar.gz
###
##############################################################################
##############################################################################
* using log directory ‘/Users/biocbuild/bbs-3.23-bioc/meat/scGraphVerse.Rcheck’
* using R Under development (unstable) (2025-11-04 r88984)
* using platform: aarch64-apple-darwin20
* R was compiled by
Apple clang version 16.0.0 (clang-1600.0.26.6)
GNU Fortran (GCC) 14.2.0
* running under: macOS Ventura 13.7.8
* using session charset: UTF-8
* using option ‘--no-vignettes’
* checking for file ‘scGraphVerse/DESCRIPTION’ ... OK
* this is package ‘scGraphVerse’ version ‘1.1.0’
* package encoding: UTF-8
* checking package namespace information ... OK
* checking package dependencies ... INFO
Imports includes 21 non-default packages.
Importing from so many packages makes the package vulnerable to any of
them becoming unavailable. Move as many as possible to Suggests and
use conditionally.
* checking if this is a source package ... OK
* checking if there is a namespace ... OK
* checking for hidden files and directories ... OK
* checking for portable file names ... OK
* checking for sufficient/correct file permissions ... OK
* checking whether package ‘scGraphVerse’ can be installed ... OK
* used C compiler: ‘Apple clang version 15.0.0 (clang-1500.1.0.2.5)’
* used SDK: ‘MacOSX11.3.1.sdk’
* checking installed package size ... OK
* checking package directory ... OK
* checking ‘build’ directory ... OK
* checking DESCRIPTION meta-information ... OK
* checking top-level files ... OK
* checking for left-over files ... OK
* checking index information ... OK
* checking package subdirectories ... OK
* checking code files for non-ASCII characters ... OK
* checking R files for syntax errors ... OK
* checking whether the package can be loaded ... OK
* checking whether the package can be loaded with stated dependencies ... OK
* checking whether the package can be unloaded cleanly ... OK
* checking whether the namespace can be loaded with stated dependencies ... OK
* checking whether the namespace can be unloaded cleanly ... OK
* checking dependencies in R code ... OK
* checking S3 generic/method consistency ... OK
* checking replacement functions ... OK
* checking foreign function calls ... OK
* checking R code for possible problems ... OK
* checking Rd files ... OK
* checking Rd metadata ... OK
* checking Rd cross-references ... NOTE
Found the following Rd file(s) with Rd \link{} targets missing package
anchors:
classify_edges.Rd: SummarizedExperiment-class
community_path.Rd: SummarizedExperiment-class
compare_consensus.Rd: SummarizedExperiment-class
create_consensus.Rd: SummarizedExperiment-class
cutoff_adjacency.Rd: MultiAssayExperiment-class,
SummarizedExperiment-class
earlyj.Rd: MultiAssayExperiment-class
edge_mining.Rd: SummarizedExperiment-class
generate_adjacency.Rd: SummarizedExperiment-class
infer_networks.Rd: MultiAssayExperiment-class
plotROC.Rd: SummarizedExperiment-class
plotg.Rd: SummarizedExperiment-class
pscores.Rd: SummarizedExperiment-class
selgene.Rd: SingleCellExperiment-class
symmetrize.Rd: SummarizedExperiment-class
toy_counts.Rd: MultiAssayExperiment-class
Please provide package anchors for all Rd \link{} targets not in the
package itself and the base packages.
* checking for missing documentation entries ... OK
* checking for code/documentation mismatches ... OK
* checking Rd \usage sections ... OK
* checking Rd contents ... OK
* checking for unstated dependencies in examples ... OK
* checking contents of ‘data’ directory ... OK
* checking data for non-ASCII characters ... OK
* checking data for ASCII and uncompressed saves ... OK
* checking line endings in C/C++/Fortran sources/headers ... OK
* checking compiled code ... INFO
Note: information on .o files is not available
* checking files in ‘vignettes’ ... OK
* checking examples ... OK
Examples with CPU (user + system) or elapsed time > 5s
user system elapsed
stringdb_adjacency 25.145 0.607 51.669
community_similarity 14.388 0.377 22.934
compute_community_metrics 13.866 0.275 21.330
edge_mining 13.674 0.404 21.736
compute_topology_metrics 13.681 0.273 21.015
plot_community_comparison 13.460 0.368 21.673
community_path 13.397 0.292 22.104
create_consensus 11.827 0.131 12.447
plotg 11.727 0.161 12.344
compare_consensus 11.638 0.120 12.240
pscores 11.507 0.178 12.043
plot_network_comparison 11.374 0.143 11.856
cutoff_adjacency 11.165 0.162 11.727
classify_edges 10.175 0.064 10.499
symmetrize 5.269 0.268 5.793
* checking for unstated dependencies in ‘tests’ ... OK
* checking tests ...
Running ‘testthat.R’
OK
* checking for unstated dependencies in vignettes ... OK
* checking package vignettes ... OK
* checking running R code from vignettes ... SKIPPED
* checking re-building of vignette outputs ... SKIPPED
* checking PDF version of manual ... OK
* DONE
Status: 1 NOTE
See
‘/Users/biocbuild/bbs-3.23-bioc/meat/scGraphVerse.Rcheck/00check.log’
for details.
scGraphVerse.Rcheck/00install.out
##############################################################################
##############################################################################
###
### Running command:
###
### /Library/Frameworks/R.framework/Resources/bin/R CMD INSTALL scGraphVerse
###
##############################################################################
##############################################################################
* installing to library ‘/Library/Frameworks/R.framework/Versions/4.6-arm64/Resources/library’
* installing *source* package ‘scGraphVerse’ ...
** this is package ‘scGraphVerse’ version ‘1.1.0’
** using staged installation
** libs
using C compiler: ‘Apple clang version 15.0.0 (clang-1500.1.0.2.5)’
using SDK: ‘MacOSX11.3.1.sdk’
clang -arch arm64 -std=gnu2x -I"/Library/Frameworks/R.framework/Resources/include" -DNDEBUG -I/opt/R/arm64/include -fPIC -falign-functions=64 -Wall -g -O2 -c init.c -o init.o
clang -arch arm64 -std=gnu2x -I"/Library/Frameworks/R.framework/Resources/include" -DNDEBUG -I/opt/R/arm64/include -fPIC -falign-functions=64 -Wall -g -O2 -c regTree.c -o regTree.o
regTree.c:232:15: warning: variable 'lc' set but not used [-Wunused-but-set-variable]
int last, lc, nl, nr, npopl, npopr;
^
regTree.c:418:19: warning: unused variable 'cbestsplit' [-Wunused-variable]
int i, k, m, *cbestsplit, s;
^
2 warnings generated.
clang -arch arm64 -std=gnu2x -I"/Library/Frameworks/R.framework/Resources/include" -DNDEBUG -I/opt/R/arm64/include -fPIC -falign-functions=64 -Wall -g -O2 -c regrf.c -o regrf.o
regrf.c:62:12: warning: unused variable 'errts' [-Wunused-variable]
double errts = 0.0, averrb, *meanYts, *varYts, r, *xrand,
^
regrf.c:62:25: warning: variable 'averrb' set but not used [-Wunused-but-set-variable]
double errts = 0.0, averrb, *meanYts, *varYts, r, *xrand,
^
regrf.c:62:53: warning: unused variable 'r' [-Wunused-variable]
double errts = 0.0, averrb, *meanYts, *varYts, r, *xrand,
^
regrf.c:63:5: warning: variable 'errb' set but not used [-Wunused-but-set-variable]
*errb, resid=0.0, *ooberr, ooberrperm, delta, *resOOB;
^
regrf.c:63:11: warning: unused variable 'resid' [-Wunused-variable]
*errb, resid=0.0, *ooberr, ooberrperm, delta, *resOOB;
^
regrf.c:63:23: warning: variable 'ooberr' set but not used [-Wunused-but-set-variable]
*errb, resid=0.0, *ooberr, ooberrperm, delta, *resOOB;
^
regrf.c:63:31: warning: unused variable 'ooberrperm' [-Wunused-variable]
*errb, resid=0.0, *ooberr, ooberrperm, delta, *resOOB;
^
regrf.c:63:43: warning: unused variable 'delta' [-Wunused-variable]
*errb, resid=0.0, *ooberr, ooberrperm, delta, *resOOB;
^
regrf.c:63:51: warning: variable 'resOOB' set but not used [-Wunused-but-set-variable]
*errb, resid=0.0, *ooberr, ooberrperm, delta, *resOOB;
^
regrf.c:65:18: warning: variable 'xtmp' set but not used [-Wunused-but-set-variable]
double *yb, *xtmp, *xb, *ytr, *ytree, *tgini, *meanY, *varY, *ww;
^
regrf.c:65:30: warning: variable 'ytr' set but not used [-Wunused-but-set-variable]
double *yb, *xtmp, *xb, *ytr, *ytree, *tgini, *meanY, *varY, *ww;
^
regrf.c:65:36: warning: unused variable 'ytree' [-Wunused-variable]
double *yb, *xtmp, *xb, *ytr, *ytree, *tgini, *meanY, *varY, *ww;
^
regrf.c:67:15: warning: unused variable 'mr' [-Wunused-variable]
int k, m, mr, n, nOOB, j, jout, idx, ntest, last, ktmp, nPerm,
^
regrf.c:67:22: warning: unused variable 'nOOB' [-Wunused-variable]
int k, m, mr, n, nOOB, j, jout, idx, ntest, last, ktmp, nPerm,
^
regrf.c:67:31: warning: unused variable 'jout' [-Wunused-variable]
int k, m, mr, n, nOOB, j, jout, idx, ntest, last, ktmp, nPerm,
^
regrf.c:67:61: warning: variable 'nPerm' set but not used [-Wunused-but-set-variable]
int k, m, mr, n, nOOB, j, jout, idx, ntest, last, ktmp, nPerm,
^
regrf.c:69:10: warning: variable 'oobpair' set but not used [-Wunused-but-set-variable]
int *oobpair, varImp, localImp, *varUsed, kk;
^
regrf.c:71:22: warning: variable 'nodex' set but not used [-Wunused-but-set-variable]
int *in, *nind, *nodex, *nodexts;
^
regrf.c:71:30: warning: unused variable 'nodexts' [-Wunused-variable]
int *in, *nind, *nodex, *nodexts;
^
19 warnings generated.
clang -arch arm64 -std=gnu2x -dynamiclib -Wl,-headerpad_max_install_names -undefined dynamic_lookup -L/Library/Frameworks/R.framework/Resources/lib -L/opt/R/arm64/lib -o scGraphVerse.so init.o regTree.o regrf.o -F/Library/Frameworks/R.framework/.. -framework R
installing to /Library/Frameworks/R.framework/Versions/4.6-arm64/Resources/library/00LOCK-scGraphVerse/00new/scGraphVerse/libs
** R
** data
** inst
** byte-compile and prepare package for lazy loading
** help
*** installing help indices
*** copying figures
** building package indices
** installing vignettes
** testing if installed package can be loaded from temporary location
** checking absolute paths in shared objects and dynamic libraries
** testing if installed package can be loaded from final location
** testing if installed package keeps a record of temporary installation path
* DONE (scGraphVerse)
scGraphVerse.Rcheck/tests/testthat.Rout
R Under development (unstable) (2025-11-04 r88984) -- "Unsuffered Consequences"
Copyright (C) 2025 The R Foundation for Statistical Computing
Platform: aarch64-apple-darwin20
R is free software and comes with ABSOLUTELY NO WARRANTY.
You are welcome to redistribute it under certain conditions.
Type 'license()' or 'licence()' for distribution details.
R is a collaborative project with many contributors.
Type 'contributors()' for more information and
'citation()' on how to cite R or R packages in publications.
Type 'demo()' for some demos, 'help()' for on-line help, or
'help.start()' for an HTML browser interface to help.
Type 'q()' to quit R.
> library(testthat)
> library(scGraphVerse)
>
> test_check("scGraphVerse")
[ FAIL 0 | WARN 3237 | SKIP 8 | PASS 495 ]
══ Skipped tests (8) ═══════════════════════════════════════════════════════════
• Complex internal function tested via cutoff_adjacency (1):
'test-utilities.R:288:5'
• KEGG requires internet and annotation packages (1):
'test-community-topology.R:228:5'
• Reactome requires internet and annotation packages (1):
'test-community-topology.R:245:5'
• Seurat object creation requires full Seurat setup (1):
'test-network-inference.R:749:5'
• Seurat objects require actual Seurat setup (1): 'test-utilities.R:198:5'
• robinCompare parameter compatibility varies by version (2):
'test-community-topology.R:160:5', 'test-community-topology.R:263:5'
• spinglass can be slow and unstable in tests (1):
'test-community-topology.R:383:5'
[ FAIL 0 | WARN 3237 | SKIP 8 | PASS 495 ]
>
> proc.time()
user system elapsed
99.446 2.591 107.588
scGraphVerse.Rcheck/scGraphVerse-Ex.timings
| name | user | system | elapsed | |
| PCzinb | 0.330 | 0.008 | 0.368 | |
| build_network_se | 3.914 | 0.031 | 4.059 | |
| classify_edges | 10.175 | 0.064 | 10.499 | |
| community_path | 13.397 | 0.292 | 22.104 | |
| community_similarity | 14.388 | 0.377 | 22.934 | |
| compare_consensus | 11.638 | 0.120 | 12.240 | |
| compute_community_metrics | 13.866 | 0.275 | 21.330 | |
| compute_topology_metrics | 13.681 | 0.273 | 21.015 | |
| create_consensus | 11.827 | 0.131 | 12.447 | |
| create_mae | 0.084 | 0.003 | 0.091 | |
| cutoff_adjacency | 11.165 | 0.162 | 11.727 | |
| download_Atlas | 0.021 | 0.005 | 2.591 | |
| earlyj | 0.068 | 0.001 | 0.071 | |
| edge_mining | 13.674 | 0.404 | 21.736 | |
| generate_adjacency | 3.943 | 0.280 | 4.296 | |
| infer_networks | 3.557 | 0.075 | 3.698 | |
| init_py | 0.372 | 0.107 | 0.492 | |
| plotROC | 4.647 | 0.087 | 4.613 | |
| plot_community_comparison | 13.460 | 0.368 | 21.673 | |
| plot_network_comparison | 11.374 | 0.143 | 11.856 | |
| plotg | 11.727 | 0.161 | 12.344 | |
| pscores | 11.507 | 0.178 | 12.043 | |
| selgene | 0.007 | 0.005 | 0.013 | |
| stringdb_adjacency | 25.145 | 0.607 | 51.669 | |
| symmetrize | 5.269 | 0.268 | 5.793 | |
| toy_adj_matrix | 0.002 | 0.002 | 0.004 | |
| toy_counts | 3.787 | 0.162 | 4.054 | |
| zinb_simdata | 0.004 | 0.002 | 0.006 | |