| Back to Multiple platform build/check report for BioC 3.23: simplified long |
|
This page was generated on 2025-11-19 10:13 -0500 (Wed, 19 Nov 2025).
| Hostname | OS | Arch (*) | R version | Installed pkgs |
|---|---|---|---|---|
| nebbiolo1 | Linux (Ubuntu 24.04.3 LTS) | x86_64 | R Under development (unstable) (2025-10-20 r88955) -- "Unsuffered Consequences" | 4827 |
| lconway | macOS 12.7.6 Monterey | x86_64 | R Under development (unstable) (2025-10-21 r88958) -- "Unsuffered Consequences" | 4600 |
| kjohnson3 | macOS 13.7.7 Ventura | arm64 | R Under development (unstable) (2025-11-04 r88984) -- "Unsuffered Consequences" | 4564 |
| Click on any hostname to see more info about the system (e.g. compilers) (*) as reported by 'uname -p', except on Windows and Mac OS X | ||||
| Package 1901/2325 | Hostname | OS / Arch | INSTALL | BUILD | CHECK | BUILD BIN | ||||||||
| scider 1.9.0 (landing page) Yunshun Chen
| nebbiolo1 | Linux (Ubuntu 24.04.3 LTS) / x86_64 | OK | OK | OK | |||||||||
| lconway | macOS 12.7.6 Monterey / x86_64 | OK | OK | OK | OK | |||||||||
| kjohnson3 | macOS 13.7.7 Ventura / arm64 | OK | OK | OK | OK | |||||||||
|
To the developers/maintainers of the scider package: - Allow up to 24 hours (and sometimes 48 hours) for your latest push to git@git.bioconductor.org:packages/scider.git to reflect on this report. See Troubleshooting Build Report for more information. - Use the following Renviron settings to reproduce errors and warnings. - If 'R CMD check' started to fail recently on the Linux builder(s) over a missing dependency, add the missing dependency to 'Suggests:' in your DESCRIPTION file. See Renviron.bioc for more information. |
| Package: scider |
| Version: 1.9.0 |
| Command: /Library/Frameworks/R.framework/Resources/bin/R CMD check --install=check:scider.install-out.txt --library=/Library/Frameworks/R.framework/Resources/library --no-vignettes --timings scider_1.9.0.tar.gz |
| StartedAt: 2025-11-18 23:52:52 -0500 (Tue, 18 Nov 2025) |
| EndedAt: 2025-11-18 23:59:38 -0500 (Tue, 18 Nov 2025) |
| EllapsedTime: 406.0 seconds |
| RetCode: 0 |
| Status: OK |
| CheckDir: scider.Rcheck |
| Warnings: 0 |
##############################################################################
##############################################################################
###
### Running command:
###
### /Library/Frameworks/R.framework/Resources/bin/R CMD check --install=check:scider.install-out.txt --library=/Library/Frameworks/R.framework/Resources/library --no-vignettes --timings scider_1.9.0.tar.gz
###
##############################################################################
##############################################################################
* using log directory ‘/Users/biocbuild/bbs-3.23-bioc/meat/scider.Rcheck’
* using R Under development (unstable) (2025-10-21 r88958)
* using platform: x86_64-apple-darwin20
* R was compiled by
Apple clang version 14.0.0 (clang-1400.0.29.202)
GNU Fortran (GCC) 14.2.0
* running under: macOS Ventura 13.7.8
* using session charset: UTF-8
* using option ‘--no-vignettes’
* checking for file ‘scider/DESCRIPTION’ ... OK
* checking extension type ... Package
* this is package ‘scider’ version ‘1.9.0’
* package encoding: UTF-8
* checking package namespace information ... OK
* checking package dependencies ... INFO
Imports includes 23 non-default packages.
Importing from so many packages makes the package vulnerable to any of
them becoming unavailable. Move as many as possible to Suggests and
use conditionally.
* checking if this is a source package ... OK
* checking if there is a namespace ... OK
* checking for hidden files and directories ... OK
* checking for portable file names ... OK
* checking for sufficient/correct file permissions ... OK
* checking whether package ‘scider’ can be installed ... OK
* used C++ compiler: ‘Apple clang version 14.0.3 (clang-1403.0.22.14.1)’
* used SDK: ‘MacOSX11.3.1.sdk’
* checking installed package size ... OK
* checking package directory ... OK
* checking ‘build’ directory ... OK
* checking DESCRIPTION meta-information ... OK
* checking top-level files ... OK
* checking for left-over files ... OK
* checking index information ... OK
* checking package subdirectories ... OK
* checking code files for non-ASCII characters ... OK
* checking R files for syntax errors ... OK
* checking whether the package can be loaded ... OK
* checking whether the package can be loaded with stated dependencies ... OK
* checking whether the package can be unloaded cleanly ... OK
* checking whether the namespace can be loaded with stated dependencies ... OK
* checking whether the namespace can be unloaded cleanly ... OK
* checking dependencies in R code ... OK
* checking S3 generic/method consistency ... OK
* checking replacement functions ... OK
* checking foreign function calls ... OK
* checking R code for possible problems ... OK
* checking Rd files ... OK
* checking Rd metadata ... OK
* checking Rd cross-references ... OK
* checking for missing documentation entries ... OK
* checking for code/documentation mismatches ... OK
* checking Rd \usage sections ... OK
* checking Rd contents ... OK
* checking for unstated dependencies in examples ... OK
* checking contents of ‘data’ directory ... OK
* checking data for non-ASCII characters ... OK
* checking data for ASCII and uncompressed saves ... OK
* checking line endings in C/C++/Fortran sources/headers ... OK
* checking compiled code ... INFO
Note: information on .o files is not available
* checking files in ‘vignettes’ ... OK
* checking examples ... OK
Examples with CPU (user + system) or elapsed time > 5s
user system elapsed
plotDR 38.827 0.942 27.387
runUMAP 31.877 0.367 28.700
getClusters 15.192 0.371 13.914
findNbrsSNN 10.979 0.166 9.482
runPCA 6.654 0.093 6.806
* checking for unstated dependencies in ‘tests’ ... OK
* checking tests ...
Running ‘testthat.R’
OK
* checking for unstated dependencies in vignettes ... OK
* checking package vignettes ... OK
* checking running R code from vignettes ... SKIPPED
* checking re-building of vignette outputs ... SKIPPED
* checking PDF version of manual ... OK
* DONE
Status: OK
scider.Rcheck/00install.out
############################################################################## ############################################################################## ### ### Running command: ### ### /Library/Frameworks/R.framework/Resources/bin/R CMD INSTALL scider ### ############################################################################## ############################################################################## * installing to library ‘/Library/Frameworks/R.framework/Versions/4.6-x86_64/Resources/library’ * installing *source* package ‘scider’ ... ** this is package ‘scider’ version ‘1.9.0’ ** using staged installation ** libs using C++ compiler: ‘Apple clang version 14.0.3 (clang-1403.0.22.14.1)’ using SDK: ‘MacOSX11.3.1.sdk’ clang++ -arch x86_64 -std=gnu++17 -I"/Library/Frameworks/R.framework/Resources/include" -DNDEBUG -I/opt/R/x86_64/include -fPIC -falign-functions=64 -Wall -g -O2 -c C_findSNN.cpp -o C_findSNN.o clang++ -arch x86_64 -std=gnu++17 -I"/Library/Frameworks/R.framework/Resources/include" -DNDEBUG -I/opt/R/x86_64/include -fPIC -falign-functions=64 -Wall -g -O2 -c C_globalMoran.cpp -o C_globalMoran.o clang++ -arch x86_64 -std=gnu++17 -I"/Library/Frameworks/R.framework/Resources/include" -DNDEBUG -I/opt/R/x86_64/include -fPIC -falign-functions=64 -Wall -g -O2 -c C_localMoran.cpp -o C_localMoran.o clang++ -arch x86_64 -std=gnu++17 -I"/Library/Frameworks/R.framework/Resources/include" -DNDEBUG -I/opt/R/x86_64/include -fPIC -falign-functions=64 -Wall -g -O2 -c utils.cpp -o utils.o clang++ -arch x86_64 -std=gnu++17 -dynamiclib -Wl,-headerpad_max_install_names -undefined dynamic_lookup -L/Library/Frameworks/R.framework/Resources/lib -L/opt/R/x86_64/lib -o scider.so C_findSNN.o C_globalMoran.o C_localMoran.o utils.o -F/Library/Frameworks/R.framework/.. -framework R installing to /Library/Frameworks/R.framework/Versions/4.6-x86_64/Resources/library/00LOCK-scider/00new/scider/libs ** R ** data ** byte-compile and prepare package for lazy loading ** help *** installing help indices *** copying figures ** building package indices ** installing vignettes ** testing if installed package can be loaded from temporary location ** checking absolute paths in shared objects and dynamic libraries ** testing if installed package can be loaded from final location ** testing if installed package keeps a record of temporary installation path * DONE (scider)
scider.Rcheck/tests/testthat.Rout
R Under development (unstable) (2025-10-21 r88958) -- "Unsuffered Consequences"
Copyright (C) 2025 The R Foundation for Statistical Computing
Platform: x86_64-apple-darwin20
R is free software and comes with ABSOLUTELY NO WARRANTY.
You are welcome to redistribute it under certain conditions.
Type 'license()' or 'licence()' for distribution details.
R is a collaborative project with many contributors.
Type 'contributors()' for more information and
'citation()' on how to cite R or R packages in publications.
Type 'demo()' for some demos, 'help()' for on-line help, or
'help.start()' for an HTML browser interface to help.
Type 'q()' to quit R.
> # This file is part of the standard setup for testthat.
> # It is recommended that you do not modify it.
> #
> # Where should you do additional test configuration?
> # Learn more about the roles of various files in:
> # * https://r-pkgs.org/testing-design.html#sec-tests-files-overview
> # * https://testthat.r-lib.org/articles/special-files.html
>
> library(testthat)
> library(scider)
>
> test_check("scider")
Assigning cells to ROIs defined by Breast cancer
No contour detected. Proceed without contour.
Using bins = 10 to draw contours with equal cell numbers.
Assigning cells to ROIs defined by Breast cancer
Assigning cells to contour levels of Breast cancer
Linking to GEOS 3.13.0, GDAL 3.8.5, PROJ 9.5.1; sf_use_s2() is TRUE
Using bins = 10 to draw contours with equal cell numbers.
cell_typess is not a column of the colData. Skipping cell_typess
Using bins = 10 to draw contours with equal cell numbers.
Assigning cells to ROIs defined by Breast cancer fibroblasts
Assigning cells to contour levels of Breast cancer
Using bins = 10 to draw contours with equal cell numbers.
Assigning cells to ROIs defined by Breast cancer
No contour detected. Proceed without contour.
[ FAIL 0 | WARN 0 | SKIP 0 | PASS 71 ]
>
> proc.time()
user system elapsed
37.974 2.084 40.532
scider.Rcheck/scider-Ex.timings
| name | user | system | elapsed | |
| allocateCells | 4.594 | 0.200 | 4.829 | |
| corDensity | 1.294 | 0.100 | 1.404 | |
| findNbrsGrid | 1.001 | 0.105 | 1.115 | |
| findNbrsSNN | 10.979 | 0.166 | 9.482 | |
| findNbrsSpatial | 0.279 | 0.008 | 0.207 | |
| findROI | 0.840 | 0.048 | 0.893 | |
| getClusters | 15.192 | 0.371 | 13.914 | |
| getContour | 1.640 | 0.098 | 1.773 | |
| getNiche | 0.470 | 0.018 | 0.397 | |
| globalMoran | 1.553 | 0.095 | 0.937 | |
| gridDensity | 0.796 | 0.075 | 0.892 | |
| gridSPE | 2.779 | 0.302 | 3.113 | |
| localMoran | 4.008 | 0.065 | 1.374 | |
| mergeROI | 1.567 | 0.122 | 1.705 | |
| normalizeAssay | 0.325 | 0.012 | 0.340 | |
| plotCellCompo | 2.990 | 0.116 | 3.132 | |
| plotContour | 1.549 | 0.074 | 1.636 | |
| plotCorHeatmap | 1.305 | 0.039 | 1.354 | |
| plotDR | 38.827 | 0.942 | 27.387 | |
| plotDensCor | 4.455 | 0.073 | 4.561 | |
| plotDensity | 1.726 | 0.078 | 1.815 | |
| plotGrid | 1.348 | 0.075 | 1.435 | |
| plotLISA | 2.259 | 0.085 | 1.552 | |
| plotROI | 1.617 | 0.041 | 1.667 | |
| plotSpatial | 0.654 | 0.017 | 0.674 | |
| postSelRegion | 0.813 | 0.039 | 0.855 | |
| runPCA | 6.654 | 0.093 | 6.806 | |
| runUMAP | 31.877 | 0.367 | 28.700 | |
| selectRegion | 0.158 | 0.003 | 0.163 | |
| spe2PB | 1.647 | 0.104 | 1.765 | |
| xenium_bc_spe | 0.105 | 0.003 | 0.111 | |