Back to Multiple platform build/check report for BioC 3.23:   simplified   long
ABCDEFGHIJKLMNOPQR[S]TUVWXYZ

This page was generated on 2025-11-19 10:13 -0500 (Wed, 19 Nov 2025).

HostnameOSArch (*)R versionInstalled pkgs
nebbiolo1Linux (Ubuntu 24.04.3 LTS)x86_64R Under development (unstable) (2025-10-20 r88955) -- "Unsuffered Consequences" 4827
lconwaymacOS 12.7.6 Montereyx86_64R Under development (unstable) (2025-10-21 r88958) -- "Unsuffered Consequences" 4600
kjohnson3macOS 13.7.7 Venturaarm64R Under development (unstable) (2025-11-04 r88984) -- "Unsuffered Consequences" 4564
Click on any hostname to see more info about the system (e.g. compilers)      (*) as reported by 'uname -p', except on Windows and Mac OS X

Package 1956/2325HostnameOS / ArchINSTALLBUILDCHECKBUILD BIN
seqsetvis 1.31.0  (landing page)
Joseph R Boyd
Snapshot Date: 2025-11-18 13:40 -0500 (Tue, 18 Nov 2025)
git_url: https://git.bioconductor.org/packages/seqsetvis
git_branch: devel
git_last_commit: 1aad17d
git_last_commit_date: 2025-10-29 10:44:19 -0500 (Wed, 29 Oct 2025)
nebbiolo1Linux (Ubuntu 24.04.3 LTS) / x86_64  OK    OK    OK  UNNEEDED, same version is already published
lconwaymacOS 12.7.6 Monterey / x86_64  OK    OK    OK    OK  NO, package depends on 'GenomicAlignments' which is only available as a source package that needs compilation
kjohnson3macOS 13.7.7 Ventura / arm64  OK    OK    OK    OK  NO, package depends on 'GenomicAlignments' which is only available as a source package that needs compilation


CHECK results for seqsetvis on lconway

To the developers/maintainers of the seqsetvis package:
- Allow up to 24 hours (and sometimes 48 hours) for your latest push to git@git.bioconductor.org:packages/seqsetvis.git to reflect on this report. See Troubleshooting Build Report for more information.
- Use the following Renviron settings to reproduce errors and warnings.
- If 'R CMD check' started to fail recently on the Linux builder(s) over a missing dependency, add the missing dependency to 'Suggests:' in your DESCRIPTION file. See Renviron.bioc for more information.

raw results


Summary

Package: seqsetvis
Version: 1.31.0
Command: /Library/Frameworks/R.framework/Resources/bin/R CMD check --install=check:seqsetvis.install-out.txt --library=/Library/Frameworks/R.framework/Resources/library --no-vignettes --timings seqsetvis_1.31.0.tar.gz
StartedAt: 2025-11-19 00:03:19 -0500 (Wed, 19 Nov 2025)
EndedAt: 2025-11-19 00:15:15 -0500 (Wed, 19 Nov 2025)
EllapsedTime: 716.3 seconds
RetCode: 0
Status:   OK  
CheckDir: seqsetvis.Rcheck
Warnings: 0

Command output

##############################################################################
##############################################################################
###
### Running command:
###
###   /Library/Frameworks/R.framework/Resources/bin/R CMD check --install=check:seqsetvis.install-out.txt --library=/Library/Frameworks/R.framework/Resources/library --no-vignettes --timings seqsetvis_1.31.0.tar.gz
###
##############################################################################
##############################################################################


* using log directory ‘/Users/biocbuild/bbs-3.23-bioc/meat/seqsetvis.Rcheck’
* using R Under development (unstable) (2025-10-21 r88958)
* using platform: x86_64-apple-darwin20
* R was compiled by
    Apple clang version 14.0.0 (clang-1400.0.29.202)
    GNU Fortran (GCC) 14.2.0
* running under: macOS Ventura 13.7.8
* using session charset: UTF-8
* using option ‘--no-vignettes’
* checking for file ‘seqsetvis/DESCRIPTION’ ... OK
* checking extension type ... Package
* this is package ‘seqsetvis’ version ‘1.31.0’
* package encoding: UTF-8
* checking package namespace information ... OK
* checking package dependencies ... OK
* checking if this is a source package ... OK
* checking if there is a namespace ... OK
* checking for hidden files and directories ... OK
* checking for portable file names ... OK
* checking for sufficient/correct file permissions ... OK
* checking whether package ‘seqsetvis’ can be installed ... OK
* checking installed package size ... OK
* checking package directory ... OK
* checking ‘build’ directory ... OK
* checking DESCRIPTION meta-information ... OK
* checking top-level files ... OK
* checking for left-over files ... OK
* checking index information ... OK
* checking package subdirectories ... OK
* checking code files for non-ASCII characters ... OK
* checking R files for syntax errors ... OK
* checking whether the package can be loaded ... OK
* checking whether the package can be loaded with stated dependencies ... OK
* checking whether the package can be unloaded cleanly ... OK
* checking whether the namespace can be loaded with stated dependencies ... OK
* checking whether the namespace can be unloaded cleanly ... OK
* checking dependencies in R code ... OK
* checking S3 generic/method consistency ... OK
* checking replacement functions ... OK
* checking foreign function calls ... OK
* checking R code for possible problems ... OK
* checking Rd files ... OK
* checking Rd metadata ... OK
* checking Rd cross-references ... OK
* checking for missing documentation entries ... OK
* checking for code/documentation mismatches ... OK
* checking Rd \usage sections ... OK
* checking Rd contents ... OK
* checking for unstated dependencies in examples ... OK
* checking contents of ‘data’ directory ... OK
* checking data for non-ASCII characters ... OK
* checking data for ASCII and uncompressed saves ... OK
* checking files in ‘vignettes’ ... OK
* checking examples ... OK
Examples with CPU (user + system) or elapsed time > 5s
                              user system elapsed
ssvFeatureBinaryHeatmap      7.404  0.700   8.484
ssvFetchBam                  6.826  0.345   7.283
ssvSignalBandedQuantiles     5.200  0.146   5.426
ssvSignalHeatmap             5.186  0.132   5.405
ssvSignalHeatmap.ClusterBars 5.117  0.085   5.275
* checking for unstated dependencies in ‘tests’ ... OK
* checking tests ...
  Running ‘testthat.R’
 OK
* checking for unstated dependencies in vignettes ... OK
* checking package vignettes ... OK
* checking running R code from vignettes ... SKIPPED
* checking re-building of vignette outputs ... SKIPPED
* checking PDF version of manual ... OK
* DONE

Status: OK


Installation output

seqsetvis.Rcheck/00install.out

##############################################################################
##############################################################################
###
### Running command:
###
###   /Library/Frameworks/R.framework/Resources/bin/R CMD INSTALL seqsetvis
###
##############################################################################
##############################################################################


* installing to library ‘/Library/Frameworks/R.framework/Versions/4.6-x86_64/Resources/library’
* installing *source* package ‘seqsetvis’ ...
** this is package ‘seqsetvis’ version ‘1.31.0’
** using staged installation
** R
** data
** inst
** byte-compile and prepare package for lazy loading
** help
*** installing help indices
** building package indices
** installing vignettes
** testing if installed package can be loaded from temporary location
** testing if installed package can be loaded from final location
** testing if installed package keeps a record of temporary installation path
* DONE (seqsetvis)

Tests output

seqsetvis.Rcheck/tests/testthat.Rout


R Under development (unstable) (2025-10-21 r88958) -- "Unsuffered Consequences"
Copyright (C) 2025 The R Foundation for Statistical Computing
Platform: x86_64-apple-darwin20

R is free software and comes with ABSOLUTELY NO WARRANTY.
You are welcome to redistribute it under certain conditions.
Type 'license()' or 'licence()' for distribution details.

R is a collaborative project with many contributors.
Type 'contributors()' for more information and
'citation()' on how to cite R or R packages in publications.

Type 'demo()' for some demos, 'help()' for on-line help, or
'help.start()' for an HTML browser interface to help.
Type 'q()' to quit R.

> 
> ## load dependencies
> library(testthat)
> library(seqsetvis)
Loading required package: ggplot2
> library(data.table)
> 
> ## test package
> test_check(package = "seqsetvis")
[ FAIL 0 | WARN 3 | SKIP 0 | PASS 1291 ]

[ FAIL 0 | WARN 3 | SKIP 0 | PASS 1291 ]
> 
> proc.time()
   user  system elapsed 
301.094   7.672 326.015 

Example timings

seqsetvis.Rcheck/seqsetvis-Ex.timings

nameusersystemelapsed
add_cluster_annotation3.6490.1183.838
append_ynorm0.0490.0050.055
applyMovingAverage0.9510.0181.007
applySpline0.4830.0120.560
assemble_heatmap_cluster_bars1.0040.0181.039
calc_norm_factors0.0240.0030.027
centerAtMax0.2530.0080.263
centerFixedSizeGRanges0.1720.0100.188
centerGRangesAtMax0.5160.0160.534
clusteringKmeans0.0710.0070.078
clusteringKmeansNestedHclust0.0370.0060.044
col2hex0.0010.0000.002
collapse_gr0.8290.0220.864
convert_collapsed_coord0.2640.0130.280
copy_clust_info1.7730.0251.817
crossCorrByRle0.4870.0160.614
easyLoad_FUN0.0520.0010.078
easyLoad_IDRmerged0.0470.0020.070
easyLoad_bed0.1300.0020.134
easyLoad_broadPeak0.0440.0020.067
easyLoad_narrowPeak0.0420.0010.065
easyLoad_seacr0.0450.0020.068
expandCigar0.1630.0190.248
findMaxPos0.0290.0070.037
fragLen_calcStranded1.8430.0471.934
fragLen_fromMacs2Xls0.0020.0010.024
getReadLength0.0540.0060.060
get_mapped_reads0.0100.0020.012
ggellipse0.9170.0131.000
harmonize_seqlengths0.1470.0120.162
make_clustering_matrix0.0720.0030.075
merge_clusters4.4110.0744.589
prepare_fetch_GRanges0.0390.0020.042
prepare_fetch_GRanges_names0.1010.0050.106
prepare_fetch_GRanges_width0.0390.0030.043
quantileGRangesWidth0.0030.0010.004
reorder_clusters_hclust2.5740.1102.822
reorder_clusters_manual1.2780.0191.333
reorder_clusters_stepdown3.5160.0793.694
reverse_clusters2.6650.0332.731
safeBrew0.0240.0030.100
split_cluster2.3820.0422.464
ssvAnnotateSubjectGRanges1.1210.0641.210
ssvConsensusIntervalSets0.3890.0150.409
ssvFactorizeMembTable0.0160.0040.020
ssvFeatureBars1.0090.0141.043
ssvFeatureBinaryHeatmap7.4040.7008.484
ssvFeatureEuler0.9890.0401.099
ssvFeaturePie0.7710.0140.852
ssvFeatureUpset3.6890.0573.853
ssvFeatureVenn1.4680.0241.580
ssvFetchBam6.8260.3457.283
ssvFetchBamPE2.3440.2052.685
ssvFetchBamPE.RNA1.8220.0702.028
ssvFetchBigwig1.7720.0461.860
ssvFetchGRanges0.9170.0220.955
ssvFetchSignal1.7350.0731.830
ssvMakeMembTable-methods0.6210.0170.642
ssvOverlapIntervalSets0.3000.0140.316
ssvSignalBandedQuantiles5.2000.1465.426
ssvSignalClustering3.5590.0863.680
ssvSignalHeatmap.ClusterBars5.1170.0855.275
ssvSignalHeatmap5.1860.1325.405
ssvSignalLineplot3.1520.0343.211
ssvSignalLineplotAgg1.1660.0271.202
ssvSignalScatterplot1.3020.0211.336
viewGRangesWinSample_dt1.4080.0731.578
viewGRangesWinSummary_dt1.3550.0691.444
within_clust_sort2.1520.0392.232