Back to Multiple platform build/check report for BioC 3.23:   simplified   long
ABCDEFGHIJKLMNOPQR[S]TUVWXYZ

This page was generated on 2025-11-20 11:39 -0500 (Thu, 20 Nov 2025).

HostnameOSArch (*)R versionInstalled pkgs
nebbiolo1Linux (Ubuntu 24.04.3 LTS)x86_64R Under development (unstable) (2025-10-20 r88955) -- "Unsuffered Consequences" 4827
lconwaymacOS 12.7.6 Montereyx86_64R Under development (unstable) (2025-10-21 r88958) -- "Unsuffered Consequences" 4600
kjohnson3macOS 13.7.7 Venturaarm64R Under development (unstable) (2025-11-04 r88984) -- "Unsuffered Consequences" 4564
Click on any hostname to see more info about the system (e.g. compilers)      (*) as reported by 'uname -p', except on Windows and Mac OS X

Package 1960/2325HostnameOS / ArchINSTALLBUILDCHECKBUILD BIN
sesame 1.29.0  (landing page)
Wanding Zhou
Snapshot Date: 2025-11-19 13:40 -0500 (Wed, 19 Nov 2025)
git_url: https://git.bioconductor.org/packages/sesame
git_branch: devel
git_last_commit: 92283cb
git_last_commit_date: 2025-10-29 10:46:05 -0500 (Wed, 29 Oct 2025)
nebbiolo1Linux (Ubuntu 24.04.3 LTS) / x86_64  OK    OK    OK  UNNEEDED, same version is already published
lconwaymacOS 12.7.6 Monterey / x86_64  OK    OK    OK    OK  NO, package depends on 'GenomicRanges' which is only available as a source package that needs compilation
kjohnson3macOS 13.7.7 Ventura / arm64  OK    OK    OK    OK  NO, package depends on 'GenomicRanges' which is only available as a source package that needs compilation


CHECK results for sesame on lconway

To the developers/maintainers of the sesame package:
- Allow up to 24 hours (and sometimes 48 hours) for your latest push to git@git.bioconductor.org:packages/sesame.git to reflect on this report. See Troubleshooting Build Report for more information.
- Use the following Renviron settings to reproduce errors and warnings.
- If 'R CMD check' started to fail recently on the Linux builder(s) over a missing dependency, add the missing dependency to 'Suggests:' in your DESCRIPTION file. See Renviron.bioc for more information.

raw results


Summary

Package: sesame
Version: 1.29.0
Command: /Library/Frameworks/R.framework/Resources/bin/R CMD check --install=check:sesame.install-out.txt --library=/Library/Frameworks/R.framework/Resources/library --no-vignettes --timings sesame_1.29.0.tar.gz
StartedAt: 2025-11-20 00:08:27 -0500 (Thu, 20 Nov 2025)
EndedAt: 2025-11-20 00:21:39 -0500 (Thu, 20 Nov 2025)
EllapsedTime: 791.4 seconds
RetCode: 0
Status:   OK  
CheckDir: sesame.Rcheck
Warnings: 0

Command output

##############################################################################
##############################################################################
###
### Running command:
###
###   /Library/Frameworks/R.framework/Resources/bin/R CMD check --install=check:sesame.install-out.txt --library=/Library/Frameworks/R.framework/Resources/library --no-vignettes --timings sesame_1.29.0.tar.gz
###
##############################################################################
##############################################################################


* using log directory ‘/Users/biocbuild/bbs-3.23-bioc/meat/sesame.Rcheck’
* using R Under development (unstable) (2025-10-21 r88958)
* using platform: x86_64-apple-darwin20
* R was compiled by
    Apple clang version 14.0.0 (clang-1400.0.29.202)
    GNU Fortran (GCC) 14.2.0
* running under: macOS Ventura 13.7.8
* using session charset: UTF-8
* using option ‘--no-vignettes’
* checking for file ‘sesame/DESCRIPTION’ ... OK
* checking extension type ... Package
* this is package ‘sesame’ version ‘1.29.0’
* package encoding: UTF-8
* checking package namespace information ... OK
* checking package dependencies ... OK
* checking if this is a source package ... OK
* checking if there is a namespace ... OK
* checking for hidden files and directories ... OK
* checking for portable file names ... OK
* checking for sufficient/correct file permissions ... OK
* checking whether package ‘sesame’ can be installed ... OK
* checking installed package size ... OK
* checking package directory ... OK
* checking ‘build’ directory ... OK
* checking DESCRIPTION meta-information ... OK
* checking top-level files ... OK
* checking for left-over files ... OK
* checking index information ... OK
* checking package subdirectories ... OK
* checking code files for non-ASCII characters ... OK
* checking R files for syntax errors ... OK
* checking whether the package can be loaded ... OK
* checking whether the package can be loaded with stated dependencies ... OK
* checking whether the package can be unloaded cleanly ... OK
* checking whether the namespace can be loaded with stated dependencies ... OK
* checking whether the namespace can be unloaded cleanly ... OK
* checking whether startup messages can be suppressed ... OK
* checking dependencies in R code ... OK
* checking S3 generic/method consistency ... OK
* checking replacement functions ... OK
* checking foreign function calls ... OK
* checking R code for possible problems ... OK
* checking Rd files ... OK
* checking Rd metadata ... OK
* checking Rd cross-references ... OK
* checking for missing documentation entries ... OK
* checking for code/documentation mismatches ... OK
* checking Rd \usage sections ... OK
* checking Rd contents ... OK
* checking for unstated dependencies in examples ... OK
* checking files in ‘vignettes’ ... OK
* checking examples ... OK
Examples with CPU (user + system) or elapsed time > 5s
                                user system elapsed
imputeBetasByGenomicNeighbors 36.397  1.495  38.140
inferSex                      25.084  1.328  26.585
sesameQC_calcStats            22.154  1.826  24.186
imputeBetas                   19.146  1.493  20.833
sesameQC_plotHeatSNPs         19.152  0.994  20.260
ELBAR                         16.213  2.938  19.403
inferSpecies                  15.843  0.752  16.700
diffRefSet                    15.331  0.631  16.080
getRefSet                     14.263  0.495  14.875
compareMouseStrainReference   13.739  0.459  14.372
sesameQC_plotBar              13.556  0.367  14.019
compareReference              11.963  0.503  12.580
matchDesign                   11.155  0.595  11.837
visualizeGene                 10.838  0.691  11.615
sesameQC_plotBetaByDesign     10.091  1.286  11.480
inferStrain                    9.734  0.589  10.421
sdf_read_table                 9.224  1.070  10.375
DMR                            9.389  0.355   9.892
inferTissue                    7.531  1.885   9.527
estimateLeukocyte              7.279  0.534   7.876
DML                            7.292  0.344   7.708
getMask                        6.772  0.610  10.655
dyeBiasCorrMostBalanced        6.978  0.310   7.353
openSesame                     5.840  1.242   7.184
dyeBiasNL                      6.189  0.464   6.704
deIdentify                     5.919  0.327   6.295
probeSuccessRate               5.653  0.501   6.209
createUCSCtrack                5.702  0.325   6.077
bisConversionControl           4.905  0.264   5.224
* checking for unstated dependencies in ‘tests’ ... OK
* checking tests ...
  Running ‘testthat.R’
 OK
* checking for unstated dependencies in vignettes ... OK
* checking package vignettes ... OK
* checking running R code from vignettes ... SKIPPED
* checking re-building of vignette outputs ... SKIPPED
* checking PDF version of manual ... OK
* DONE

Status: OK


Installation output

sesame.Rcheck/00install.out

##############################################################################
##############################################################################
###
### Running command:
###
###   /Library/Frameworks/R.framework/Resources/bin/R CMD INSTALL sesame
###
##############################################################################
##############################################################################


* installing to library ‘/Library/Frameworks/R.framework/Versions/4.6-x86_64/Resources/library’
* installing *source* package ‘sesame’ ...
** this is package ‘sesame’ version ‘1.29.0’
** using staged installation
** R
** inst
** byte-compile and prepare package for lazy loading
** help
*** installing help indices
** building package indices
** installing vignettes
** testing if installed package can be loaded from temporary location
** testing if installed package can be loaded from final location
** testing if installed package keeps a record of temporary installation path
* DONE (sesame)

Tests output

sesame.Rcheck/tests/testthat.Rout


R Under development (unstable) (2025-10-21 r88958) -- "Unsuffered Consequences"
Copyright (C) 2025 The R Foundation for Statistical Computing
Platform: x86_64-apple-darwin20

R is free software and comes with ABSOLUTELY NO WARRANTY.
You are welcome to redistribute it under certain conditions.
Type 'license()' or 'licence()' for distribution details.

R is a collaborative project with many contributors.
Type 'contributors()' for more information and
'citation()' on how to cite R or R packages in publications.

Type 'demo()' for some demos, 'help()' for on-line help, or
'help.start()' for an HTML browser interface to help.
Type 'q()' to quit R.

> library(testthat)
> library(sesame)
Loading required package: sesameData
Loading required package: ExperimentHub
Loading required package: BiocGenerics
Loading required package: generics

Attaching package: 'generics'

The following objects are masked from 'package:base':

    as.difftime, as.factor, as.ordered, intersect, is.element, setdiff,
    setequal, union


Attaching package: 'BiocGenerics'

The following objects are masked from 'package:stats':

    IQR, mad, sd, var, xtabs

The following objects are masked from 'package:base':

    Filter, Find, Map, Position, Reduce, anyDuplicated, aperm, append,
    as.data.frame, basename, cbind, colnames, dirname, do.call,
    duplicated, eval, evalq, get, grep, grepl, is.unsorted, lapply,
    mapply, match, mget, order, paste, pmax, pmax.int, pmin, pmin.int,
    rank, rbind, rownames, sapply, saveRDS, table, tapply, unique,
    unsplit, which.max, which.min

Loading required package: AnnotationHub
Loading required package: BiocFileCache
Loading required package: dbplyr
Loading sesameData.

----------------------------------------------------------
| SEnsible Step-wise Analysis of DNA MEthylation (SeSAMe)
| --------------------------------------------------------
| Please cache auxiliary data by "sesameDataCache()".
| This needs to be done only once per SeSAMe installation.
----------------------------------------------------------

> 
> test_check("sesame")
[ FAIL 0 | WARN 0 | SKIP 0 | PASS 5 ]
> 
> proc.time()
   user  system elapsed 
 20.453   1.102  21.718 

Example timings

sesame.Rcheck/sesame-Ex.timings

nameusersystemelapsed
BetaValueToMValue000
DML7.2920.3447.708
DMLpredict1.2780.1271.418
DMR9.3890.3559.892
ELBAR16.213 2.93819.403
MValueToBetaValue000
SigDF0.3110.0780.397
addMask0.0950.0010.096
betasCollapseToPfx0.0110.0010.012
bisConversionControl4.9050.2645.224
calcEffectSize1.1430.1391.291
checkLevels3.8550.2434.139
cnSegmentation0.3260.0690.405
compareMouseStrainReference13.739 0.45914.372
compareMouseTissueReference0.0010.0000.001
compareReference11.963 0.50312.580
controls2.0230.2122.253
createUCSCtrack5.7020.3256.077
deIdentify5.9190.3276.295
detectionPnegEcdf1.1700.0071.183
diffRefSet15.331 0.63116.080
dmContrasts1.9710.1942.183
dyeBiasCorr3.0250.2433.299
dyeBiasCorrMostBalanced6.9780.3107.353
dyeBiasL2.5460.1672.729
dyeBiasNL6.1890.4646.704
estimateLeukocyte7.2790.5347.876
formatVCF2.2370.2752.544
getAFTypeIbySumAlleles1.8260.2432.095
getAFs1.0930.1261.233
getBetas1.0950.1101.216
getMask 6.772 0.61010.655
getRefSet14.263 0.49514.875
imputeBetas19.146 1.49320.833
imputeBetasByGenomicNeighbors36.397 1.49538.140
imputeBetasMatrixByMean0.0020.0000.002
inferEthnicity0.0010.0010.001
inferInfiniumIChannel0.3890.4370.832
inferSex25.084 1.32826.585
inferSpecies15.843 0.75216.700
inferStrain 9.734 0.58910.421
inferTissue7.5311.8859.527
initFileSet1.1670.2121.398
listAvailableMasks1.2660.1611.437
mLiftOver0.0010.0010.002
mapFileSet0.0340.0030.038
mapToMammal403.2970.3863.716
matchDesign11.155 0.59511.837
meanIntensity2.7270.5783.340
medianTotalIntensity0.8600.0540.919
noMasked3.8860.2314.161
noob2.0620.0802.152
openSesame5.8401.2427.184
openSesameToFile1.5240.0201.554
pOOBAH1.4200.0061.433
palgen0.0460.0080.056
parseGEOsignalMU3.0500.4203.489
predictAge2.3040.1602.480
predictAgeHorvath3530.0000.0000.001
predictAgeSkinBlood0.0010.0000.000
predictMouseAgeInMonth0.0000.0010.001
prefixMask0.7560.0030.762
prefixMaskButC0.1980.0010.199
prefixMaskButCG0.0730.0000.074
prepSesame3.8000.1714.014
prepSesameList0.0010.0010.002
print.DMLSummary3.1701.0744.299
print.fileSet1.2100.2091.433
probeID_designType0.0010.0010.000
probeSuccessRate5.6530.5016.209
qualityMask2.2250.3702.628
reIdentify4.5220.2444.825
readFileSet0.0560.0050.094
readIDATpair0.1460.0020.149
recommendedMaskNames0.0010.0010.001
resetMask0.4060.0650.492
scrub2.3710.0462.436
scrubSoft3.5570.6814.273
sdfPlatform0.3150.0560.375
sdf_read_table 9.224 1.07010.375
sdf_write_table2.4160.1622.602
searchIDATprefixes0.0040.0030.009
sesame-package1.9810.1522.159
sesameAnno_attachManifest0.0010.0010.000
sesameAnno_buildAddressFile000
sesameAnno_buildManifestGRanges000
sesameAnno_download0.0000.0000.001
sesameAnno_readManifestTSV000
sesameQC_calcStats22.154 1.82624.186
sesameQC_getStats2.2960.3982.717
sesameQC_plotBar13.556 0.36714.019
sesameQC_plotBetaByDesign10.091 1.28611.480
sesameQC_plotHeatSNPs19.152 0.99420.260
sesameQC_plotIntensVsBetas2.7410.8143.615
sesameQC_plotRedGrnQQ1.2340.1521.408
sesameQC_rankStats3.6970.5934.336
sesameQCtoDF2.2090.0192.249
sesame_checkVersion0.0050.0020.008
sesamize000
setMask0.1250.0010.129
signalMU0.8280.0560.892
sliceFileSet0.0380.0030.041
summaryExtractTest2.8800.9553.870
totalIntensities2.3370.3462.712
updateSigDF3.0630.4323.529
visualizeGene10.838 0.69111.615
visualizeProbes1.2420.0331.280
visualizeRegion0.3420.0050.348
visualizeSegments1.4630.4861.971