Back to Multiple platform build/check report for BioC 3.23:   simplified   long
ABCDEFGHIJKLMNOPQR[S]TUVWXYZ

This page was generated on 2025-11-26 11:38 -0500 (Wed, 26 Nov 2025).

HostnameOSArch (*)R versionInstalled pkgs
nebbiolo1Linux (Ubuntu 24.04.3 LTS)x86_64R Under development (unstable) (2025-10-20 r88955) -- "Unsuffered Consequences" 4830
lconwaymacOS 12.7.6 Montereyx86_64R Under development (unstable) (2025-10-21 r88958) -- "Unsuffered Consequences" 4609
kjohnson3macOS 13.7.7 Venturaarm64R Under development (unstable) (2025-11-04 r88984) -- "Unsuffered Consequences" 4569
Click on any hostname to see more info about the system (e.g. compilers)      (*) as reported by 'uname -p', except on Windows and Mac OS X

Package 2042/2328HostnameOS / ArchINSTALLBUILDCHECKBUILD BIN
sparrow 1.17.0  (landing page)
Steve Lianoglou
Snapshot Date: 2025-11-25 13:40 -0500 (Tue, 25 Nov 2025)
git_url: https://git.bioconductor.org/packages/sparrow
git_branch: devel
git_last_commit: 03b668b
git_last_commit_date: 2025-10-29 11:12:41 -0500 (Wed, 29 Oct 2025)
nebbiolo1Linux (Ubuntu 24.04.3 LTS) / x86_64  OK    OK    OK  UNNEEDED, same version is already published
lconwaymacOS 12.7.6 Monterey / x86_64  OK    OK    OK    OK  UNNEEDED, same version is already published
kjohnson3macOS 13.7.7 Ventura / arm64  OK    OK    OK    OK  UNNEEDED, same version is already published


CHECK results for sparrow on nebbiolo1

To the developers/maintainers of the sparrow package:
- Allow up to 24 hours (and sometimes 48 hours) for your latest push to git@git.bioconductor.org:packages/sparrow.git to reflect on this report. See Troubleshooting Build Report for more information.
- Use the following Renviron settings to reproduce errors and warnings.
- If 'R CMD check' started to fail recently on the Linux builder(s) over a missing dependency, add the missing dependency to 'Suggests:' in your DESCRIPTION file. See Renviron.bioc for more information.

raw results


Summary

Package: sparrow
Version: 1.17.0
Command: /home/biocbuild/bbs-3.23-bioc/R/bin/R CMD check --install=check:sparrow.install-out.txt --library=/home/biocbuild/bbs-3.23-bioc/R/site-library --timings sparrow_1.17.0.tar.gz
StartedAt: 2025-11-26 04:18:04 -0500 (Wed, 26 Nov 2025)
EndedAt: 2025-11-26 04:27:46 -0500 (Wed, 26 Nov 2025)
EllapsedTime: 582.6 seconds
RetCode: 0
Status:   OK  
CheckDir: sparrow.Rcheck
Warnings: 0

Command output

##############################################################################
##############################################################################
###
### Running command:
###
###   /home/biocbuild/bbs-3.23-bioc/R/bin/R CMD check --install=check:sparrow.install-out.txt --library=/home/biocbuild/bbs-3.23-bioc/R/site-library --timings sparrow_1.17.0.tar.gz
###
##############################################################################
##############################################################################


* using log directory ‘/home/biocbuild/bbs-3.23-bioc/meat/sparrow.Rcheck’
* using R Under development (unstable) (2025-10-20 r88955)
* using platform: x86_64-pc-linux-gnu
* R was compiled by
    gcc (Ubuntu 13.3.0-6ubuntu2~24.04) 13.3.0
    GNU Fortran (Ubuntu 13.3.0-6ubuntu2~24.04) 13.3.0
* running under: Ubuntu 24.04.3 LTS
* using session charset: UTF-8
* checking for file ‘sparrow/DESCRIPTION’ ... OK
* checking extension type ... Package
* this is package ‘sparrow’ version ‘1.17.0’
* package encoding: UTF-8
* checking package namespace information ... OK
* checking package dependencies ... OK
* checking if this is a source package ... OK
* checking if there is a namespace ... OK
* checking for hidden files and directories ... OK
* checking for portable file names ... OK
* checking for sufficient/correct file permissions ... OK
* checking whether package ‘sparrow’ can be installed ... OK
* checking installed package size ... OK
* checking package directory ... OK
* checking ‘build’ directory ... OK
* checking DESCRIPTION meta-information ... NOTE
License stub is invalid DCF.
* checking top-level files ... OK
* checking for left-over files ... OK
* checking index information ... OK
* checking package subdirectories ... OK
* checking code files for non-ASCII characters ... OK
* checking R files for syntax errors ... OK
* checking whether the package can be loaded ... OK
* checking whether the package can be loaded with stated dependencies ... OK
* checking whether the package can be unloaded cleanly ... OK
* checking whether the namespace can be loaded with stated dependencies ... OK
* checking whether the namespace can be unloaded cleanly ... OK
* checking loading without being on the library search path ... OK
* checking whether startup messages can be suppressed ... OK
* checking dependencies in R code ... OK
* checking S3 generic/method consistency ... OK
* checking replacement functions ... OK
* checking foreign function calls ... OK
* checking R code for possible problems ... NOTE
.map_ids_orthogene: no visible binding for global variable ‘gspecies’
.map_ids_orthogene: no visible binding for global variable ‘species’
.map_ids_orthogene: no visible binding for global variable ‘input_ensg’
.map_ids_orthogene: no visible binding for global variable
  ‘ortholog_ensg’
.map_ids_orthogene: no visible binding for global variable
  ‘ortholog_gene’
.map_ids_orthogene: no visible binding for global variable ‘symbol’
.map_ids_orthogene: no visible binding for global variable ‘input_id’
.map_ids_orthogene: no visible global function definition for
  ‘starts_with’
.map_ids_orthogene: no visible global function definition for
  ‘last_col’
.map_ids_orthogene: no visible binding for global variable ‘rm_na’
geneSetsStats: no visible binding for global variable ‘direction’
getMSigGeneSetDb: no visible binding for global variable ‘ncbi_gene’
getMSigGeneSetDb: no visible binding for global variable ‘db_species’
getMSigGeneSetDb: no visible binding for global variable
  ‘msigdb_collection’
getMSigGeneSetDb: no visible binding for global variable ‘gene_symbol’
getMSigGeneSetDb: no visible binding for global variable
  ‘gs_collection_name’
getMSigGeneSetDb: no visible binding for global variable ‘gs_url’
convertIdentifiers,GeneSetDb: no visible binding for global variable
  ‘.convert_ids_with_babelgene’
convertIdentifiers,GeneSetDb: no visible global function definition for
  ‘.map_ids_babelgene’
Undefined global functions or variables:
  .convert_ids_with_babelgene .map_ids_babelgene db_species direction
  gene_symbol gs_collection_name gs_url gspecies input_ensg input_id
  last_col msigdb_collection ncbi_gene ortholog_ensg ortholog_gene
  rm_na species starts_with symbol
* checking Rd files ... OK
* checking Rd metadata ... OK
* checking Rd cross-references ... NOTE
Non-topic package-anchored link(s) in Rd file 'GeneSetDb-class.Rd':
  ‘[GSEABase:GeneIdentifierType-constructors]{GSEABase::EntrezIdentifier()}’

Non-topic package-anchored link(s) in Rd file 'calculateIndividualLogFC.Rd':
  ‘[limma:ebayes]{limma::eBayes()}’

Non-topic package-anchored link(s) in Rd file 'collectionMetadata.Rd':
  ‘[GSEABase:GeneIdentifierType-constructors]{GSEABase::EntrezIdentifier()}’

Non-topic package-anchored link(s) in Rd file 'seas.Rd':
  ‘[limma:toptable]{limma::topTable()}’
  ‘[limma:dupcor]{limma::duplicateCorrelation()}’

See section 'Cross-references' in the 'Writing R Extensions' manual.

Found the following Rd file(s) with Rd \link{} targets missing package
anchors:
  seas.Rd: BiocParallel
Please provide package anchors for all Rd \link{} targets not in the
package itself and the base packages.
* checking for missing documentation entries ... OK
* checking for code/documentation mismatches ... OK
* checking Rd \usage sections ... OK
* checking Rd contents ... OK
* checking for unstated dependencies in examples ... OK
* checking line endings in Makefiles ... OK
* checking for GNU extensions in Makefiles ... OK
* checking include directives in Makefiles ... OK
* checking files in ‘vignettes’ ... OK
* checking examples ... OK
Examples with CPU (user + system) or elapsed time > 5s
                    user system elapsed
goseq              7.421  0.164   6.678
scoreSingleSamples 6.533  0.128   6.517
geneSetsStats      6.087  0.150   4.511
seas               5.256  0.247   4.564
* checking for unstated dependencies in ‘tests’ ... OK
* checking tests ...
  Running ‘testthat.R’
 OK
* checking for unstated dependencies in vignettes ... OK
* checking package vignettes ... OK
* checking re-building of vignette outputs ... OK
* checking PDF version of manual ... OK
* DONE

Status: 3 NOTEs
See
  ‘/home/biocbuild/bbs-3.23-bioc/meat/sparrow.Rcheck/00check.log’
for details.


Installation output

sparrow.Rcheck/00install.out

##############################################################################
##############################################################################
###
### Running command:
###
###   /home/biocbuild/bbs-3.23-bioc/R/bin/R CMD INSTALL sparrow
###
##############################################################################
##############################################################################


* installing to library ‘/home/biocbuild/bbs-3.23-bioc/R/site-library’
* installing *source* package ‘sparrow’ ...
** this is package ‘sparrow’ version ‘1.17.0’
** using staged installation
** R
** inst
** byte-compile and prepare package for lazy loading
** help
*** installing help indices
*** copying figures
** building package indices
** installing vignettes
** testing if installed package can be loaded from temporary location
** testing if installed package can be loaded from final location
** testing if installed package keeps a record of temporary installation path
* DONE (sparrow)

Tests output

sparrow.Rcheck/tests/testthat.Rout


R Under development (unstable) (2025-10-20 r88955) -- "Unsuffered Consequences"
Copyright (C) 2025 The R Foundation for Statistical Computing
Platform: x86_64-pc-linux-gnu

R is free software and comes with ABSOLUTELY NO WARRANTY.
You are welcome to redistribute it under certain conditions.
Type 'license()' or 'licence()' for distribution details.

R is a collaborative project with many contributors.
Type 'contributors()' for more information and
'citation()' on how to cite R or R packages in publications.

Type 'demo()' for some demos, 'help()' for on-line help, or
'help.start()' for an HTML browser interface to help.
Type 'q()' to quit R.

> library("sparrow")
> library("testthat")
> library("data.table")
> library("dplyr")

Attaching package: 'dplyr'

The following objects are masked from 'package:data.table':

    between, first, last

The following object is masked from 'package:sparrow':

    combine

The following objects are masked from 'package:stats':

    filter, lag

The following objects are masked from 'package:base':

    intersect, setdiff, setequal, union

> 
> test_check("sparrow")

Attaching package: 'magrittr'

The following objects are masked from 'package:testthat':

    equals, is_less_than, not

[ FAIL 0 | WARN 0 | SKIP 8 | PASS 1467 ]

══ Skipped tests (8) ═══════════════════════════════════════════════════════════
• empty test (3): 'test-MultiGSEAResult.R:3:1', ,
• {misgdbdf} is not installed (5): 'test-get-msigdb.R:6:3',
  'test-get-msigdb.R:14:3', 'test-get-msigdb.R:27:3', 'test-get-msigdb.R:65:3',
  'test-get-msigdb.R:99:3'

[ FAIL 0 | WARN 0 | SKIP 8 | PASS 1467 ]
> 
> ## Remove temporary files that were generated
> test.dir <- system.file('tests', package = "sparrow")
> pdfs <- dir(test.dir, "\\.pdf$", full.names=TRUE)
> if (length(pdfs)) {
+   unlink(pdfs)
+ }
> 
> 
> proc.time()
   user  system elapsed 
270.284   8.043 236.523 

Example timings

sparrow.Rcheck/sparrow-Ex.timings

nameusersystemelapsed
GeneSetDb-class0.0870.0020.073
SparrowResult-utilities4.7880.1234.039
addGeneSetMetadata0.0830.0020.060
annotateGeneSetMembership4.5690.1343.828
calculateIndividualLogFC1.4000.0541.454
collectionMetadata0.0870.0000.062
combine-GeneSetDb-GeneSetDb-method0.1300.0020.082
combine-SparrowResult-SparrowResult-method0.1150.0020.115
conform0.3920.0010.367
conversion0.6480.0090.542
convertIdentifiers0.2670.0030.170
corplot0.0920.0000.092
eigenWeightedMean3.8930.0963.940
examples0.2790.0710.350
failWith000
featureIdMap0.3970.0060.376
featureIds0.4350.0020.395
geneSet0.1170.0010.079
geneSetCollectionURLfunction0.0820.0010.055
geneSetSummaryByGenes3.9020.0582.912
geneSets0.0760.0000.049
geneSetsStats6.0870.1504.511
getKeggCollection000
getMSigCollection000
getPantherCollection0.0000.0000.001
getReactomeCollection000
goseq7.4210.1646.678
gsdScore0.9610.0220.929
gskey0.0030.0000.002
hasGeneSet0.0800.0010.053
hasGeneSetCollection0.0800.0000.054
incidenceMatrix2.1250.0882.185
iplot1.6170.0531.602
is.active0.3520.0070.326
logFC3.4310.0732.620
mgheatmap000
mgheatmap20.0000.0010.000
msg000
ora0.2660.0070.266
p.matrix0.0930.0000.092
randomGeneSetDb0.0860.0020.081
renameCollections0.1140.0030.074
renameRows0.4210.0080.428
results0.1010.0030.105
scale_rows0.0030.0010.005
scoreSingleSamples6.5330.1286.517
seas5.2560.2474.564
sparrow_methods0.0020.0010.004
species_info0.0050.0010.006
subset.GeneSetDb0.0890.0010.060
subsetByFeatures0.1230.0010.073
validateInputs0.1450.0080.127
volcanoPlot2.1460.0552.202
volcanoStatsTable0.1120.0020.114
zScore0.8430.0160.805