Back to Multiple platform build/check report for BioC 3.23:   simplified   long
ABCDEFGHIJKLMNOPQRS[T]UVWXYZ

This page was generated on 2025-11-19 10:13 -0500 (Wed, 19 Nov 2025).

HostnameOSArch (*)R versionInstalled pkgs
nebbiolo1Linux (Ubuntu 24.04.3 LTS)x86_64R Under development (unstable) (2025-10-20 r88955) -- "Unsuffered Consequences" 4827
lconwaymacOS 12.7.6 Montereyx86_64R Under development (unstable) (2025-10-21 r88958) -- "Unsuffered Consequences" 4600
kjohnson3macOS 13.7.7 Venturaarm64R Under development (unstable) (2025-11-04 r88984) -- "Unsuffered Consequences" 4564
Click on any hostname to see more info about the system (e.g. compilers)      (*) as reported by 'uname -p', except on Windows and Mac OS X

Package 2184/2325HostnameOS / ArchINSTALLBUILDCHECKBUILD BIN
tidytof 1.5.0  (landing page)
Timothy Keyes
Snapshot Date: 2025-11-18 13:40 -0500 (Tue, 18 Nov 2025)
git_url: https://git.bioconductor.org/packages/tidytof
git_branch: devel
git_last_commit: 6312a05
git_last_commit_date: 2025-10-29 11:31:42 -0500 (Wed, 29 Oct 2025)
nebbiolo1Linux (Ubuntu 24.04.3 LTS) / x86_64  OK    OK    ERROR  
lconwaymacOS 12.7.6 Monterey / x86_64  OK    OK    ERROR    OK  
kjohnson3macOS 13.7.7 Ventura / arm64  OK    OK    ERROR    OK  


CHECK results for tidytof on nebbiolo1

To the developers/maintainers of the tidytof package:
- Allow up to 24 hours (and sometimes 48 hours) for your latest push to git@git.bioconductor.org:packages/tidytof.git to reflect on this report. See Troubleshooting Build Report for more information.
- Use the following Renviron settings to reproduce errors and warnings.
- If 'R CMD check' started to fail recently on the Linux builder(s) over a missing dependency, add the missing dependency to 'Suggests:' in your DESCRIPTION file. See Renviron.bioc for more information.

raw results


Summary

Package: tidytof
Version: 1.5.0
Command: /home/biocbuild/bbs-3.23-bioc/R/bin/R CMD check --install=check:tidytof.install-out.txt --library=/home/biocbuild/bbs-3.23-bioc/R/site-library --timings tidytof_1.5.0.tar.gz
StartedAt: 2025-11-19 05:39:01 -0500 (Wed, 19 Nov 2025)
EndedAt: 2025-11-19 05:51:08 -0500 (Wed, 19 Nov 2025)
EllapsedTime: 726.9 seconds
RetCode: 1
Status:   ERROR  
CheckDir: tidytof.Rcheck
Warnings: NA

Command output

##############################################################################
##############################################################################
###
### Running command:
###
###   /home/biocbuild/bbs-3.23-bioc/R/bin/R CMD check --install=check:tidytof.install-out.txt --library=/home/biocbuild/bbs-3.23-bioc/R/site-library --timings tidytof_1.5.0.tar.gz
###
##############################################################################
##############################################################################


* using log directory ‘/home/biocbuild/bbs-3.23-bioc/meat/tidytof.Rcheck’
* using R Under development (unstable) (2025-10-20 r88955)
* using platform: x86_64-pc-linux-gnu
* R was compiled by
    gcc (Ubuntu 13.3.0-6ubuntu2~24.04) 13.3.0
    GNU Fortran (Ubuntu 13.3.0-6ubuntu2~24.04) 13.3.0
* running under: Ubuntu 24.04.3 LTS
* using session charset: UTF-8
* checking for file ‘tidytof/DESCRIPTION’ ... OK
* checking extension type ... Package
* this is package ‘tidytof’ version ‘1.5.0’
* package encoding: UTF-8
* checking package namespace information ... OK
* checking package dependencies ... OK
* checking if this is a source package ... OK
* checking if there is a namespace ... OK
* checking for hidden files and directories ... OK
* checking for portable file names ... OK
* checking for sufficient/correct file permissions ... OK
* checking whether package ‘tidytof’ can be installed ... OK
* used C++ compiler: ‘g++ (Ubuntu 13.3.0-6ubuntu2~24.04) 13.3.0’
* checking installed package size ... OK
* checking package directory ... OK
* checking ‘build’ directory ... OK
* checking DESCRIPTION meta-information ... OK
* checking top-level files ... OK
* checking for left-over files ... OK
* checking index information ... OK
* checking package subdirectories ... OK
* checking code files for non-ASCII characters ... OK
* checking R files for syntax errors ... OK
* checking whether the package can be loaded ... OK
* checking whether the package can be loaded with stated dependencies ... OK
* checking whether the package can be unloaded cleanly ... OK
* checking whether the namespace can be loaded with stated dependencies ... OK
* checking whether the namespace can be unloaded cleanly ... OK
* checking loading without being on the library search path ... OK
* checking dependencies in R code ... OK
* checking S3 generic/method consistency ... OK
* checking replacement functions ... OK
* checking foreign function calls ... OK
* checking R code for possible problems ... OK
* checking Rd files ... OK
* checking Rd metadata ... OK
* checking Rd cross-references ... OK
* checking for missing documentation entries ... OK
* checking for code/documentation mismatches ... OK
* checking Rd \usage sections ... OK
* checking Rd contents ... OK
* checking for unstated dependencies in examples ... OK
* checking contents of ‘data’ directory ... OK
* checking data for non-ASCII characters ... OK
* checking data for ASCII and uncompressed saves ... OK
* checking R/sysdata.rda ... OK
* checking line endings in C/C++/Fortran sources/headers ... OK
* checking compiled code ... INFO
Note: information on .o files is not available
* checking files in ‘vignettes’ ... OK
* checking examples ... OK
Examples with CPU (user + system) or elapsed time > 5s
                         user system elapsed
tof_assess_clusters_knn 7.503  0.118   7.621
* checking for unstated dependencies in ‘tests’ ... OK
* checking tests ...
  Running ‘spelling.R’
  Running ‘testthat.R’
 ERROR
Running the tests in ‘tests/testthat.R’ failed.
Last 13 lines of output:
   10.               └─yardstick:::yardstick_eval_select_dots(..., data = data, error_call = error_call)
   11.                 └─tidyselect::eval_select(...)
   12.                   └─tidyselect:::eval_select_impl(...)
   13.                     ├─tidyselect:::with_subscript_errors(...)
   14.                     │ └─base::withCallingHandlers(...)
   15.                     └─tidyselect:::vars_select_eval(...)
   16.                       └─tidyselect:::ensure_named(...)
   17.                         └─tidyselect:::check_empty(pos, allow_empty, call = call)
   18.                           └─cli::cli_abort("Must select at least one item.", call = call)
   19.                             └─rlang::abort(...)
  
  [ FAIL 2 | WARN 20 | SKIP 1 | PASS 684 ]
  Error:
  ! Test failures.
  Execution halted
* checking for unstated dependencies in vignettes ... OK
* checking package vignettes ... OK
* checking re-building of vignette outputs ... OK
* checking PDF version of manual ... OK
* DONE

Status: 1 ERROR
See
  ‘/home/biocbuild/bbs-3.23-bioc/meat/tidytof.Rcheck/00check.log’
for details.


Installation output

tidytof.Rcheck/00install.out

##############################################################################
##############################################################################
###
### Running command:
###
###   /home/biocbuild/bbs-3.23-bioc/R/bin/R CMD INSTALL tidytof
###
##############################################################################
##############################################################################


* installing to library ‘/home/biocbuild/bbs-3.23-bioc/R/site-library’
* installing *source* package ‘tidytof’ ...
** this is package ‘tidytof’ version ‘1.5.0’
** using staged installation
** libs
using C++ compiler: ‘g++ (Ubuntu 13.3.0-6ubuntu2~24.04) 13.3.0’
g++ -std=gnu++17 -I"/home/biocbuild/bbs-3.23-bioc/R/include" -DNDEBUG  -I'/home/biocbuild/bbs-3.23-bioc/R/site-library/Rcpp/include' -I/usr/local/include    -fpic  -g -O2  -Wall -Werror=format-security  -c RcppExports.cpp -o RcppExports.o
g++ -std=gnu++17 -I"/home/biocbuild/bbs-3.23-bioc/R/include" -DNDEBUG  -I'/home/biocbuild/bbs-3.23-bioc/R/site-library/Rcpp/include' -I/usr/local/include    -fpic  -g -O2  -Wall -Werror=format-security  -c code.cpp -o code.o
g++ -std=gnu++17 -shared -L/home/biocbuild/bbs-3.23-bioc/R/lib -L/usr/local/lib -o tidytof.so RcppExports.o code.o -L/home/biocbuild/bbs-3.23-bioc/R/lib -lR
installing to /home/biocbuild/bbs-3.23-bioc/R/site-library/00LOCK-tidytof/00new/tidytof/libs
** R
** data
** inst
** byte-compile and prepare package for lazy loading
** help
*** installing help indices
*** copying figures
** building package indices
** installing vignettes
** testing if installed package can be loaded from temporary location
** checking absolute paths in shared objects and dynamic libraries
** testing if installed package can be loaded from final location
** testing if installed package keeps a record of temporary installation path
* DONE (tidytof)

Tests output

tidytof.Rcheck/tests/spelling.Rout


R Under development (unstable) (2025-10-20 r88955) -- "Unsuffered Consequences"
Copyright (C) 2025 The R Foundation for Statistical Computing
Platform: x86_64-pc-linux-gnu

R is free software and comes with ABSOLUTELY NO WARRANTY.
You are welcome to redistribute it under certain conditions.
Type 'license()' or 'licence()' for distribution details.

R is a collaborative project with many contributors.
Type 'contributors()' for more information and
'citation()' on how to cite R or R packages in publications.

Type 'demo()' for some demos, 'help()' for on-line help, or
'help.start()' for an HTML browser interface to help.
Type 'q()' to quit R.

> if (requireNamespace("spelling", quietly = TRUE)) {
+     spelling::spell_check_test(
+         vignettes = TRUE, error = FALSE,
+         skip_on_cran = TRUE
+     )
+ }
All Done!
> 
> proc.time()
   user  system elapsed 
  0.139   0.038   0.164 

tidytof.Rcheck/tests/testthat.Rout.fail


R Under development (unstable) (2025-10-20 r88955) -- "Unsuffered Consequences"
Copyright (C) 2025 The R Foundation for Statistical Computing
Platform: x86_64-pc-linux-gnu

R is free software and comes with ABSOLUTELY NO WARRANTY.
You are welcome to redistribute it under certain conditions.
Type 'license()' or 'licence()' for distribution details.

R is a collaborative project with many contributors.
Type 'contributors()' for more information and
'citation()' on how to cite R or R packages in publications.

Type 'demo()' for some demos, 'help()' for on-line help, or
'help.start()' for an HTML browser interface to help.
Type 'q()' to quit R.

> Sys.setenv(R_TESTS="")
> library(testthat)
> library(tidytof)
> test_check("tidytof")

Attaching package: 'dplyr'

The following objects are masked from 'package:stats':

    filter, lag

The following objects are masked from 'package:base':

    intersect, setdiff, setequal, union

Loading required namespace: diffcyt

Attaching package: 'readr'

The following objects are masked from 'package:testthat':

    edition_get, local_edition

Saving _problems/test-patient-level_modeling-1052.R
Saving _problems/test-visualization-555.R
[ FAIL 2 | WARN 20 | SKIP 1 | PASS 684 ]

══ Skipped tests (1) ═══════════════════════════════════════════════════════════
• empty test (1):

══ Failed tests ════════════════════════════════════════════════════════════════
── Error ('test-patient-level_modeling.R:1050:1'): (code run outside of `test_that()`) ──
Error in `yardstick::roc_curve(dplyr::mutate(input_data, truth = dplyr::pull(input_data, {     {         truth_col     } })), {     {         prob_cols     } }, truth = "truth", event_level = "second")`: Must select at least one item.
Backtrace:
     ▆
  1. └─tidytof::tof_assess_model(bootstrap_multinomial_regression, new_data = feature_tibble) at test-patient-level_modeling.R:1050:1
  2.   └─tidytof:::tof_assess_model_new_data(tof_model = tof_model, new_data = new_data)
  3.     └─tidytof::tof_make_roc_curve(...)
  4.       ├─dplyr::mutate(...)
  5.       ├─yardstick::roc_curve(...)
  6.       └─yardstick:::roc_curve.data.frame(...)
  7.         └─yardstick::curve_metric_summarizer(...)
  8.           └─yardstick:::yardstick_eval_select_dots(..., data = data, error_call = error_call)
  9.             └─tidyselect::eval_select(...)
 10.               └─tidyselect:::eval_select_impl(...)
 11.                 ├─tidyselect:::with_subscript_errors(...)
 12.                 │ └─base::withCallingHandlers(...)
 13.                 └─tidyselect:::vars_select_eval(...)
 14.                   └─tidyselect:::ensure_named(...)
 15.                     └─tidyselect:::check_empty(pos, allow_empty, call = call)
 16.                       └─cli::cli_abort("Must select at least one item.", call = call)
 17.                         └─rlang::abort(...)
── Error ('test-visualization.R:553:1'): (code run outside of `test_that()`) ───
Error in `yardstick::roc_curve(dplyr::mutate(input_data, truth = dplyr::pull(input_data, {     {         truth_col     } })), {     {         prob_cols     } }, truth = "truth", event_level = "second")`: Must select at least one item.
Backtrace:
     ▆
  1. └─tidytof::tof_plot_model(multinomial_tof_model) at test-visualization.R:553:1
  2.   └─tidytof:::tof_plot_model_multinomial(...)
  3.     └─tidytof::tof_assess_model(tof_model = tof_model, new_data = new_data)
  4.       └─tidytof:::tof_assess_model_new_data(tof_model = tof_model, new_data = new_data)
  5.         └─tidytof::tof_make_roc_curve(...)
  6.           ├─dplyr::mutate(...)
  7.           ├─yardstick::roc_curve(...)
  8.           └─yardstick:::roc_curve.data.frame(...)
  9.             └─yardstick::curve_metric_summarizer(...)
 10.               └─yardstick:::yardstick_eval_select_dots(..., data = data, error_call = error_call)
 11.                 └─tidyselect::eval_select(...)
 12.                   └─tidyselect:::eval_select_impl(...)
 13.                     ├─tidyselect:::with_subscript_errors(...)
 14.                     │ └─base::withCallingHandlers(...)
 15.                     └─tidyselect:::vars_select_eval(...)
 16.                       └─tidyselect:::ensure_named(...)
 17.                         └─tidyselect:::check_empty(pos, allow_empty, call = call)
 18.                           └─cli::cli_abort("Must select at least one item.", call = call)
 19.                             └─rlang::abort(...)

[ FAIL 2 | WARN 20 | SKIP 1 | PASS 684 ]
Error:
! Test failures.
Execution halted

Example timings

tidytof.Rcheck/tidytof-Ex.timings

nameusersystemelapsed
as_SingleCellExperiment000
as_flowFrame000
as_flowSet0.0010.0000.000
as_seurat000
as_tof_tbl0.0450.0010.047
make_flowcore_annotated_data_frame000
reexports0.0010.0000.001
rev_asinh000
tidytof_example_data0.0020.0010.002
tof_analyze_abundance0.0000.0000.001
tof_analyze_abundance_diffcyt000
tof_analyze_abundance_glmm000
tof_analyze_abundance_ttest000
tof_analyze_expression000
tof_analyze_expression_diffcyt0.0000.0000.001
tof_analyze_expression_lmm000
tof_analyze_expression_ttest000
tof_annotate_clusters0.0840.0040.088
tof_apply_classifier0.0010.0000.000
tof_assess_channels0.0780.0080.086
tof_assess_clusters_distance0.3800.0770.457
tof_assess_clusters_entropy0.6720.0380.710
tof_assess_clusters_knn7.5030.1187.621
tof_assess_flow_rate0.9640.0070.971
tof_assess_flow_rate_tibble0.2760.0010.278
tof_assess_model0.4250.0350.460
tof_batch_correct0.0000.0000.001
tof_batch_correct_quantile000
tof_batch_correct_quantile_tibble000
tof_batch_correct_rescale0.0000.0000.001
tof_calculate_flow_rate0.0140.0010.015
tof_cluster0.4200.0130.433
tof_cluster_ddpr0.1540.0100.164
tof_cluster_flowsom4.8120.1174.931
tof_cluster_kmeans0.0310.0030.036
tof_cluster_phenograph1.4060.0021.409
tof_cosine_dist000
tof_create_grid0.0430.0010.045
tof_downsample0.1460.0020.150
tof_downsample_constant0.0590.0020.061
tof_downsample_density0.5540.0050.558
tof_downsample_prop0.0620.0000.063
tof_estimate_density0.3940.0060.400
tof_extract_central_tendency0.1640.0000.164
tof_extract_emd0.4400.0000.442
tof_extract_features0.5170.0010.520
tof_extract_jsd0.5150.0070.523
tof_extract_proportion0.1190.0010.120
tof_extract_threshold0.1440.0000.144
tof_find_knn0.1850.2310.415
tof_generate_palette0.0000.0010.000
tof_get_model_mixture0.2180.0000.218
tof_get_model_outcomes0.2270.0010.228
tof_get_model_penalty0.210.000.21
tof_get_model_training_data0.2540.0000.254
tof_get_model_type0.2230.0000.223
tof_get_model_x0.2250.0030.228
tof_get_model_y0.2410.0020.243
tof_get_panel0.0330.0020.035
tof_log_rank_test0.0000.0000.001
tof_make_knn_graph000
tof_make_roc_curve0.3320.0030.335
tof_metacluster0.6980.0050.704
tof_metacluster_consensus0.2900.0020.293
tof_metacluster_flowsom0.6860.0060.694
tof_metacluster_hierarchical0.0520.0000.052
tof_metacluster_kmeans0.0510.0000.051
tof_metacluster_phenograph0.0710.0000.071
tof_plot_cells_density0.080.000.08
tof_plot_cells_embedding3.4370.0233.461
tof_plot_cells_layout2.7430.0162.759
tof_plot_cells_scatter0.0030.0000.002
tof_plot_clusters_heatmap0.1110.0130.123
tof_plot_clusters_mst0.2720.0230.295
tof_plot_clusters_volcano0.0810.0050.086
tof_plot_model0.6310.0040.634
tof_plot_sample_features0.1430.0000.143
tof_plot_sample_heatmap0.1080.0010.109
tof_postprocess0.0890.0000.089
tof_predict0.2220.0000.222
tof_preprocess0.1460.0000.146
tof_read_data0.0780.0010.079
tof_reduce_dimensions2.3070.0442.340
tof_reduce_pca0.1380.0010.140
tof_reduce_tsne0.9310.0040.935
tof_reduce_umap3.4580.0393.429
tof_set_panel0.0690.0000.069
tof_spade_density0.5150.0080.523
tof_split_data0.0440.0000.044
tof_split_tidytof_reduced_dimensions000
tof_train_model1.2920.0031.295
tof_transform0.1440.0000.144
tof_upsample0.2020.0030.205
tof_upsample_distance0.3120.0000.312
tof_upsample_neighbor0.0540.0010.056
tof_write_data0.0000.0010.000
tof_write_fcs000
where0.0010.0000.001