| Back to Multiple platform build/check report for BioC 3.23: simplified long |
|
This page was generated on 2025-11-19 10:14 -0500 (Wed, 19 Nov 2025).
| Hostname | OS | Arch (*) | R version | Installed pkgs |
|---|---|---|---|---|
| nebbiolo1 | Linux (Ubuntu 24.04.3 LTS) | x86_64 | R Under development (unstable) (2025-10-20 r88955) -- "Unsuffered Consequences" | 4827 |
| lconway | macOS 12.7.6 Monterey | x86_64 | R Under development (unstable) (2025-10-21 r88958) -- "Unsuffered Consequences" | 4600 |
| kjohnson3 | macOS 13.7.7 Ventura | arm64 | R Under development (unstable) (2025-11-04 r88984) -- "Unsuffered Consequences" | 4564 |
| Click on any hostname to see more info about the system (e.g. compilers) (*) as reported by 'uname -p', except on Windows and Mac OS X | ||||
| Package 2304/2325 | Hostname | OS / Arch | INSTALL | BUILD | CHECK | BUILD BIN | ||||||||
| wppi 1.19.0 (landing page) Ana Galhoz
| nebbiolo1 | Linux (Ubuntu 24.04.3 LTS) / x86_64 | OK | OK | OK | |||||||||
| lconway | macOS 12.7.6 Monterey / x86_64 | OK | OK | OK | OK | |||||||||
| kjohnson3 | macOS 13.7.7 Ventura / arm64 | OK | OK | OK | OK | |||||||||
|
To the developers/maintainers of the wppi package: - Allow up to 24 hours (and sometimes 48 hours) for your latest push to git@git.bioconductor.org:packages/wppi.git to reflect on this report. See Troubleshooting Build Report for more information. - Use the following Renviron settings to reproduce errors and warnings. - If 'R CMD check' started to fail recently on the Linux builder(s) over a missing dependency, add the missing dependency to 'Suggests:' in your DESCRIPTION file. See Renviron.bioc for more information. |
| Package: wppi |
| Version: 1.19.0 |
| Command: /Library/Frameworks/R.framework/Resources/bin/R CMD check --install=check:wppi.install-out.txt --library=/Library/Frameworks/R.framework/Resources/library --no-vignettes --timings wppi_1.19.0.tar.gz |
| StartedAt: 2025-11-19 00:56:23 -0500 (Wed, 19 Nov 2025) |
| EndedAt: 2025-11-19 01:04:12 -0500 (Wed, 19 Nov 2025) |
| EllapsedTime: 468.9 seconds |
| RetCode: 0 |
| Status: OK |
| CheckDir: wppi.Rcheck |
| Warnings: 0 |
##############################################################################
##############################################################################
###
### Running command:
###
### /Library/Frameworks/R.framework/Resources/bin/R CMD check --install=check:wppi.install-out.txt --library=/Library/Frameworks/R.framework/Resources/library --no-vignettes --timings wppi_1.19.0.tar.gz
###
##############################################################################
##############################################################################
* using log directory ‘/Users/biocbuild/bbs-3.23-bioc/meat/wppi.Rcheck’
* using R Under development (unstable) (2025-10-21 r88958)
* using platform: x86_64-apple-darwin20
* R was compiled by
Apple clang version 14.0.0 (clang-1400.0.29.202)
GNU Fortran (GCC) 14.2.0
* running under: macOS Ventura 13.7.8
* using session charset: UTF-8
* using option ‘--no-vignettes’
* checking for file ‘wppi/DESCRIPTION’ ... OK
* checking extension type ... Package
* this is package ‘wppi’ version ‘1.19.0’
* package encoding: UTF-8
* checking package namespace information ... OK
* checking package dependencies ... OK
* checking if this is a source package ... OK
* checking if there is a namespace ... OK
* checking for hidden files and directories ... OK
* checking for portable file names ... OK
* checking for sufficient/correct file permissions ... OK
* checking whether package ‘wppi’ can be installed ... OK
* checking installed package size ... OK
* checking package directory ... OK
* checking ‘build’ directory ... OK
* checking DESCRIPTION meta-information ... NOTE
License stub is invalid DCF.
* checking top-level files ... OK
* checking for left-over files ... OK
* checking index information ... OK
* checking package subdirectories ... OK
* checking code files for non-ASCII characters ... OK
* checking R files for syntax errors ... OK
* checking whether the package can be loaded ... OK
* checking whether the package can be loaded with stated dependencies ... OK
* checking whether the package can be unloaded cleanly ... OK
* checking whether the namespace can be loaded with stated dependencies ... OK
* checking whether the namespace can be unloaded cleanly ... OK
* checking whether startup messages can be suppressed ... NOTE
[2025-11-19 00:57:14] [TRACE] [OmnipathR] Reading JSON from `/Users/biocbuild/Library/Caches/OmnipathR/cache.json` (encoding: UTF-8).
[2025-11-19 00:57:14] [TRACE] [OmnipathR] JSON validation successful: TRUE
[2025-11-19 00:57:14] [INFO] [OmnipathR] Initialized cache: `/Users/biocbuild/Library/Caches/OmnipathR`.
[2025-11-19 00:57:14] [INFO] [OmnipathR] Package `OmnipathR` packaged: NA
[2025-11-19 00:57:14] [INFO] [OmnipathR] Package `OmnipathR` date/publication: 2025-11-18
[2025-11-19 00:57:14] [INFO] [OmnipathR] Package `OmnipathR` built: R 4.6.0; ; 2025-11-18 20:14:51 UTC; unix
[2025-11-19 00:57:14] [INFO] [OmnipathR] Package `OmnipathR` version: 3.19.2
[2025-11-19 00:57:14] [INFO] [OmnipathR] Package `OmnipathR` repository: Bioconductor 3.23
[2025-11-19 00:57:15] [INFO] [OmnipathR] Session info: [version=R Under development (unstable) (2025-10-21 r88958); os=macOS Ventura 13.7.8; system=x86_64, darwin20; ui=X11; language=(EN); collate=C; ctype=en_US.UTF-8; tz=America/New_York; date=2025-11-19; pandoc=2.7.3 @ /usr/local/bin/ (via rmarkdown); quarto=1.4.553 @ /usr/local/bin/quarto]
[2025-11-19 00:57:15] [INFO] [OmnipathR] External libraries: [cairo=1.17.6; cairoFT=; pango=1.50.14; png=1.6.44; jpeg=9.5; tiff=LIBTIFF, Version 4.5.0; tcl=8.6; curl=8.7.1; zlib=1.2.11; bzlib=1.0.8, 13-Jul-2019; xz=5.6.3; deflate=1.23; zstd=1.5.5; PCRE=10.44 2024-06-07; ICU=70.2; TRE=TRE 0.8.0 R_fixes (BSD); iconv=Apple or GNU libiconv 1.11 /Library/Frameworks/R.framework/Versions/4.6-x86_64/Resources/lib/libR.dylib; readline=5.2; BLAS=/Library/Frameworks/R.framework/Versions/4.6-x86_64/Resources/lib/libRblas.0.dylib; lapack=/Library/Frameworks/R.framework/Versions/4.6-x86_64/Resources/lib/libRlapack.dylib; lapack_version=3.12.1]
[2025-11-19 00:57:15] [INFO] [OmnipathR] Loaded packages: backports 1.5.0(2024-05-23); bit 4.6.0(2025-03-06); bit64 4.6.0-1(2025-01-16); blob 1.2.4(2023-03-17); cachem 1.1.0(2024-05-16); cellranger 1.1.0(2016-07-27); checkmate 2.3.3(2025-08-18); chromote 0.5.1(2025-04-24); cli 3.6.5(2025-04-23); crayon 1.5.3(2024-06-20); curl 7.0.0(2025-08-19); DBI 1.2.3(2024-06-02); digest 0.6.38(2025-11-12); dplyr 1.1.4(2023-11-17); evaluate 1.0.5(2025-08-27); fastmap 1.2.0(2024-05-15); fs 1.6.6(2025-04-12); generics 0.1.4(2025-05-09); glue 1.8.0(2024-09-30); hms 1.1.4(2025-10-17); htmltools 0.5.8.1(2024-04-04); httr 1.4.7(2023-08-15); httr2 1.2.1(2025-07-22); igraph 2.2.1(2025-10-27); jsonlite 2.0.0(2025-03-27); knitr 1.50(2025-03-16); later 1.4.4(2025-08-27); lattice 0.22-7(2025-04-02); lifecycle 1.0.4(2023-11-07); logger 0.4.1(2025-09-11); lubridate 1.9.4(2024-12-08); magrittr 2.0.4(2025-09-12); Matrix 1.7-4(2025-08-28); memoise 2.0.1(2021-11-26); OmnipathR 3.19.2(2025-11-18); otel 0.2.0(2025-08-29); pillar 1.11.1(2025-09-17); pkgconfig 2.0.3(2019-09-22); prettyunits 1.2.0(2023-09-24); processx 3.8.6(2025-02-21); progress 1.2.3(2023-12-06); promises 1.5.0(2025-11-01); ps 1.9.1(2025-04-12); purrr 1.2.0(2025-11-04); R.methodsS3 1.8.2(2022-06-13); R.oo 1.27.1(2025-05-02); R.utils 2.13.0(2025-02-24); R6 2.6.1(2025-02-15); rappdirs 0.3.3(2021-01-31); Rcpp 1.1.0(2025-07-02); readr 2.1.6(2025-11-14); readxl 1.4.5(2025-03-07); rlang 1.1.6(2025-04-11); rmarkdown 2.30(2025-09-28); RSQLite 2.4.4(2025-11-10); rvest 1.0.5(2025-08-29); sessioninfo 1.2.3(2025-02-05); stringi 1.8.7(2025-03-27); stringr 1.6.0(2025-11-04); tibble 3.3.0(2025-06-08); tidyr 1.3.1(2024-01-24); tidyselect 1.2.1(2024-03-11); timechange 0.3.0(2024-01-18); tzdb 0.5.0(2025-03-15); vctrs 0.6.5(2023-12-01); websocket 1.4.4(2025-04-10); withr 3.0.2(2024-10-28); wppi 1.19.0(2025-11-18); xfun 0.54(2025-10-30); XML 3.99-0.20(2025-11-08); xml2 1.5.0(2025-11-17); yaml 2.3.10(2024-07-26); zip 2.3.3(2025-05-13)
[2025-11-19 00:57:15] [INFO] [OmnipathR] CURL: version: 8.14.1; headers: 8.14.1; ssl_version: LibreSSL/3.3.6 (SecureTransport); libz_version: 1.2.11; libssh_version: NA; libidn_version: NA; host: x86_64-apple-darwin22.6.0; protocols: dict, file, ftp, ftps, gopher, gophers, http, https, imap, imaps, ldap, ldaps, mqtt, pop3, pop3s, rtsp, smb, smbs, smtp, smtps, telnet, tftp, ws, wss; ipv6: TRUE; http2: TRUE; idn: FALSE; url_parser: TRUE
[2025-11-19 00:57:15] [TRACE] [OmnipathR] Running on a build server, wiping cache.
[2025-11-19 00:57:15] [TRACE] [OmnipathR] Cache is at `/Users/biocbuild/Library/Caches/OmnipathR`.
[2025-11-19 00:57:15] [TRACE] [OmnipathR] Contains 1 files.
[2025-11-19 00:57:15] [TRACE] [OmnipathR] Cache is locked: FALSE.
[2025-11-19 00:57:15] [TRACE] [OmnipathR] Reading JSON from `/Users/biocbuild/Library/Caches/OmnipathR/cache.json` (encoding: UTF-8).
[2025-11-19 00:57:15] [TRACE] [OmnipathR] JSON validation successful: TRUE
[2025-11-19 00:57:15] [SUCCESS] [OmnipathR] Removing all cache contents from `/Users/biocbuild/Library/Caches/OmnipathR`.
[2025-11-19 00:57:15] [TRACE] [OmnipathR] Pandoc version: `2.7.3`.
[2025-11-19 00:57:15] [TRACE] [OmnipathR] Reading JSON from `/Library/Frameworks/R.framework/Versions/4.6-x86_64/Resources/library/OmnipathR/db/db_def.json` (encoding: UTF-8).
[2025-11-19 00:57:15] [TRACE] [OmnipathR] JSON validation successful: TRUE
[2025-11-19 00:57:15] [TRACE] [OmnipathR] Reading JSON from `/Library/Frameworks/R.framework/Versions/4.6-x86_64/Resources/library/OmnipathR/internal/magic_bytes.json` (encoding: UTF-8).
[2025-11-19 00:57:15] [TRACE] [OmnipathR] JSON validation successful: TRUE
[2025-11-19 00:57:15] [TRACE] [OmnipathR] Reading JSON from `/Library/Frameworks/R.framework/Versions/4.6-x86_64/Resources/library/OmnipathR/internal/urls.json` (encoding: UTF-8).
[2025-11-19 00:57:15] [TRACE] [OmnipathR] JSON validation successful: TRUE
[2025-11-19 00:57:15] [TRACE] [OmnipathR] Reading JSON from `/Library/Frameworks/R.framework/Versions/4.6-x86_64/Resources/library/OmnipathR/internal/id_types.json` (encoding: UTF-8).
[2025-11-19 00:57:15] [TRACE] [OmnipathR] JSON validation successful: TRUE
[2025-11-19 00:57:15] [TRACE] [OmnipathR] Cache locked: FALSE
It looks like this package (or a package it requires) has a startup
message which cannot be suppressed: see ?packageStartupMessage.
* checking dependencies in R code ... OK
* checking S3 generic/method consistency ... OK
* checking replacement functions ... OK
* checking foreign function calls ... OK
* checking R code for possible problems ... NOTE
[2025-11-19 00:57:42] [TRACE] [OmnipathR] Reading JSON from `/Users/biocbuild/Library/Caches/OmnipathR/cache.json` (encoding: UTF-8).
[2025-11-19 00:57:42] [TRACE] [OmnipathR] JSON validation successful: TRUE
[2025-11-19 00:57:42] [INFO] [OmnipathR] Initialized cache: `/Users/biocbuild/Library/Caches/OmnipathR`.
[2025-11-19 00:57:42] [INFO] [OmnipathR] Package `OmnipathR` packaged: NA
[2025-11-19 00:57:42] [INFO] [OmnipathR] Package `OmnipathR` date/publication: 2025-11-18
[2025-11-19 00:57:42] [INFO] [OmnipathR] Package `OmnipathR` built: R 4.6.0; ; 2025-11-18 20:14:51 UTC; unix
[2025-11-19 00:57:42] [INFO] [OmnipathR] Package `OmnipathR` version: 3.19.2
[2025-11-19 00:57:42] [INFO] [OmnipathR] Package `OmnipathR` repository: Bioconductor 3.23
[2025-11-19 00:57:43] [INFO] [OmnipathR] Session info: [version=R Under development (unstable) (2025-10-21 r88958); os=macOS Ventura 13.7.8; system=x86_64, darwin20; ui=X11; language=(EN); collate=C; ctype=en_US.UTF-8; tz=America/New_York; date=2025-11-19; pandoc=2.7.3 @ /usr/local/bin/ (via rmarkdown); quarto=1.4.553 @ /usr/local/bin/quarto]
[2025-11-19 00:57:43] [INFO] [OmnipathR] External libraries: [cairo=1.17.6; cairoFT=; pango=1.50.14; png=1.6.44; jpeg=9.5; tiff=LIBTIFF, Version 4.5.0; tcl=8.6; curl=8.7.1; zlib=1.2.11; bzlib=1.0.8, 13-Jul-2019; xz=5.6.3; deflate=1.23; zstd=1.5.5; PCRE=10.44 2024-06-07; ICU=70.2; TRE=TRE 0.8.0 R_fixes (BSD); iconv=Apple or GNU libiconv 1.11 /Library/Frameworks/R.framework/Versions/4.6-x86_64/Resources/lib/libR.dylib; readline=5.2; BLAS=/Library/Frameworks/R.framework/Versions/4.6-x86_64/Resources/lib/libRblas.0.dylib; lapack=/Library/Frameworks/R.framework/Versions/4.6-x86_64/Resources/lib/libRlapack.dylib; lapack_version=3.12.1]
[2025-11-19 00:57:44] [INFO] [OmnipathR] Loaded packages: backports 1.5.0(2024-05-23); bit 4.6.0(2025-03-06); bit64 4.6.0-1(2025-01-16); blob 1.2.4(2023-03-17); cachem 1.1.0(2024-05-16); cellranger 1.1.0(2016-07-27); checkmate 2.3.3(2025-08-18); chromote 0.5.1(2025-04-24); cli 3.6.5(2025-04-23); crayon 1.5.3(2024-06-20); curl 7.0.0(2025-08-19); DBI 1.2.3(2024-06-02); digest 0.6.38(2025-11-12); dplyr 1.1.4(2023-11-17); evaluate 1.0.5(2025-08-27); fastmap 1.2.0(2024-05-15); fs 1.6.6(2025-04-12); generics 0.1.4(2025-05-09); glue 1.8.0(2024-09-30); hms 1.1.4(2025-10-17); htmltools 0.5.8.1(2024-04-04); httr 1.4.7(2023-08-15); httr2 1.2.1(2025-07-22); igraph 2.2.1(2025-10-27); jsonlite 2.0.0(2025-03-27); knitr 1.50(2025-03-16); later 1.4.4(2025-08-27); lattice 0.22-7(2025-04-02); lifecycle 1.0.4(2023-11-07); logger 0.4.1(2025-09-11); lubridate 1.9.4(2024-12-08); magrittr 2.0.4(2025-09-12); Matrix 1.7-4(2025-08-28); memoise 2.0.1(2021-11-26); OmnipathR 3.19.2(2025-11-18); otel 0.2.0(2025-08-29); pillar 1.11.1(2025-09-17); pkgconfig 2.0.3(2019-09-22); prettyunits 1.2.0(2023-09-24); processx 3.8.6(2025-02-21); progress 1.2.3(2023-12-06); promises 1.5.0(2025-11-01); ps 1.9.1(2025-04-12); purrr 1.2.0(2025-11-04); R.methodsS3 1.8.2(2022-06-13); R.oo 1.27.1(2025-05-02); R.utils 2.13.0(2025-02-24); R6 2.6.1(2025-02-15); rappdirs 0.3.3(2021-01-31); Rcpp 1.1.0(2025-07-02); readr 2.1.6(2025-11-14); readxl 1.4.5(2025-03-07); rlang 1.1.6(2025-04-11); rmarkdown 2.30(2025-09-28); RSQLite 2.4.4(2025-11-10); rvest 1.0.5(2025-08-29); sessioninfo 1.2.3(2025-02-05); stringi 1.8.7(2025-03-27); stringr 1.6.0(2025-11-04); tibble 3.3.0(2025-06-08); tidyr 1.3.1(2024-01-24); tidyselect 1.2.1(2024-03-11); timechange 0.3.0(2024-01-18); tzdb 0.5.0(2025-03-15); vctrs 0.6.5(2023-12-01); websocket 1.4.4(2025-04-10); withr 3.0.2(2024-10-28); wppi 1.19.0(2025-11-18); xfun 0.54(2025-10-30); XML 3.99-0.20(2025-11-08); xml2 1.5.0(2025-11-17); yaml 2.3.10(2024-07-26); zip 2.3.3(2025-05-13)
[2025-11-19 00:57:44] [INFO] [OmnipathR] CURL: version: 8.14.1; headers: 8.14.1; ssl_version: LibreSSL/3.3.6 (SecureTransport); libz_version: 1.2.11; libssh_version: NA; libidn_version: NA; host: x86_64-apple-darwin22.6.0; protocols: dict, file, ftp, ftps, gopher, gophers, http, https, imap, imaps, ldap, ldaps, mqtt, pop3, pop3s, rtsp, smb, smbs, smtp, smtps, telnet, tftp, ws, wss; ipv6: TRUE; http2: TRUE; idn: FALSE; url_parser: TRUE
[2025-11-19 00:57:44] [TRACE] [OmnipathR] Running on a build server, wiping cache.
[2025-11-19 00:57:44] [TRACE] [OmnipathR] Cache is at `/Users/biocbuild/Library/Caches/OmnipathR`.
[2025-11-19 00:57:44] [TRACE] [OmnipathR] Contains 1 files.
[2025-11-19 00:57:44] [TRACE] [OmnipathR] Cache is locked: FALSE.
[2025-11-19 00:57:44] [TRACE] [OmnipathR] Reading JSON from `/Users/biocbuild/Library/Caches/OmnipathR/cache.json` (encoding: UTF-8).
[2025-11-19 00:57:44] [TRACE] [OmnipathR] JSON validation successful: TRUE
[2025-11-19 00:57:44] [SUCCESS] [OmnipathR] Removing all cache contents from `/Users/biocbuild/Library/Caches/OmnipathR`.
[2025-11-19 00:57:44] [TRACE] [OmnipathR] Pandoc version: `2.7.3`.
[2025-11-19 00:57:44] [TRACE] [OmnipathR] Reading JSON from `/Library/Frameworks/R.framework/Versions/4.6-x86_64/Resources/library/OmnipathR/db/db_def.json` (encoding: UTF-8).
[2025-11-19 00:57:44] [TRACE] [OmnipathR] JSON validation successful: TRUE
[2025-11-19 00:57:44] [TRACE] [OmnipathR] Reading JSON from `/Library/Frameworks/R.framework/Versions/4.6-x86_64/Resources/library/OmnipathR/internal/magic_bytes.json` (encoding: UTF-8).
[2025-11-19 00:57:44] [TRACE] [OmnipathR] JSON validation successful: TRUE
[2025-11-19 00:57:44] [TRACE] [OmnipathR] Reading JSON from `/Library/Frameworks/R.framework/Versions/4.6-x86_64/Resources/library/OmnipathR/internal/urls.json` (encoding: UTF-8).
[2025-11-19 00:57:44] [TRACE] [OmnipathR] JSON validation successful: TRUE
[2025-11-19 00:57:44] [TRACE] [OmnipathR] Reading JSON from `/Library/Frameworks/R.framework/Versions/4.6-x86_64/Resources/library/OmnipathR/internal/id_types.json` (encoding: UTF-8).
[2025-11-19 00:57:44] [TRACE] [OmnipathR] JSON validation successful: TRUE
[2025-11-19 00:57:44] [TRACE] [OmnipathR] Cache locked: FALSE
* checking Rd files ... OK
* checking Rd metadata ... OK
* checking Rd cross-references ... OK
* checking for missing documentation entries ... OK
* checking for code/documentation mismatches ... OK
* checking Rd \usage sections ... OK
* checking Rd contents ... OK
* checking for unstated dependencies in examples ... OK
* checking files in ‘vignettes’ ... OK
* checking examples ... OK
Examples with CPU (user + system) or elapsed time > 5s
user system elapsed
wppi 52.402 10.423 61.926
common_neighbors 46.343 5.304 68.079
prioritization_genes 40.092 9.002 49.754
random_walk 31.493 6.584 38.077
score_candidate_genes_from_PPI 28.123 5.471 33.243
weighted_adj 21.230 2.932 23.946
count_genes 13.872 1.123 20.666
filter_annot_with_network 9.951 0.469 10.504
wppi_data 6.586 0.212 6.790
in_omnipath 5.030 0.360 5.474
* checking for unstated dependencies in vignettes ... OK
* checking package vignettes ... OK
* checking running R code from vignettes ... SKIPPED
* checking re-building of vignette outputs ... SKIPPED
* checking PDF version of manual ... OK
* DONE
Status: 3 NOTEs
See
‘/Users/biocbuild/bbs-3.23-bioc/meat/wppi.Rcheck/00check.log’
for details.
wppi.Rcheck/00install.out
############################################################################## ############################################################################## ### ### Running command: ### ### /Library/Frameworks/R.framework/Resources/bin/R CMD INSTALL wppi ### ############################################################################## ############################################################################## * installing to library ‘/Library/Frameworks/R.framework/Versions/4.6-x86_64/Resources/library’ * installing *source* package ‘wppi’ ... ** this is package ‘wppi’ version ‘1.19.0’ ** using staged installation ** R ** byte-compile and prepare package for lazy loading [2025-11-18 15:15:19] [TRACE] [OmnipathR] Reading JSON from `/Users/biocbuild/Library/Caches/OmnipathR/cache.json` (encoding: UTF-8). [2025-11-18 15:15:19] [TRACE] [OmnipathR] JSON validation successful: TRUE [2025-11-18 15:15:19] [INFO] [OmnipathR] Initialized cache: `/Users/biocbuild/Library/Caches/OmnipathR`. [2025-11-18 15:15:19] [INFO] [OmnipathR] Package `OmnipathR` packaged: NA [2025-11-18 15:15:19] [INFO] [OmnipathR] Package `OmnipathR` date/publication: 2025-11-18 [2025-11-18 15:15:19] [INFO] [OmnipathR] Package `OmnipathR` built: R 4.6.0; ; 2025-11-18 20:14:51 UTC; unix [2025-11-18 15:15:19] [INFO] [OmnipathR] Package `OmnipathR` version: 3.19.2 [2025-11-18 15:15:19] [INFO] [OmnipathR] Package `OmnipathR` repository: Bioconductor 3.23 [2025-11-18 15:15:19] [INFO] [OmnipathR] Session info: [version=R Under development (unstable) (2025-10-21 r88958); os=macOS Ventura 13.7.8; system=x86_64, darwin20; ui=X11; language=(EN); collate=C; ctype=en_US.UTF-8; tz=America/New_York; date=2025-11-18; pandoc=2.7.3 @ /usr/local/bin/ (via rmarkdown); quarto=1.4.553 @ /usr/local/bin/quarto] [2025-11-18 15:15:20] [INFO] [OmnipathR] External libraries: [cairo=1.17.6; cairoFT=; pango=1.50.14; png=1.6.44; jpeg=9.5; tiff=LIBTIFF, Version 4.5.0; tcl=8.6; curl=8.7.1; zlib=1.2.11; bzlib=1.0.8, 13-Jul-2019; xz=5.6.3; deflate=1.23; zstd=1.5.5; PCRE=10.44 2024-06-07; ICU=70.2; TRE=TRE 0.8.0 R_fixes (BSD); iconv=Apple or GNU libiconv 1.11 /Library/Frameworks/R.framework/Versions/4.6-x86_64/Resources/lib/libR.dylib; readline=5.2; BLAS=/Library/Frameworks/R.framework/Versions/4.6-x86_64/Resources/lib/libRblas.0.dylib; lapack=/Library/Frameworks/R.framework/Versions/4.6-x86_64/Resources/lib/libRlapack.dylib; lapack_version=3.12.1] [2025-11-18 15:15:20] [INFO] [OmnipathR] Loaded packages: backports 1.5.0(2024-05-23); bit 4.6.0(2025-03-06); bit64 4.6.0-1(2025-01-16); blob 1.2.4(2023-03-17); cachem 1.1.0(2024-05-16); cellranger 1.1.0(2016-07-27); checkmate 2.3.3(2025-08-18); chromote 0.5.1(2025-04-24); cli 3.6.5(2025-04-23); crayon 1.5.3(2024-06-20); curl 7.0.0(2025-08-19); DBI 1.2.3(2024-06-02); digest 0.6.38(2025-11-12); dplyr 1.1.4(2023-11-17); evaluate 1.0.5(2025-08-27); fastmap 1.2.0(2024-05-15); fs 1.6.6(2025-04-12); generics 0.1.4(2025-05-09); glue 1.8.0(2024-09-30); hms 1.1.4(2025-10-17); htmltools 0.5.8.1(2024-04-04); httr 1.4.7(2023-08-15); httr2 1.2.1(2025-07-22); igraph 2.2.1(2025-10-27); jsonlite 2.0.0(2025-03-27); knitr 1.50(2025-03-16); later 1.4.4(2025-08-27); lattice 0.22-7(2025-04-02); lifecycle 1.0.4(2023-11-07); logger 0.4.1(2025-09-11); lubridate 1.9.4(2024-12-08); magrittr 2.0.4(2025-09-12); Matrix 1.7-4(2025-08-28); memoise 2.0.1(2021-11-26); OmnipathR 3.19.2(2025-11-18); otel 0.2.0(2025-08-29); pillar 1.11.1(2025-09-17); pkgconfig 2.0.3(2019-09-22); prettyunits 1.2.0(2023-09-24); processx 3.8.6(2025-02-21); progress 1.2.3(2023-12-06); promises 1.5.0(2025-11-01); ps 1.9.1(2025-04-12); purrr 1.2.0(2025-11-04); R.methodsS3 1.8.2(2022-06-13); R.oo 1.27.1(2025-05-02); R.utils 2.13.0(2025-02-24); R6 2.6.1(2025-02-15); rappdirs 0.3.3(2021-01-31); Rcpp 1.1.0(2025-07-02); readr 2.1.6(2025-11-14); readxl 1.4.5(2025-03-07); rlang 1.1.6(2025-04-11); rmarkdown 2.30(2025-09-28); RSQLite 2.4.4(2025-11-10); rvest 1.0.5(2025-08-29); sessioninfo 1.2.3(2025-02-05); stringi 1.8.7(2025-03-27); stringr 1.6.0(2025-11-04); tibble 3.3.0(2025-06-08); tidyr 1.3.1(2024-01-24); tidyselect 1.2.1(2024-03-11); timechange 0.3.0(2024-01-18); tzdb 0.5.0(2025-03-15); vctrs 0.6.5(2023-12-01); websocket 1.4.4(2025-04-10); withr 3.0.2(2024-10-28); wppi 1.19.0(2025-11-18); xfun 0.54(2025-10-30); XML 3.99-0.20(2025-11-08); xml2 1.5.0(2025-11-17); yaml 2.3.10(2024-07-26); zip 2.3.3(2025-05-13) [2025-11-18 15:15:20] [INFO] [OmnipathR] CURL: version: 8.14.1; headers: 8.14.1; ssl_version: LibreSSL/3.3.6 (SecureTransport); libz_version: 1.2.11; libssh_version: NA; libidn_version: NA; host: x86_64-apple-darwin22.6.0; protocols: dict, file, ftp, ftps, gopher, gophers, http, https, imap, imaps, ldap, ldaps, mqtt, pop3, pop3s, rtsp, smb, smbs, smtp, smtps, telnet, tftp, ws, wss; ipv6: TRUE; http2: TRUE; idn: FALSE; url_parser: TRUE [2025-11-18 15:15:20] [TRACE] [OmnipathR] Running on a build server, wiping cache. [2025-11-18 15:15:20] [TRACE] [OmnipathR] Cache is at `/Users/biocbuild/Library/Caches/OmnipathR`. [2025-11-18 15:15:20] [TRACE] [OmnipathR] Contains 1 files. [2025-11-18 15:15:20] [TRACE] [OmnipathR] Cache is locked: FALSE. [2025-11-18 15:15:20] [TRACE] [OmnipathR] Reading JSON from `/Users/biocbuild/Library/Caches/OmnipathR/cache.json` (encoding: UTF-8). [2025-11-18 15:15:20] [TRACE] [OmnipathR] JSON validation successful: TRUE [2025-11-18 15:15:20] [SUCCESS] [OmnipathR] Removing all cache contents from `/Users/biocbuild/Library/Caches/OmnipathR`. [2025-11-18 15:15:20] [TRACE] [OmnipathR] Pandoc version: `2.7.3`. [2025-11-18 15:15:20] [TRACE] [OmnipathR] Reading JSON from `/Library/Frameworks/R.framework/Versions/4.6-x86_64/Resources/library/OmnipathR/db/db_def.json` (encoding: UTF-8). [2025-11-18 15:15:20] [TRACE] [OmnipathR] JSON validation successful: TRUE [2025-11-18 15:15:20] [TRACE] [OmnipathR] Reading JSON from `/Library/Frameworks/R.framework/Versions/4.6-x86_64/Resources/library/OmnipathR/internal/magic_bytes.json` (encoding: UTF-8). [2025-11-18 15:15:20] [TRACE] [OmnipathR] JSON validation successful: TRUE [2025-11-18 15:15:20] [TRACE] [OmnipathR] Reading JSON from `/Library/Frameworks/R.framework/Versions/4.6-x86_64/Resources/library/OmnipathR/internal/urls.json` (encoding: UTF-8). [2025-11-18 15:15:20] [TRACE] [OmnipathR] JSON validation successful: TRUE [2025-11-18 15:15:20] [TRACE] [OmnipathR] Reading JSON from `/Library/Frameworks/R.framework/Versions/4.6-x86_64/Resources/library/OmnipathR/internal/id_types.json` (encoding: UTF-8). [2025-11-18 15:15:20] [TRACE] [OmnipathR] JSON validation successful: TRUE [2025-11-18 15:15:20] [TRACE] [OmnipathR] Cache locked: FALSE Note: wrong number of arguments to '/' ** help *** installing help indices ** building package indices ** installing vignettes ** testing if installed package can be loaded from temporary location [2025-11-18 15:15:24] [TRACE] [OmnipathR] Reading JSON from `/Users/biocbuild/Library/Caches/OmnipathR/cache.json` (encoding: UTF-8). [2025-11-18 15:15:24] [TRACE] [OmnipathR] JSON validation successful: TRUE [2025-11-18 15:15:24] [INFO] [OmnipathR] Initialized cache: `/Users/biocbuild/Library/Caches/OmnipathR`. [2025-11-18 15:15:24] [INFO] [OmnipathR] Package `OmnipathR` packaged: NA [2025-11-18 15:15:24] [INFO] [OmnipathR] Package `OmnipathR` date/publication: 2025-11-18 [2025-11-18 15:15:24] [INFO] [OmnipathR] Package `OmnipathR` built: R 4.6.0; ; 2025-11-18 20:14:51 UTC; unix [2025-11-18 15:15:24] [INFO] [OmnipathR] Package `OmnipathR` version: 3.19.2 [2025-11-18 15:15:24] [INFO] [OmnipathR] Package `OmnipathR` repository: Bioconductor 3.23 [2025-11-18 15:15:25] [INFO] [OmnipathR] Session info: [version=R Under development (unstable) (2025-10-21 r88958); os=macOS Ventura 13.7.8; system=x86_64, darwin20; ui=X11; language=(EN); collate=C; ctype=en_US.UTF-8; tz=America/New_York; date=2025-11-18; pandoc=2.7.3 @ /usr/local/bin/ (via rmarkdown); quarto=1.4.553 @ /usr/local/bin/quarto] [2025-11-18 15:15:25] [INFO] [OmnipathR] External libraries: [cairo=1.17.6; cairoFT=; pango=1.50.14; png=1.6.44; jpeg=9.5; tiff=LIBTIFF, Version 4.5.0; tcl=8.6; curl=8.7.1; zlib=1.2.11; bzlib=1.0.8, 13-Jul-2019; xz=5.6.3; deflate=1.23; zstd=1.5.5; PCRE=10.44 2024-06-07; ICU=70.2; TRE=TRE 0.8.0 R_fixes (BSD); iconv=Apple or GNU libiconv 1.11 /Library/Frameworks/R.framework/Versions/4.6-x86_64/Resources/lib/libR.dylib; readline=5.2; BLAS=/Library/Frameworks/R.framework/Versions/4.6-x86_64/Resources/lib/libRblas.0.dylib; lapack=/Library/Frameworks/R.framework/Versions/4.6-x86_64/Resources/lib/libRlapack.dylib; lapack_version=3.12.1] [2025-11-18 15:15:26] [INFO] [OmnipathR] Loaded packages: backports 1.5.0(2024-05-23); bit 4.6.0(2025-03-06); bit64 4.6.0-1(2025-01-16); blob 1.2.4(2023-03-17); cachem 1.1.0(2024-05-16); cellranger 1.1.0(2016-07-27); checkmate 2.3.3(2025-08-18); chromote 0.5.1(2025-04-24); cli 3.6.5(2025-04-23); crayon 1.5.3(2024-06-20); curl 7.0.0(2025-08-19); DBI 1.2.3(2024-06-02); digest 0.6.38(2025-11-12); dplyr 1.1.4(2023-11-17); evaluate 1.0.5(2025-08-27); fastmap 1.2.0(2024-05-15); fs 1.6.6(2025-04-12); generics 0.1.4(2025-05-09); glue 1.8.0(2024-09-30); hms 1.1.4(2025-10-17); htmltools 0.5.8.1(2024-04-04); httr 1.4.7(2023-08-15); httr2 1.2.1(2025-07-22); igraph 2.2.1(2025-10-27); jsonlite 2.0.0(2025-03-27); knitr 1.50(2025-03-16); later 1.4.4(2025-08-27); lattice 0.22-7(2025-04-02); lifecycle 1.0.4(2023-11-07); logger 0.4.1(2025-09-11); lubridate 1.9.4(2024-12-08); magrittr 2.0.4(2025-09-12); Matrix 1.7-4(2025-08-28); memoise 2.0.1(2021-11-26); OmnipathR 3.19.2(2025-11-18); otel 0.2.0(2025-08-29); pillar 1.11.1(2025-09-17); pkgconfig 2.0.3(2019-09-22); prettyunits 1.2.0(2023-09-24); processx 3.8.6(2025-02-21); progress 1.2.3(2023-12-06); promises 1.5.0(2025-11-01); ps 1.9.1(2025-04-12); purrr 1.2.0(2025-11-04); R.methodsS3 1.8.2(2022-06-13); R.oo 1.27.1(2025-05-02); R.utils 2.13.0(2025-02-24); R6 2.6.1(2025-02-15); rappdirs 0.3.3(2021-01-31); Rcpp 1.1.0(2025-07-02); readr 2.1.6(2025-11-14); readxl 1.4.5(2025-03-07); rlang 1.1.6(2025-04-11); rmarkdown 2.30(2025-09-28); RSQLite 2.4.4(2025-11-10); rvest 1.0.5(2025-08-29); sessioninfo 1.2.3(2025-02-05); stringi 1.8.7(2025-03-27); stringr 1.6.0(2025-11-04); tibble 3.3.0(2025-06-08); tidyr 1.3.1(2024-01-24); tidyselect 1.2.1(2024-03-11); timechange 0.3.0(2024-01-18); tzdb 0.5.0(2025-03-15); vctrs 0.6.5(2023-12-01); websocket 1.4.4(2025-04-10); withr 3.0.2(2024-10-28); wppi 1.19.0(2025-11-18); xfun 0.54(2025-10-30); XML 3.99-0.20(2025-11-08); xml2 1.5.0(2025-11-17); yaml 2.3.10(2024-07-26); zip 2.3.3(2025-05-13) [2025-11-18 15:15:26] [INFO] [OmnipathR] CURL: version: 8.14.1; headers: 8.14.1; ssl_version: LibreSSL/3.3.6 (SecureTransport); libz_version: 1.2.11; libssh_version: NA; libidn_version: NA; host: x86_64-apple-darwin22.6.0; protocols: dict, file, ftp, ftps, gopher, gophers, http, https, imap, imaps, ldap, ldaps, mqtt, pop3, pop3s, rtsp, smb, smbs, smtp, smtps, telnet, tftp, ws, wss; ipv6: TRUE; http2: TRUE; idn: FALSE; url_parser: TRUE [2025-11-18 15:15:26] [TRACE] [OmnipathR] Running on a build server, wiping cache. [2025-11-18 15:15:26] [TRACE] [OmnipathR] Cache is at `/Users/biocbuild/Library/Caches/OmnipathR`. [2025-11-18 15:15:26] [TRACE] [OmnipathR] Contains 1 files. [2025-11-18 15:15:26] [TRACE] [OmnipathR] Cache is locked: FALSE. [2025-11-18 15:15:26] [TRACE] [OmnipathR] Reading JSON from `/Users/biocbuild/Library/Caches/OmnipathR/cache.json` (encoding: UTF-8). [2025-11-18 15:15:26] [TRACE] [OmnipathR] JSON validation successful: TRUE [2025-11-18 15:15:26] [SUCCESS] [OmnipathR] Removing all cache contents from `/Users/biocbuild/Library/Caches/OmnipathR`. [2025-11-18 15:15:26] [TRACE] [OmnipathR] Pandoc version: `2.7.3`. [2025-11-18 15:15:26] [TRACE] [OmnipathR] Reading JSON from `/Library/Frameworks/R.framework/Versions/4.6-x86_64/Resources/library/OmnipathR/db/db_def.json` (encoding: UTF-8). [2025-11-18 15:15:26] [TRACE] [OmnipathR] JSON validation successful: TRUE [2025-11-18 15:15:26] [TRACE] [OmnipathR] Reading JSON from `/Library/Frameworks/R.framework/Versions/4.6-x86_64/Resources/library/OmnipathR/internal/magic_bytes.json` (encoding: UTF-8). [2025-11-18 15:15:26] [TRACE] [OmnipathR] JSON validation successful: TRUE [2025-11-18 15:15:26] [TRACE] [OmnipathR] Reading JSON from `/Library/Frameworks/R.framework/Versions/4.6-x86_64/Resources/library/OmnipathR/internal/urls.json` (encoding: UTF-8). [2025-11-18 15:15:26] [TRACE] [OmnipathR] JSON validation successful: TRUE [2025-11-18 15:15:26] [TRACE] [OmnipathR] Reading JSON from `/Library/Frameworks/R.framework/Versions/4.6-x86_64/Resources/library/OmnipathR/internal/id_types.json` (encoding: UTF-8). [2025-11-18 15:15:26] [TRACE] [OmnipathR] JSON validation successful: TRUE [2025-11-18 15:15:26] [TRACE] [OmnipathR] Cache locked: FALSE ** testing if installed package can be loaded from final location [2025-11-18 15:15:29] [TRACE] [OmnipathR] Reading JSON from `/Users/biocbuild/Library/Caches/OmnipathR/cache.json` (encoding: UTF-8). [2025-11-18 15:15:29] [TRACE] [OmnipathR] JSON validation successful: TRUE [2025-11-18 15:15:29] [INFO] [OmnipathR] Initialized cache: `/Users/biocbuild/Library/Caches/OmnipathR`. [2025-11-18 15:15:29] [INFO] [OmnipathR] Package `OmnipathR` packaged: NA [2025-11-18 15:15:29] [INFO] [OmnipathR] Package `OmnipathR` date/publication: 2025-11-18 [2025-11-18 15:15:29] [INFO] [OmnipathR] Package `OmnipathR` built: R 4.6.0; ; 2025-11-18 20:14:51 UTC; unix [2025-11-18 15:15:29] [INFO] [OmnipathR] Package `OmnipathR` version: 3.19.2 [2025-11-18 15:15:29] [INFO] [OmnipathR] Package `OmnipathR` repository: Bioconductor 3.23 [2025-11-18 15:15:30] [INFO] [OmnipathR] Session info: [version=R Under development (unstable) (2025-10-21 r88958); os=macOS Ventura 13.7.8; system=x86_64, darwin20; ui=X11; language=(EN); collate=C; ctype=en_US.UTF-8; tz=America/New_York; date=2025-11-18; pandoc=2.7.3 @ /usr/local/bin/ (via rmarkdown); quarto=1.4.553 @ /usr/local/bin/quarto] [2025-11-18 15:15:30] [INFO] [OmnipathR] External libraries: [cairo=1.17.6; cairoFT=; pango=1.50.14; png=1.6.44; jpeg=9.5; tiff=LIBTIFF, Version 4.5.0; tcl=8.6; curl=8.7.1; zlib=1.2.11; bzlib=1.0.8, 13-Jul-2019; xz=5.6.3; deflate=1.23; zstd=1.5.5; PCRE=10.44 2024-06-07; ICU=70.2; TRE=TRE 0.8.0 R_fixes (BSD); iconv=Apple or GNU libiconv 1.11 /Library/Frameworks/R.framework/Versions/4.6-x86_64/Resources/lib/libR.dylib; readline=5.2; BLAS=/Library/Frameworks/R.framework/Versions/4.6-x86_64/Resources/lib/libRblas.0.dylib; lapack=/Library/Frameworks/R.framework/Versions/4.6-x86_64/Resources/lib/libRlapack.dylib; lapack_version=3.12.1] [2025-11-18 15:15:30] [INFO] [OmnipathR] Loaded packages: backports 1.5.0(2024-05-23); bit 4.6.0(2025-03-06); bit64 4.6.0-1(2025-01-16); blob 1.2.4(2023-03-17); cachem 1.1.0(2024-05-16); cellranger 1.1.0(2016-07-27); checkmate 2.3.3(2025-08-18); chromote 0.5.1(2025-04-24); cli 3.6.5(2025-04-23); crayon 1.5.3(2024-06-20); curl 7.0.0(2025-08-19); DBI 1.2.3(2024-06-02); digest 0.6.38(2025-11-12); dplyr 1.1.4(2023-11-17); evaluate 1.0.5(2025-08-27); fastmap 1.2.0(2024-05-15); fs 1.6.6(2025-04-12); generics 0.1.4(2025-05-09); glue 1.8.0(2024-09-30); hms 1.1.4(2025-10-17); htmltools 0.5.8.1(2024-04-04); httr 1.4.7(2023-08-15); httr2 1.2.1(2025-07-22); igraph 2.2.1(2025-10-27); jsonlite 2.0.0(2025-03-27); knitr 1.50(2025-03-16); later 1.4.4(2025-08-27); lattice 0.22-7(2025-04-02); lifecycle 1.0.4(2023-11-07); logger 0.4.1(2025-09-11); lubridate 1.9.4(2024-12-08); magrittr 2.0.4(2025-09-12); Matrix 1.7-4(2025-08-28); memoise 2.0.1(2021-11-26); OmnipathR 3.19.2(2025-11-18); otel 0.2.0(2025-08-29); pillar 1.11.1(2025-09-17); pkgconfig 2.0.3(2019-09-22); prettyunits 1.2.0(2023-09-24); processx 3.8.6(2025-02-21); progress 1.2.3(2023-12-06); promises 1.5.0(2025-11-01); ps 1.9.1(2025-04-12); purrr 1.2.0(2025-11-04); R.methodsS3 1.8.2(2022-06-13); R.oo 1.27.1(2025-05-02); R.utils 2.13.0(2025-02-24); R6 2.6.1(2025-02-15); rappdirs 0.3.3(2021-01-31); Rcpp 1.1.0(2025-07-02); readr 2.1.6(2025-11-14); readxl 1.4.5(2025-03-07); rlang 1.1.6(2025-04-11); rmarkdown 2.30(2025-09-28); RSQLite 2.4.4(2025-11-10); rvest 1.0.5(2025-08-29); sessioninfo 1.2.3(2025-02-05); stringi 1.8.7(2025-03-27); stringr 1.6.0(2025-11-04); tibble 3.3.0(2025-06-08); tidyr 1.3.1(2024-01-24); tidyselect 1.2.1(2024-03-11); timechange 0.3.0(2024-01-18); tzdb 0.5.0(2025-03-15); vctrs 0.6.5(2023-12-01); websocket 1.4.4(2025-04-10); withr 3.0.2(2024-10-28); wppi 1.19.0(2025-11-18); xfun 0.54(2025-10-30); XML 3.99-0.20(2025-11-08); xml2 1.5.0(2025-11-17); yaml 2.3.10(2024-07-26); zip 2.3.3(2025-05-13) [2025-11-18 15:15:30] [INFO] [OmnipathR] CURL: version: 8.14.1; headers: 8.14.1; ssl_version: LibreSSL/3.3.6 (SecureTransport); libz_version: 1.2.11; libssh_version: NA; libidn_version: NA; host: x86_64-apple-darwin22.6.0; protocols: dict, file, ftp, ftps, gopher, gophers, http, https, imap, imaps, ldap, ldaps, mqtt, pop3, pop3s, rtsp, smb, smbs, smtp, smtps, telnet, tftp, ws, wss; ipv6: TRUE; http2: TRUE; idn: FALSE; url_parser: TRUE [2025-11-18 15:15:30] [TRACE] [OmnipathR] Running on a build server, wiping cache. [2025-11-18 15:15:30] [TRACE] [OmnipathR] Cache is at `/Users/biocbuild/Library/Caches/OmnipathR`. [2025-11-18 15:15:30] [TRACE] [OmnipathR] Contains 1 files. [2025-11-18 15:15:30] [TRACE] [OmnipathR] Cache is locked: FALSE. [2025-11-18 15:15:30] [TRACE] [OmnipathR] Reading JSON from `/Users/biocbuild/Library/Caches/OmnipathR/cache.json` (encoding: UTF-8). [2025-11-18 15:15:30] [TRACE] [OmnipathR] JSON validation successful: TRUE [2025-11-18 15:15:30] [SUCCESS] [OmnipathR] Removing all cache contents from `/Users/biocbuild/Library/Caches/OmnipathR`. [2025-11-18 15:15:30] [TRACE] [OmnipathR] Pandoc version: `2.7.3`. [2025-11-18 15:15:30] [TRACE] [OmnipathR] Reading JSON from `/Library/Frameworks/R.framework/Versions/4.6-x86_64/Resources/library/OmnipathR/db/db_def.json` (encoding: UTF-8). [2025-11-18 15:15:30] [TRACE] [OmnipathR] JSON validation successful: TRUE [2025-11-18 15:15:30] [TRACE] [OmnipathR] Reading JSON from `/Library/Frameworks/R.framework/Versions/4.6-x86_64/Resources/library/OmnipathR/internal/magic_bytes.json` (encoding: UTF-8). [2025-11-18 15:15:30] [TRACE] [OmnipathR] JSON validation successful: TRUE [2025-11-18 15:15:31] [TRACE] [OmnipathR] Reading JSON from `/Library/Frameworks/R.framework/Versions/4.6-x86_64/Resources/library/OmnipathR/internal/urls.json` (encoding: UTF-8). [2025-11-18 15:15:31] [TRACE] [OmnipathR] JSON validation successful: TRUE [2025-11-18 15:15:31] [TRACE] [OmnipathR] Reading JSON from `/Library/Frameworks/R.framework/Versions/4.6-x86_64/Resources/library/OmnipathR/internal/id_types.json` (encoding: UTF-8). [2025-11-18 15:15:31] [TRACE] [OmnipathR] JSON validation successful: TRUE [2025-11-18 15:15:31] [TRACE] [OmnipathR] Cache locked: FALSE ** testing if installed package keeps a record of temporary installation path * DONE (wppi)
wppi.Rcheck/wppi-Ex.timings
| name | user | system | elapsed | |
| common_neighbors | 46.343 | 5.304 | 68.079 | |
| count_genes | 13.872 | 1.123 | 20.666 | |
| filter_annot_with_network | 9.951 | 0.469 | 10.504 | |
| functional_annot | 2.840 | 0.487 | 3.366 | |
| graph_from_op | 4.574 | 0.305 | 4.931 | |
| in_omnipath | 5.030 | 0.360 | 5.474 | |
| prioritization_genes | 40.092 | 9.002 | 49.754 | |
| process_annot | 0.985 | 0.040 | 1.036 | |
| random_walk | 31.493 | 6.584 | 38.077 | |
| score_candidate_genes_from_PPI | 28.123 | 5.471 | 33.243 | |
| subgraph_op | 3.345 | 0.390 | 3.708 | |
| weighted_adj | 21.230 | 2.932 | 23.946 | |
| wppi | 52.402 | 10.423 | 61.926 | |
| wppi_data | 6.586 | 0.212 | 6.790 | |
| wppi_go_data | 2.351 | 0.028 | 2.379 | |
| wppi_hpo_data | 0.629 | 0.057 | 0.686 | |
| wppi_omnipath_data | 2.961 | 0.135 | 3.085 | |