Back to --- experimental! --- GPU-enabled build/check report for BioC 3.22 Report updated every 6 hours |
This page was generated on 2025-07-13 10:45 -0400 (Sun, 13 Jul 2025).
Hostname | OS | Arch (*) | R version | Installed pkgs |
---|---|---|---|---|
biocgpu | Linux (Ubuntu 24.04.2 LTS) | x86_64 | 4.5.1 (2025-06-13) -- "Great Square Root" | 280 |
amarone | Linux (Ubuntu 24.04.2 LTS) | x86_64 | 4.5.1 (2025-06-13) -- "Great Square Root" | 281 |
Click on any hostname to see more info about the system (e.g. compilers) (*) as reported by 'uname -p', except on Windows and Mac OS X |
Package 3/3 | Hostname | OS / Arch | INSTALL | BUILD | CHECK | ||||||||
scviR 1.9.11 (landing page) Vincent Carey
| biocgpu | Linux (Ubuntu 24.04.2 LTS) / x86_64 | OK | OK | OK | ![]() | |||||||
amarone | Linux (Ubuntu 24.04.2 LTS) / x86_64 | OK | ERROR | skipped | |||||||||
To the developers/maintainers of the scviR package: - Use the following Renviron settings to reproduce errors and warnings. - If 'R CMD check' started to fail recently on the Linux builder(s) over a missing dependency, add the missing dependency to 'Suggests:' in your DESCRIPTION file. See Renviron.bioc for more information. |
Package: scviR |
Version: 1.9.11 |
Command: /home/biocbuild/bbs-3.22-bioc-gpu/R/bin/R CMD check --install=check:scviR.install-out.txt --library=/home/biocbuild/bbs-3.22-bioc-gpu/R/site-library --timings scviR_1.9.11.tar.gz |
StartedAt: 2025-07-13 10:07:41 -0400 (Sun, 13 Jul 2025) |
EndedAt: 2025-07-13 10:12:53 -0400 (Sun, 13 Jul 2025) |
EllapsedTime: 312.0 seconds |
RetCode: 0 |
Status: OK |
CheckDir: scviR.Rcheck |
Warnings: 0 |
############################################################################## ############################################################################## ### ### Running command: ### ### /home/biocbuild/bbs-3.22-bioc-gpu/R/bin/R CMD check --install=check:scviR.install-out.txt --library=/home/biocbuild/bbs-3.22-bioc-gpu/R/site-library --timings scviR_1.9.11.tar.gz ### ############################################################################## ############################################################################## * using log directory ‘/media/volume/biocgpu/biocbuild/bbs-3.22-bioc-gpu/meat/scviR.Rcheck’ * using R version 4.5.1 (2025-06-13) * using platform: x86_64-pc-linux-gnu * R was compiled by gcc (Ubuntu 13.3.0-6ubuntu2~24.04) 13.3.0 GNU Fortran (Ubuntu 13.3.0-6ubuntu2~24.04) 13.3.0 * running under: Ubuntu 24.04.2 LTS * using session charset: UTF-8 * checking for file ‘scviR/DESCRIPTION’ ... OK * this is package ‘scviR’ version ‘1.9.11’ * package encoding: UTF-8 * checking package namespace information ... OK * checking package dependencies ... OK * checking if this is a source package ... OK * checking if there is a namespace ... OK * checking for hidden files and directories ... NOTE Found the following hidden files and directories: .BBSoptions These were most likely included in error. See section ‘Package structure’ in the ‘Writing R Extensions’ manual. * checking for portable file names ... OK * checking for sufficient/correct file permissions ... OK * checking whether package ‘scviR’ can be installed ... OK * checking installed package size ... OK * checking package directory ... OK * checking ‘build’ directory ... OK * checking DESCRIPTION meta-information ... OK * checking top-level files ... OK * checking for left-over files ... OK * checking index information ... OK * checking package subdirectories ... OK * checking code files for non-ASCII characters ... OK * checking R files for syntax errors ... OK * checking whether the package can be loaded ... OK * checking whether the package can be loaded with stated dependencies ... OK * checking whether the package can be unloaded cleanly ... OK * checking whether the namespace can be loaded with stated dependencies ... OK * checking whether the namespace can be unloaded cleanly ... OK * checking loading without being on the library search path ... OK * checking dependencies in R code ... OK * checking S3 generic/method consistency ... OK * checking replacement functions ... OK * checking foreign function calls ... OK * checking R code for possible problems ... OK * checking Rd files ... OK * checking Rd metadata ... OK * checking Rd cross-references ... OK * checking for missing documentation entries ... OK * checking for code/documentation mismatches ... OK * checking Rd \usage sections ... OK * checking Rd contents ... OK * checking for unstated dependencies in examples ... OK * checking contents of ‘data’ directory ... OK * checking data for non-ASCII characters ... OK * checking data for ASCII and uncompressed saves ... OK * checking files in ‘vignettes’ ... OK * checking examples ... OK Examples with CPU (user + system) or elapsed time > 5s user system elapsed getSubclLM 5.335 0.717 6.057 * checking for unstated dependencies in ‘tests’ ... OK * checking tests ... Running ‘test.R’ OK * checking for unstated dependencies in vignettes ... OK * checking package vignettes ... OK * checking re-building of vignette outputs ... OK * checking PDF version of manual ... OK * DONE Status: 1 NOTE See ‘/media/volume/biocgpu/biocbuild/bbs-3.22-bioc-gpu/meat/scviR.Rcheck/00check.log’ for details.
scviR.Rcheck/00install.out
############################################################################## ############################################################################## ### ### Running command: ### ### /home/biocbuild/bbs-3.22-bioc-gpu/R/bin/R CMD INSTALL scviR ### ############################################################################## ############################################################################## * installing to library ‘/media/volume/biocgpu/biocbuild/bbs-3.22-bioc-gpu/R/site-library’ * installing *source* package ‘scviR’ ... ** this is package ‘scviR’ version ‘1.9.11’ ** using staged installation ** R ** data ** inst ** byte-compile and prepare package for lazy loading ** help *** installing help indices ** building package indices ** installing vignettes ** testing if installed package can be loaded from temporary location ** testing if installed package can be loaded from final location ** testing if installed package keeps a record of temporary installation path * DONE (scviR)
scviR.Rcheck/tests/test.Rout
R version 4.5.1 (2025-06-13) -- "Great Square Root" Copyright (C) 2025 The R Foundation for Statistical Computing Platform: x86_64-pc-linux-gnu R is free software and comes with ABSOLUTELY NO WARRANTY. You are welcome to redistribute it under certain conditions. Type 'license()' or 'licence()' for distribution details. R is a collaborative project with many contributors. Type 'contributors()' for more information and 'citation()' on how to cite R or R packages in publications. Type 'demo()' for some demos, 'help()' for on-line help, or 'help.start()' for an HTML browser interface to help. Type 'q()' to quit R. > library(testthat) > library(scviR) Loading required package: basilisk Loading required package: reticulate Loading required package: shiny Loading required package: SingleCellExperiment Loading required package: SummarizedExperiment Loading required package: MatrixGenerics Loading required package: matrixStats Attaching package: 'MatrixGenerics' The following objects are masked from 'package:matrixStats': colAlls, colAnyNAs, colAnys, colAvgsPerRowSet, colCollapse, colCounts, colCummaxs, colCummins, colCumprods, colCumsums, colDiffs, colIQRDiffs, colIQRs, colLogSumExps, colMadDiffs, colMads, colMaxs, colMeans2, colMedians, colMins, colOrderStats, colProds, colQuantiles, colRanges, colRanks, colSdDiffs, colSds, colSums2, colTabulates, colVarDiffs, colVars, colWeightedMads, colWeightedMeans, colWeightedMedians, colWeightedSds, colWeightedVars, rowAlls, rowAnyNAs, rowAnys, rowAvgsPerColSet, rowCollapse, rowCounts, rowCummaxs, rowCummins, rowCumprods, rowCumsums, rowDiffs, rowIQRDiffs, rowIQRs, rowLogSumExps, rowMadDiffs, rowMads, rowMaxs, rowMeans2, rowMedians, rowMins, rowOrderStats, rowProds, rowQuantiles, rowRanges, rowRanks, rowSdDiffs, rowSds, rowSums2, rowTabulates, rowVarDiffs, rowVars, rowWeightedMads, rowWeightedMeans, rowWeightedMedians, rowWeightedSds, rowWeightedVars Loading required package: GenomicRanges Loading required package: stats4 Loading required package: BiocGenerics Loading required package: generics Attaching package: 'generics' The following objects are masked from 'package:base': as.difftime, as.factor, as.ordered, intersect, is.element, setdiff, setequal, union Attaching package: 'BiocGenerics' The following objects are masked from 'package:stats': IQR, mad, sd, var, xtabs The following objects are masked from 'package:base': Filter, Find, Map, Position, Reduce, anyDuplicated, aperm, append, as.data.frame, basename, cbind, colnames, dirname, do.call, duplicated, eval, evalq, get, grep, grepl, is.unsorted, lapply, mapply, match, mget, order, paste, pmax, pmax.int, pmin, pmin.int, rank, rbind, rownames, sapply, saveRDS, table, tapply, unique, unsplit, which.max, which.min Loading required package: S4Vectors Attaching package: 'S4Vectors' The following object is masked from 'package:utils': findMatches The following objects are masked from 'package:base': I, expand.grid, unname Loading required package: IRanges Loading required package: Seqinfo Loading required package: Biobase Welcome to Bioconductor Vignettes contain introductory material; view with 'browseVignettes()'. To cite Bioconductor, see 'citation("Biobase")', and for packages 'citation("pkgname")'. Attaching package: 'Biobase' The following object is masked from 'package:MatrixGenerics': rowMedians The following objects are masked from 'package:matrixStats': anyMissing, rowMedians > > test_check("scviR") [ FAIL 0 | WARN 0 | SKIP 0 | PASS 2 ] > > proc.time() user system elapsed 10.687 0.609 11.298
scviR.Rcheck/scviR-Ex.timings
name | user | system | elapsed | |
MuDataR | 1.983 | 0.350 | 1.969 | |
adtProfiles | 2.622 | 0.160 | 2.785 | |
anndataR | 0.003 | 0.000 | 0.003 | |
cacheCiteseq5k10kPbmcs | 0.110 | 0.005 | 0.126 | |
cacheCiteseq5k10kTutvae | 0 | 0 | 0 | |
cacheCiteseqHDPmodel | 0.172 | 0.033 | 0.226 | |
exploreSubcl | 0 | 0 | 0 | |
getCh12AllSce | 2.738 | 0.161 | 2.902 | |
getCh12Sce | 1.711 | 0.127 | 1.840 | |
getCiteseq5k10kPbmcs | 0.143 | 0.479 | 1.662 | |
getCiteseqTutvae | 0.000 | 0.000 | 0.001 | |
getPro5k10kAdata | 0.113 | 0.002 | 0.127 | |
getSubclLM | 5.335 | 0.717 | 6.057 | |
getSubclusteringFeatures | 3.628 | 0.828 | 4.463 | |
getTotalVI5k10kAdata | 0.159 | 0.207 | 0.367 | |
getTotalVINormalized5k10k | 1.727 | 0.196 | 2.055 | |
muonR | 4.472 | 0.132 | 4.610 | |
scanpyR | 0.002 | 0.000 | 0.002 | |
scviR | 1.791 | 0.296 | 2.088 | |