Back to Rapid builds (Linux only) of a subset of BioC 3.22
Report updated every 6 hours

This page was generated on 2025-06-17 22:14 -0400 (Tue, 17 Jun 2025).

HostnameOSArch (*)R versionInstalled pkgs
teran2Linux (Ubuntu 24.04.1 LTS)x86_644.5.0 (2025-04-11) -- "How About a Twenty-Six" 886
Click on any hostname to see more info about the system (e.g. compilers)      (*) as reported by 'uname -p', except on Windows and Mac OS X

Package 167/221HostnameOS / ArchINSTALLBUILDCHECK
rBiopaxParser 2.49.0  (landing page)
Frank Kramer
Snapshot Date: 2025-06-17 18:00 -0400 (Tue, 17 Jun 2025)
git_url: https://git.bioconductor.org/packages/rBiopaxParser
git_branch: devel
git_last_commit: 2f5f7e4
git_last_commit_date: 2025-04-15 10:17:44 -0400 (Tue, 15 Apr 2025)
teran2Linux (Ubuntu 24.04.1 LTS) / x86_64  OK    OK    OK  


CHECK results for rBiopaxParser on teran2

To the developers/maintainers of the rBiopaxParser package:
- Use the following Renviron settings to reproduce errors and warnings.
- If 'R CMD check' started to fail recently on the Linux builder(s) over a missing dependency, add the missing dependency to 'Suggests:' in your DESCRIPTION file. See Renviron.bioc for more information.

raw results


Summary

Package: rBiopaxParser
Version: 2.49.0
Command: /home/rapidbuild/bbs-3.22-bioc-rapid/R/bin/R CMD check --install=check:rBiopaxParser.install-out.txt --library=/home/rapidbuild/bbs-3.22-bioc-rapid/R/site-library --timings rBiopaxParser_2.49.0.tar.gz
StartedAt: 2025-06-17 21:28:47 -0400 (Tue, 17 Jun 2025)
EndedAt: 2025-06-17 21:29:30 -0400 (Tue, 17 Jun 2025)
EllapsedTime: 42.4 seconds
RetCode: 0
Status:   OK  
CheckDir: rBiopaxParser.Rcheck
Warnings: 0

Command output

##############################################################################
##############################################################################
###
### Running command:
###
###   /home/rapidbuild/bbs-3.22-bioc-rapid/R/bin/R CMD check --install=check:rBiopaxParser.install-out.txt --library=/home/rapidbuild/bbs-3.22-bioc-rapid/R/site-library --timings rBiopaxParser_2.49.0.tar.gz
###
##############################################################################
##############################################################################


* using log directory ‘/media/volume/teran2_disk/rapidbuild/bbs-3.22-bioc-rapid/meat/rBiopaxParser.Rcheck’
* using R version 4.5.0 (2025-04-11)
* using platform: x86_64-pc-linux-gnu
* R was compiled by
    gcc (Ubuntu 13.3.0-6ubuntu2~24.04) 13.3.0
    GNU Fortran (Ubuntu 13.3.0-6ubuntu2~24.04) 13.3.0
* running under: Ubuntu 24.04.2 LTS
* using session charset: UTF-8
* checking for file ‘rBiopaxParser/DESCRIPTION’ ... OK
* checking extension type ... Package
* this is package ‘rBiopaxParser’ version ‘2.49.0’
* checking package namespace information ... OK
* checking package dependencies ... OK
* checking if this is a source package ... OK
* checking if there is a namespace ... OK
* checking for hidden files and directories ... OK
* checking for portable file names ... OK
* checking for sufficient/correct file permissions ... OK
* checking whether package ‘rBiopaxParser’ can be installed ... OK
* checking installed package size ... OK
* checking package directory ... OK
* checking ‘build’ directory ... OK
* checking DESCRIPTION meta-information ... OK
* checking top-level files ... OK
* checking for left-over files ... OK
* checking index information ... OK
* checking package subdirectories ... OK
* checking code files for non-ASCII characters ... OK
* checking R files for syntax errors ... OK
* checking whether the package can be loaded ... OK
* checking whether the package can be loaded with stated dependencies ... OK
* checking whether the package can be unloaded cleanly ... OK
* checking whether the namespace can be loaded with stated dependencies ... OK
* checking whether the namespace can be unloaded cleanly ... OK
* checking loading without being on the library search path ... OK
* checking dependencies in R code ... NOTE
'library' or 'require' calls in package code:
  ‘RBGL’ ‘RCurl’ ‘Rgraphviz’ ‘graph’ ‘igraph’
  Please use :: or requireNamespace() instead.
  See section 'Suggested packages' in the 'Writing R Extensions' manual.
* checking S3 generic/method consistency ... OK
* checking replacement functions ... OK
* checking foreign function calls ... OK
* checking R code for possible problems ... NOTE
addBiopaxInstance: no visible binding for global variable ‘property’
addBiopaxInstances: no visible binding for global variable ‘id’
addBiopaxInstances: no visible binding for global variable ‘property’
addPropertiesToBiopaxInstance: no visible binding for global variable
  ‘property’
colorGraphNodes: no visible global function definition for ‘hcl’
createBiopax: no visible binding for global variable ‘id’
createBiopax: no visible binding for global variable ‘property’
getReferencedIDs: no visible binding for global variable
  ‘property_attr’
getReferencedIDs: no visible binding for global variable ‘property’
getReferencingIDs: no visible binding for global variable
  ‘property_attr’
getReferencingIDs: no visible binding for global variable ‘property’
internal_XMLInstance2DF: no visible binding for global variable ‘i’
internal_XMLInstance2DF: no visible binding for global variable ‘p’
internal_generateXMLfromBiopax: no visible binding for global variable
  ‘id’
internal_getBiopaxModelAsDataFrame: no visible binding for global
  variable ‘property’
internal_propertyListToDF: no visible binding for global variable
  ‘property’
layoutRegulatoryGraph: no visible global function definition for
  ‘nodes’
listInstances: no visible binding for global variable ‘property_value’
listInstances: no visible binding for global variable ‘property’
pathway2AdjacancyMatrix: no visible global function definition for ‘as’
pathway2Graph: no visible global function definition for ‘new’
pathway2Graph: no visible global function definition for ‘getClassDef’
pathway2Graph: no visible binding for global variable ‘id’
pathway2Graph: no visible binding for global variable ‘property’
pathway2RegulatoryGraph: no visible global function definition for
  ‘new’
pathway2RegulatoryGraph: no visible global function definition for
  ‘getClassDef’
pathway2RegulatoryGraph: no visible binding for global variable ‘id’
pathway2RegulatoryGraph: no visible binding for global variable
  ‘property’
plotRegulatoryGraph: no visible global function definition for ‘nodes’
removeDisconnectedParts: no visible global function definition for
  ‘removeNode’
removeNodes: no visible global function definition for ‘edgeWeights’
removeNodes: no visible global function definition for ‘na.omit’
removeNodes: no visible global function definition for ‘removeNode’
removeNodes: no visible global function definition for ‘addEdge’
removeProperties: no visible binding for global variable ‘property’
selectInstances: no visible binding for global variable
  ‘property_value’
Undefined global functions or variables:
  addEdge as edgeWeights getClassDef hcl i id na.omit new nodes p
  property property_attr property_value removeNode
Consider adding
  importFrom("grDevices", "hcl")
  importFrom("methods", "as", "getClassDef", "new")
  importFrom("stats", "na.omit")
to your NAMESPACE file (and ensure that your DESCRIPTION Imports field
contains 'methods').
* checking Rd files ... OK
* checking Rd metadata ... OK
* checking Rd cross-references ... OK
* checking for missing documentation entries ... OK
* checking for code/documentation mismatches ... OK
* checking Rd \usage sections ... OK
* checking Rd contents ... OK
* checking for unstated dependencies in examples ... OK
* checking contents of ‘data’ directory ... OK
* checking data for non-ASCII characters ... OK
* checking data for ASCII and uncompressed saves ... OK
* checking files in ‘vignettes’ ... OK
* checking examples ... OK
* checking for unstated dependencies in ‘tests’ ... OK
* checking tests ...
  Running ‘runTests.R’
 OK
* checking for unstated dependencies in vignettes ... OK
* checking package vignettes ... OK
* checking re-building of vignette outputs ... OK
* checking PDF version of manual ... OK
* DONE

Status: 2 NOTEs
See
  ‘/media/volume/teran2_disk/rapidbuild/bbs-3.22-bioc-rapid/meat/rBiopaxParser.Rcheck/00check.log’
for details.


Installation output

rBiopaxParser.Rcheck/00install.out

##############################################################################
##############################################################################
###
### Running command:
###
###   /home/rapidbuild/bbs-3.22-bioc-rapid/R/bin/R CMD INSTALL rBiopaxParser
###
##############################################################################
##############################################################################


* installing to library ‘/media/volume/teran2_disk/rapidbuild/bbs-3.22-bioc-rapid/R/site-library’
* installing *source* package ‘rBiopaxParser’ ...
** this is package ‘rBiopaxParser’ version ‘2.49.0’
** using staged installation
** R
** data
** inst
** byte-compile and prepare package for lazy loading
** help
*** installing help indices
** building package indices
** installing vignettes
** testing if installed package can be loaded from temporary location
** testing if installed package can be loaded from final location
** testing if installed package keeps a record of temporary installation path
* DONE (rBiopaxParser)

Tests output

rBiopaxParser.Rcheck/tests/runTests.Rout


R version 4.5.0 (2025-04-11) -- "How About a Twenty-Six"
Copyright (C) 2025 The R Foundation for Statistical Computing
Platform: x86_64-pc-linux-gnu

R is free software and comes with ABSOLUTELY NO WARRANTY.
You are welcome to redistribute it under certain conditions.
Type 'license()' or 'licence()' for distribution details.

R is a collaborative project with many contributors.
Type 'contributors()' for more information and
'citation()' on how to cite R or R packages in publications.

Type 'demo()' for some demos, 'help()' for on-line help, or
'help.start()' for an HTML browser interface to help.
Type 'q()' to quit R.

> BiocGenerics:::testPackage("rBiopaxParser")


RUNIT TEST PROTOCOL -- Tue Jun 17 21:29:19 2025 
*********************************************** 
Number of test functions: 12 
Number of errors: 0 
Number of failures: 0 

 
1 Test Suite : 
rBiopaxParser RUnit Tests - 12 test functions, 0 errors, 0 failures
Number of test functions: 12 
Number of errors: 0 
Number of failures: 0 
> 
> proc.time()
   user  system elapsed 
  0.278   0.060   0.363 

Example timings

rBiopaxParser.Rcheck/rBiopaxParser-Ex.timings

nameusersystemelapsed
addBiochemicalReaction0.0260.0030.029
addBiopaxInstance0.0070.0000.007
addBiopaxInstances0.0070.0000.007
addControl0.0110.0000.012
addPathway0.0140.0010.015
addPathwayComponents0.0150.0010.018
addPhysicalEntity0.0060.0000.006
addPhysicalEntityParticipant0.010.000.01
addPropertiesToBiopaxInstance0.0050.0010.006
biopax0.0090.0030.012
calcGraphOverlap1.2810.0571.422
colorGraphNodes0.7640.0130.803
combineNodes0.0020.0000.002
createBiopax0.0010.0000.001
diffGraphs1.0920.0181.126
downloadBiopaxData0.0010.0000.000
getClassProperties0.0000.0000.001
getInstanceClass0.0030.0000.004
getInstanceProperty0.0030.0010.004
getReferencedIDs0.0140.0010.015
getReferencingIDs0.0100.0010.010
getSubClasses000
getSuperClasses000
getXrefAnnotations0.0790.0020.081
hasProperty0.0020.0000.002
intersectGraphs0.9980.0051.012
isOfClass0.0020.0000.002
layoutRegulatoryGraph0.7010.0090.791
listComplexComponents0.0080.0010.009
listInstances0.0110.0020.012
listInteractionComponents0.0120.0000.011
listPathwayComponents0.0080.0020.010
listPathways0.0050.0000.005
pathway2AdjacancyMatrix0.6250.0050.686
pathway2Geneset0.2720.0000.282
pathway2Graph0.6170.0130.609
pathway2RegulatoryGraph0.7780.0071.042
plotRegulatoryGraph0.6190.0250.770
print.biopax0.0030.0020.006
rBiopaxParser-package000
readBiopax0.0020.0000.003
removeInstance0.0030.0000.002
removeNodes0.6760.0130.712
removeProperties0.0020.0000.003
selectInstances0.0100.0010.011
splitComplex0.0190.0010.022
transitiveClosure0.5790.0050.585
transitiveReduction0.5550.0200.593
uniteGraphs1.1050.0371.176
writeBiopax0.0010.0000.001