Back to Build/check report for BioC 3.22 annotations |
|
This page was generated on 2025-07-09 08:30 -0400 (Wed, 09 Jul 2025).
Hostname | OS | Arch (*) | R version | Installed pkgs |
---|---|---|---|---|
nebbiolo2 | Linux (Ubuntu 24.04.1 LTS) | x86_64 | 4.5.1 (2025-06-13) -- "Great Square Root" | 4781 |
Click on any hostname to see more info about the system (e.g. compilers) (*) as reported by 'uname -p', except on Windows and Mac OS X |
Package 45/47 | Hostname | OS / Arch | INSTALL | BUILD | CHECK | ||||||||
TENET.AnnotationHub 1.0.0 (landing page) Rhie Lab at the University of Southern California
| nebbiolo2 | Linux (Ubuntu 24.04.1 LTS) / x86_64 | OK | OK | OK | ![]() | |||||||
To the developers/maintainers of the TENET.AnnotationHub package: - Use the following Renviron settings to reproduce errors and warnings. - If 'R CMD check' started to fail recently on the Linux builder(s) over a missing dependency, add the missing dependency to 'Suggests:' in your DESCRIPTION file. See Renviron.bioc for more information. |
Package: TENET.AnnotationHub |
Version: 1.0.0 |
Command: /home/biocbuild/bbs-3.22-bioc/R/bin/R CMD build --keep-empty-dirs --no-resave-data TENET.AnnotationHub |
StartedAt: 2025-07-09 06:32:21 -0400 (Wed, 09 Jul 2025) |
EndedAt: 2025-07-09 06:33:15 -0400 (Wed, 09 Jul 2025) |
EllapsedTime: 53.6 seconds |
RetCode: 0 |
Status: OK |
PackageFile: TENET.AnnotationHub_1.0.0.tar.gz |
PackageFileSize: 267.6 KiB |
############################################################################## ############################################################################## ### ### Running command: ### ### /home/biocbuild/bbs-3.22-bioc/R/bin/R CMD build --keep-empty-dirs --no-resave-data TENET.AnnotationHub ### ############################################################################## ############################################################################## * checking for file ‘TENET.AnnotationHub/DESCRIPTION’ ... OK * preparing ‘TENET.AnnotationHub’: * checking DESCRIPTION meta-information ... OK * installing the package to build vignettes * creating vignettes ... OK * checking for LF line-endings in source and make files and shell scripts * checking for empty or unneeded directories * building ‘TENET.AnnotationHub_1.0.0.tar.gz’