Back to Build/check report for BioC 3.23 experimental data
ABCDEFGHIJKLMNOPQRSTUVW[X]YZ

This page was generated on 2025-10-30 15:01 -0400 (Thu, 30 Oct 2025).

HostnameOSArch (*)R versionInstalled pkgs
nebbiolo1Linux (Ubuntu 24.04.3 LTS)x86_64R Under development (unstable) (2025-10-20 r88955) -- "Unsuffered Consequences" 4428
Click on any hostname to see more info about the system (e.g. compilers)      (*) as reported by 'uname -p', except on Windows and Mac OS X

Package 424/430HostnameOS / ArchINSTALLBUILDCHECK
XhybCasneuf 1.49.0  (landing page)
Tineke Casneuf
Snapshot Date: 2025-10-30 07:00 -0400 (Thu, 30 Oct 2025)
git_url: https://git.bioconductor.org/packages/XhybCasneuf
git_branch: devel
git_last_commit: 9b1dfb0
git_last_commit_date: 2025-10-29 09:31:09 -0400 (Wed, 29 Oct 2025)
nebbiolo1Linux (Ubuntu 24.04.3 LTS) / x86_64  ERROR    ERROR  skipped


BUILD results for XhybCasneuf on nebbiolo1

To the developers/maintainers of the XhybCasneuf package:
- Use the following Renviron settings to reproduce errors and warnings.
- If 'R CMD check' started to fail recently on the Linux builder(s) over a missing dependency, add the missing dependency to 'Suggests:' in your DESCRIPTION file. See Renviron.bioc for more information.

raw results


Summary

Package: XhybCasneuf
Version: 1.49.0
Command: /home/biocbuild/bbs-3.23-bioc/R/bin/R CMD build --keep-empty-dirs --no-resave-data XhybCasneuf
StartedAt: 2025-10-30 11:44:09 -0400 (Thu, 30 Oct 2025)
EndedAt: 2025-10-30 11:44:10 -0400 (Thu, 30 Oct 2025)
EllapsedTime: 1.0 seconds
RetCode: 1
Status:   ERROR  
PackageFile: None
PackageFileSize: NA

Command output

##############################################################################
##############################################################################
###
### Running command:
###
###   /home/biocbuild/bbs-3.23-bioc/R/bin/R CMD build --keep-empty-dirs --no-resave-data XhybCasneuf
###
##############################################################################
##############################################################################


* checking for file ‘XhybCasneuf/DESCRIPTION’ ... OK
* preparing ‘XhybCasneuf’:
* checking DESCRIPTION meta-information ... OK
* checking whether ‘INDEX’ is up-to-date ... NO
* use ‘--force’ to remove the existing ‘INDEX’
* installing the package (it is needed to build vignettes)
      -----------------------------------
ERROR: dependency ‘ath1121501cdf’ is not available for package ‘XhybCasneuf’
Perhaps try a variation of:
install.packages('ath1121501cdf')
* removing ‘/tmp/RtmpNDOFYZ/Rinst3d3501e754a95/XhybCasneuf’
      -----------------------------------
ERROR: package installation failed