Back to Build/check report for BioC 3.22 experimental data
AB[C]DEFGHIJKLMNOPQRSTUVWXYZ

This page was generated on 2025-10-09 15:41 -0400 (Thu, 09 Oct 2025).

HostnameOSArch (*)R versionInstalled pkgs
nebbiolo2Linux (Ubuntu 24.04.3 LTS)x86_644.5.1 Patched (2025-08-23 r88802) -- "Great Square Root" 4854
Click on any hostname to see more info about the system (e.g. compilers)      (*) as reported by 'uname -p', except on Windows and Mac OS X

Package 87/433HostnameOS / ArchINSTALLBUILDCHECK
curatedPCaData 1.5.0  (landing page)
Teemu Daniel Laajala
Snapshot Date: 2025-10-09 07:30 -0400 (Thu, 09 Oct 2025)
git_url: https://git.bioconductor.org/packages/curatedPCaData
git_branch: devel
git_last_commit: 638c642
git_last_commit_date: 2025-04-15 10:23:58 -0400 (Tue, 15 Apr 2025)
nebbiolo2Linux (Ubuntu 24.04.3 LTS) / x86_64  OK    OK    OK  UNNEEDED, same version is already published


CHECK results for curatedPCaData on nebbiolo2

To the developers/maintainers of the curatedPCaData package:
- Use the following Renviron settings to reproduce errors and warnings.
- If 'R CMD check' started to fail recently on the Linux builder(s) over a missing dependency, add the missing dependency to 'Suggests:' in your DESCRIPTION file. See Renviron.bioc for more information.

raw results


Summary

Package: curatedPCaData
Version: 1.5.0
Command: /home/biocbuild/bbs-3.22-bioc/R/bin/R CMD check --install=check:curatedPCaData.install-out.txt --library=/home/biocbuild/bbs-3.22-bioc/R/site-library --timings curatedPCaData_1.5.0.tar.gz
StartedAt: 2025-10-09 12:11:49 -0400 (Thu, 09 Oct 2025)
EndedAt: 2025-10-09 12:36:45 -0400 (Thu, 09 Oct 2025)
EllapsedTime: 1496.3 seconds
RetCode: 0
Status:   OK  
CheckDir: curatedPCaData.Rcheck
Warnings: 0

Command output

##############################################################################
##############################################################################
###
### Running command:
###
###   /home/biocbuild/bbs-3.22-bioc/R/bin/R CMD check --install=check:curatedPCaData.install-out.txt --library=/home/biocbuild/bbs-3.22-bioc/R/site-library --timings curatedPCaData_1.5.0.tar.gz
###
##############################################################################
##############################################################################


* using log directory ‘/home/biocbuild/bbs-3.22-data-experiment/meat/curatedPCaData.Rcheck’
* using R version 4.5.1 Patched (2025-08-23 r88802)
* using platform: x86_64-pc-linux-gnu
* R was compiled by
    gcc (Ubuntu 13.3.0-6ubuntu2~24.04) 13.3.0
    GNU Fortran (Ubuntu 13.3.0-6ubuntu2~24.04) 13.3.0
* running under: Ubuntu 24.04.3 LTS
* using session charset: UTF-8
* checking for file ‘curatedPCaData/DESCRIPTION’ ... OK
* this is package ‘curatedPCaData’ version ‘1.5.0’
* package encoding: UTF-8
* checking package namespace information ... OK
* checking package dependencies ... OK
* checking if this is a source package ... OK
* checking if there is a namespace ... OK
* checking for hidden files and directories ... OK
* checking for portable file names ... OK
* checking for sufficient/correct file permissions ... OK
* checking whether package ‘curatedPCaData’ can be installed ... OK
* checking installed package size ... OK
* checking package directory ... OK
* checking ‘build’ directory ... OK
* checking DESCRIPTION meta-information ... OK
* checking top-level files ... OK
* checking for left-over files ... OK
* checking index information ... OK
* checking package subdirectories ... OK
* checking code files for non-ASCII characters ... OK
* checking R files for syntax errors ... OK
* checking whether the package can be loaded ... OK
* checking whether the package can be loaded with stated dependencies ... OK
* checking whether the package can be unloaded cleanly ... OK
* checking whether the namespace can be loaded with stated dependencies ... OK
* checking whether the namespace can be unloaded cleanly ... OK
* checking loading without being on the library search path ... OK
* checking dependencies in R code ... OK
* checking S3 generic/method consistency ... OK
* checking replacement functions ... OK
* checking foreign function calls ... OK
* checking R code for possible problems ... OK
* checking Rd files ... OK
* checking Rd metadata ... OK
* checking Rd cross-references ... NOTE
Found the following Rd file(s) with Rd \link{} targets missing package
anchors:
  getPCa.Rd: MultiAssayExperiment-class
Please provide package anchors for all Rd \link{} targets not in the
package itself and the base packages.
* checking for missing documentation entries ... OK
* checking for code/documentation mismatches ... OK
* checking Rd \usage sections ... OK
* checking Rd contents ... OK
* checking for unstated dependencies in examples ... OK
* checking contents of ‘data’ directory ... OK
* checking data for non-ASCII characters ... OK
* checking data for ASCII and uncompressed saves ... OK
* checking R/sysdata.rda ... OK
* checking files in ‘vignettes’ ... OK
* checking examples ... OK
Examples with CPU (user + system) or elapsed time > 5s
                                   user system elapsed
getPCaSummaryStudies            220.694 18.360 256.031
getPCaSummarySamples             30.310  4.021  36.781
getPCaSummarySurv                29.359  3.399  35.132
getPCaSummaryTable               27.334  1.840  31.704
curatedPCaDatasets_abida         18.711  1.791  21.561
curatedPCaDatasets_taylor        17.726  1.056  20.069
getPCa                           15.290  1.626  18.088
curatedPCaDatasets_ren           15.334  1.254  17.509
curatedPCaDatasets_tcga          15.114  1.009  17.083
curatedPCaDatasets_kunderfranco  13.389  1.281  15.555
curatedPCaDatasets_barbieri      13.390  1.055  15.396
curatedPCaDatasets_sun           13.110  0.866  14.733
curatedPCaDatasets_wallace       11.927  1.220  13.885
curatedPCaDatasets_weiner        11.842  0.821  13.694
curatedPCaDatasets_kim           11.580  0.665  13.153
curatedPCaDatasets_igc           11.683  0.538  13.045
curatedPCaDatasets_icgcca        11.200  0.990  12.993
curatedPCaDatasets_friedrich     11.239  0.540  12.731
curatedPCaDatasets_wang          10.852  0.502  12.155
curatedPCaDatasets_chandran      10.521  0.631  11.928
curatedPCaDatasets_true          10.017  0.988  11.707
curatedPCaDatasets_barwick        8.588  0.528   9.882
curatedPCaDatasets_baca           4.788  0.406   5.587
curatedPCaDatasets_hieronymus     3.895  0.831   5.063
* checking for unstated dependencies in ‘tests’ ... OK
* checking tests ...
  Running ‘native_tests.R’
 OK
* checking for unstated dependencies in vignettes ... OK
* checking package vignettes ... OK
* checking re-building of vignette outputs ... OK
* checking PDF version of manual ... OK
* DONE

Status: 1 NOTE
See
  ‘/home/biocbuild/bbs-3.22-data-experiment/meat/curatedPCaData.Rcheck/00check.log’
for details.


Installation output

curatedPCaData.Rcheck/00install.out

##############################################################################
##############################################################################
###
### Running command:
###
###   /home/biocbuild/bbs-3.22-bioc/R/bin/R CMD INSTALL curatedPCaData
###
##############################################################################
##############################################################################


* installing to library ‘/home/biocbuild/bbs-3.22-bioc/R/site-library’
* installing *source* package ‘curatedPCaData’ ...
** this is package ‘curatedPCaData’ version ‘1.5.0’
** using staged installation
** R
** data
** inst
** byte-compile and prepare package for lazy loading
** help
*** installing help indices
*** copying figures
** building package indices
** installing vignettes
** testing if installed package can be loaded from temporary location
** testing if installed package can be loaded from final location
** testing if installed package keeps a record of temporary installation path
* DONE (curatedPCaData)

Tests output

curatedPCaData.Rcheck/tests/native_tests.Rout


R version 4.5.1 Patched (2025-08-23 r88802) -- "Great Square Root"
Copyright (C) 2025 The R Foundation for Statistical Computing
Platform: x86_64-pc-linux-gnu

R is free software and comes with ABSOLUTELY NO WARRANTY.
You are welcome to redistribute it under certain conditions.
Type 'license()' or 'licence()' for distribution details.

R is a collaborative project with many contributors.
Type 'contributors()' for more information and
'citation()' on how to cite R or R packages in publications.

Type 'demo()' for some demos, 'help()' for on-line help, or
'help.start()' for an HTML browser interface to help.
Type 'q()' to quit R.

> ###
> #
> # Native 'R CMD check' tests run on the 'curatedPCaData'-package
> # Any exceptions will count as a failure for 'R CMD check' run (notably, does 
> # not require 'RUnit' or 'testthat' packages for testing)
> #
> ###
> 
> ##
> # Testing of getPCa main functionality
> ##
> 
> # Test retrieval of TCGA with all assays
> # Get default fetching of a MAE object based on short id
> methods::is(curatedPCaData::getPCa("tcga"), "MultiAssayExperiment")
see ?curatedPCaData and browseVignettes('curatedPCaData') for documentation
loading from cache
see ?curatedPCaData and browseVignettes('curatedPCaData') for documentation
loading from cache
see ?curatedPCaData and browseVignettes('curatedPCaData') for documentation
loading from cache
see ?curatedPCaData and browseVignettes('curatedPCaData') for documentation
loading from cache
see ?curatedPCaData and browseVignettes('curatedPCaData') for documentation
loading from cache
see ?curatedPCaData and browseVignettes('curatedPCaData') for documentation
loading from cache
see ?curatedPCaData and browseVignettes('curatedPCaData') for documentation
loading from cache
see ?curatedPCaData and browseVignettes('curatedPCaData') for documentation
loading from cache
see ?curatedPCaData and browseVignettes('curatedPCaData') for documentation
loading from cache
see ?curatedPCaData and browseVignettes('curatedPCaData') for documentation
loading from cache
see ?curatedPCaData and browseVignettes('curatedPCaData') for documentation
loading from cache
see ?curatedPCaData and browseVignettes('curatedPCaData') for documentation
loading from cache
Constructing the MultiAssayExperiment object from retrieved 
        components.
[1] TRUE
> 
> # Test retrieval of Taylor with a pre-specified subset of assays
> # Get fetching of an assay subset
> methods::is(curatedPCaData::getPCa("taylor", assays = c("gex.rma", "cibersort", 
+     "scores")), "MultiAssayExperiment")
see ?curatedPCaData and browseVignettes('curatedPCaData') for documentation
loading from cache
see ?curatedPCaData and browseVignettes('curatedPCaData') for documentation
loading from cache
see ?curatedPCaData and browseVignettes('curatedPCaData') for documentation
loading from cache
see ?curatedPCaData and browseVignettes('curatedPCaData') for documentation
loading from cache
see ?curatedPCaData and browseVignettes('curatedPCaData') for documentation
loading from cache
Constructing the MultiAssayExperiment object from retrieved 
        components.
harmonizing input:
  removing 1350 sampleMap rows not in names(experiments)
  removing 68 colData rownames not in sampleMap 'primary'
[1] TRUE
> 
> # Test a data fetch that should result in an error
> # Test that an error is produced correctly for a study that does not exist
> methods::is(try({curatedPCaData::getPCa("studyname_misspelled", assays = 
+     c("foo", "bar"))}, silent=TRUE), "try-error")
[1] TRUE
> 
> # Test fetching of an assay that does not exist
> # Test that an error is produced correctly for assays that do not exist
> methods::is(try({curatedPCaData::getPCa("tcga", assays = "typo")}, 
+     silent=TRUE), "try-error")
[1] TRUE
> 
> # Test sample subtype subsetting during getPCa
> # Get only primary samples from TCGA
> all(curatedPCaData::getPCa("tcga", sampletypes = "primary")$sample_type == 
+     "primary")
see ?curatedPCaData and browseVignettes('curatedPCaData') for documentation
loading from cache
see ?curatedPCaData and browseVignettes('curatedPCaData') for documentation
loading from cache
see ?curatedPCaData and browseVignettes('curatedPCaData') for documentation
loading from cache
see ?curatedPCaData and browseVignettes('curatedPCaData') for documentation
loading from cache
see ?curatedPCaData and browseVignettes('curatedPCaData') for documentation
loading from cache
see ?curatedPCaData and browseVignettes('curatedPCaData') for documentation
loading from cache
see ?curatedPCaData and browseVignettes('curatedPCaData') for documentation
loading from cache
see ?curatedPCaData and browseVignettes('curatedPCaData') for documentation
loading from cache
see ?curatedPCaData and browseVignettes('curatedPCaData') for documentation
loading from cache
see ?curatedPCaData and browseVignettes('curatedPCaData') for documentation
loading from cache
see ?curatedPCaData and browseVignettes('curatedPCaData') for documentation
loading from cache
see ?curatedPCaData and browseVignettes('curatedPCaData') for documentation
loading from cache
Constructing the MultiAssayExperiment object from retrieved 
        components.
[1] TRUE
> # Test omitting metastatic samples from Chandran et al.
> all(curatedPCaData::getPCa("chandran", sampletypes = c("primary", "normal")
+     )$sample_type %in% c("primary", "normal"))
see ?curatedPCaData and browseVignettes('curatedPCaData') for documentation
loading from cache
see ?curatedPCaData and browseVignettes('curatedPCaData') for documentation
loading from cache
see ?curatedPCaData and browseVignettes('curatedPCaData') for documentation
loading from cache
see ?curatedPCaData and browseVignettes('curatedPCaData') for documentation
loading from cache
see ?curatedPCaData and browseVignettes('curatedPCaData') for documentation
loading from cache
see ?curatedPCaData and browseVignettes('curatedPCaData') for documentation
loading from cache
see ?curatedPCaData and browseVignettes('curatedPCaData') for documentation
loading from cache
see ?curatedPCaData and browseVignettes('curatedPCaData') for documentation
loading from cache
see ?curatedPCaData and browseVignettes('curatedPCaData') for documentation
loading from cache
see ?curatedPCaData and browseVignettes('curatedPCaData') for documentation
loading from cache
Constructing the MultiAssayExperiment object from retrieved 
        components.
[1] TRUE
> 
> ##
> # Testing of supporting summary functions etc
> ##
> 
> # Test fetching of study short ids and that the 19 studies originally available 
> # in Laajala et al. 2013 are retrieved correctly
> # Tested function: curatedPCaData::getPCaStudies
> studies <- curatedPCaData::getPCaStudies()
> all(c("abida", "baca", "barbieri", "barwick", "chandran", "friedrich", 
+     "hieronymus", "icgcca", "igc", "kim", "kunderfranco", "ren", "sun", 
+     "taylor", "tcga", "true", "wallace", "wang", "weiner") %in% studies)
[1] TRUE
> 
> # Fetch MAE objects for further use
> maes <- lapply(studies, FUN=\(id) { curatedPCaData::getPCa(id) })
see ?curatedPCaData and browseVignettes('curatedPCaData') for documentation
loading from cache
see ?curatedPCaData and browseVignettes('curatedPCaData') for documentation
loading from cache
see ?curatedPCaData and browseVignettes('curatedPCaData') for documentation
loading from cache
see ?curatedPCaData and browseVignettes('curatedPCaData') for documentation
loading from cache
see ?curatedPCaData and browseVignettes('curatedPCaData') for documentation
loading from cache
see ?curatedPCaData and browseVignettes('curatedPCaData') for documentation
loading from cache
see ?curatedPCaData and browseVignettes('curatedPCaData') for documentation
loading from cache
see ?curatedPCaData and browseVignettes('curatedPCaData') for documentation
loading from cache
see ?curatedPCaData and browseVignettes('curatedPCaData') for documentation
loading from cache
see ?curatedPCaData and browseVignettes('curatedPCaData') for documentation
loading from cache
see ?curatedPCaData and browseVignettes('curatedPCaData') for documentation
loading from cache
see ?curatedPCaData and browseVignettes('curatedPCaData') for documentation
loading from cache
Constructing the MultiAssayExperiment object from retrieved 
        components.
see ?curatedPCaData and browseVignettes('curatedPCaData') for documentation
loading from cache
see ?curatedPCaData and browseVignettes('curatedPCaData') for documentation
loading from cache
see ?curatedPCaData and browseVignettes('curatedPCaData') for documentation
loading from cache
see ?curatedPCaData and browseVignettes('curatedPCaData') for documentation
loading from cache
Constructing the MultiAssayExperiment object from retrieved 
        components.
see ?curatedPCaData and browseVignettes('curatedPCaData') for documentation
loading from cache
see ?curatedPCaData and browseVignettes('curatedPCaData') for documentation
loading from cache
see ?curatedPCaData and browseVignettes('curatedPCaData') for documentation
loading from cache
see ?curatedPCaData and browseVignettes('curatedPCaData') for documentation
loading from cache
see ?curatedPCaData and browseVignettes('curatedPCaData') for documentation
loading from cache
see ?curatedPCaData and browseVignettes('curatedPCaData') for documentation
loading from cache
see ?curatedPCaData and browseVignettes('curatedPCaData') for documentation
loading from cache
see ?curatedPCaData and browseVignettes('curatedPCaData') for documentation
loading from cache
see ?curatedPCaData and browseVignettes('curatedPCaData') for documentation
loading from cache
see ?curatedPCaData and browseVignettes('curatedPCaData') for documentation
loading from cache
see ?curatedPCaData and browseVignettes('curatedPCaData') for documentation
loading from cache
see ?curatedPCaData and browseVignettes('curatedPCaData') for documentation
loading from cache
Constructing the MultiAssayExperiment object from retrieved 
        components.
see ?curatedPCaData and browseVignettes('curatedPCaData') for documentation
loading from cache
see ?curatedPCaData and browseVignettes('curatedPCaData') for documentation
loading from cache
see ?curatedPCaData and browseVignettes('curatedPCaData') for documentation
loading from cache
see ?curatedPCaData and browseVignettes('curatedPCaData') for documentation
loading from cache
see ?curatedPCaData and browseVignettes('curatedPCaData') for documentation
loading from cache
see ?curatedPCaData and browseVignettes('curatedPCaData') for documentation
loading from cache
see ?curatedPCaData and browseVignettes('curatedPCaData') for documentation
loading from cache
see ?curatedPCaData and browseVignettes('curatedPCaData') for documentation
loading from cache
Constructing the MultiAssayExperiment object from retrieved 
        components.
see ?curatedPCaData and browseVignettes('curatedPCaData') for documentation
loading from cache
see ?curatedPCaData and browseVignettes('curatedPCaData') for documentation
loading from cache
see ?curatedPCaData and browseVignettes('curatedPCaData') for documentation
loading from cache
see ?curatedPCaData and browseVignettes('curatedPCaData') for documentation
loading from cache
see ?curatedPCaData and browseVignettes('curatedPCaData') for documentation
loading from cache
see ?curatedPCaData and browseVignettes('curatedPCaData') for documentation
loading from cache
see ?curatedPCaData and browseVignettes('curatedPCaData') for documentation
loading from cache
see ?curatedPCaData and browseVignettes('curatedPCaData') for documentation
loading from cache
see ?curatedPCaData and browseVignettes('curatedPCaData') for documentation
loading from cache
see ?curatedPCaData and browseVignettes('curatedPCaData') for documentation
loading from cache
Constructing the MultiAssayExperiment object from retrieved 
        components.
see ?curatedPCaData and browseVignettes('curatedPCaData') for documentation
loading from cache
see ?curatedPCaData and browseVignettes('curatedPCaData') for documentation
loading from cache
see ?curatedPCaData and browseVignettes('curatedPCaData') for documentation
loading from cache
see ?curatedPCaData and browseVignettes('curatedPCaData') for documentation
loading from cache
see ?curatedPCaData and browseVignettes('curatedPCaData') for documentation
loading from cache
see ?curatedPCaData and browseVignettes('curatedPCaData') for documentation
loading from cache
see ?curatedPCaData and browseVignettes('curatedPCaData') for documentation
loading from cache
see ?curatedPCaData and browseVignettes('curatedPCaData') for documentation
loading from cache
see ?curatedPCaData and browseVignettes('curatedPCaData') for documentation
loading from cache
see ?curatedPCaData and browseVignettes('curatedPCaData') for documentation
loading from cache
Constructing the MultiAssayExperiment object from retrieved 
        components.
see ?curatedPCaData and browseVignettes('curatedPCaData') for documentation
loading from cache
see ?curatedPCaData and browseVignettes('curatedPCaData') for documentation
loading from cache
see ?curatedPCaData and browseVignettes('curatedPCaData') for documentation
loading from cache
Constructing the MultiAssayExperiment object from retrieved 
        components.
see ?curatedPCaData and browseVignettes('curatedPCaData') for documentation
loading from cache
see ?curatedPCaData and browseVignettes('curatedPCaData') for documentation
loading from cache
see ?curatedPCaData and browseVignettes('curatedPCaData') for documentation
loading from cache
see ?curatedPCaData and browseVignettes('curatedPCaData') for documentation
loading from cache
see ?curatedPCaData and browseVignettes('curatedPCaData') for documentation
loading from cache
see ?curatedPCaData and browseVignettes('curatedPCaData') for documentation
loading from cache
see ?curatedPCaData and browseVignettes('curatedPCaData') for documentation
loading from cache
see ?curatedPCaData and browseVignettes('curatedPCaData') for documentation
loading from cache
see ?curatedPCaData and browseVignettes('curatedPCaData') for documentation
loading from cache
see ?curatedPCaData and browseVignettes('curatedPCaData') for documentation
loading from cache
Constructing the MultiAssayExperiment object from retrieved 
        components.
see ?curatedPCaData and browseVignettes('curatedPCaData') for documentation
loading from cache
see ?curatedPCaData and browseVignettes('curatedPCaData') for documentation
loading from cache
see ?curatedPCaData and browseVignettes('curatedPCaData') for documentation
loading from cache
see ?curatedPCaData and browseVignettes('curatedPCaData') for documentation
loading from cache
see ?curatedPCaData and browseVignettes('curatedPCaData') for documentation
loading from cache
see ?curatedPCaData and browseVignettes('curatedPCaData') for documentation
loading from cache
see ?curatedPCaData and browseVignettes('curatedPCaData') for documentation
loading from cache
see ?curatedPCaData and browseVignettes('curatedPCaData') for documentation
loading from cache
see ?curatedPCaData and browseVignettes('curatedPCaData') for documentation
loading from cache
see ?curatedPCaData and browseVignettes('curatedPCaData') for documentation
loading from cache
Constructing the MultiAssayExperiment object from retrieved 
        components.
see ?curatedPCaData and browseVignettes('curatedPCaData') for documentation
loading from cache
see ?curatedPCaData and browseVignettes('curatedPCaData') for documentation
loading from cache
see ?curatedPCaData and browseVignettes('curatedPCaData') for documentation
loading from cache
see ?curatedPCaData and browseVignettes('curatedPCaData') for documentation
loading from cache
see ?curatedPCaData and browseVignettes('curatedPCaData') for documentation
loading from cache
see ?curatedPCaData and browseVignettes('curatedPCaData') for documentation
loading from cache
see ?curatedPCaData and browseVignettes('curatedPCaData') for documentation
loading from cache
see ?curatedPCaData and browseVignettes('curatedPCaData') for documentation
loading from cache
see ?curatedPCaData and browseVignettes('curatedPCaData') for documentation
loading from cache
see ?curatedPCaData and browseVignettes('curatedPCaData') for documentation
loading from cache
Constructing the MultiAssayExperiment object from retrieved 
        components.
see ?curatedPCaData and browseVignettes('curatedPCaData') for documentation
loading from cache
see ?curatedPCaData and browseVignettes('curatedPCaData') for documentation
loading from cache
see ?curatedPCaData and browseVignettes('curatedPCaData') for documentation
loading from cache
see ?curatedPCaData and browseVignettes('curatedPCaData') for documentation
loading from cache
see ?curatedPCaData and browseVignettes('curatedPCaData') for documentation
loading from cache
see ?curatedPCaData and browseVignettes('curatedPCaData') for documentation
loading from cache
see ?curatedPCaData and browseVignettes('curatedPCaData') for documentation
loading from cache
see ?curatedPCaData and browseVignettes('curatedPCaData') for documentation
loading from cache
see ?curatedPCaData and browseVignettes('curatedPCaData') for documentation
loading from cache
see ?curatedPCaData and browseVignettes('curatedPCaData') for documentation
loading from cache
Constructing the MultiAssayExperiment object from retrieved 
        components.
see ?curatedPCaData and browseVignettes('curatedPCaData') for documentation
loading from cache
see ?curatedPCaData and browseVignettes('curatedPCaData') for documentation
loading from cache
see ?curatedPCaData and browseVignettes('curatedPCaData') for documentation
loading from cache
see ?curatedPCaData and browseVignettes('curatedPCaData') for documentation
loading from cache
see ?curatedPCaData and browseVignettes('curatedPCaData') for documentation
loading from cache
see ?curatedPCaData and browseVignettes('curatedPCaData') for documentation
loading from cache
see ?curatedPCaData and browseVignettes('curatedPCaData') for documentation
loading from cache
see ?curatedPCaData and browseVignettes('curatedPCaData') for documentation
loading from cache
see ?curatedPCaData and browseVignettes('curatedPCaData') for documentation
loading from cache
see ?curatedPCaData and browseVignettes('curatedPCaData') for documentation
loading from cache
see ?curatedPCaData and browseVignettes('curatedPCaData') for documentation
loading from cache
Constructing the MultiAssayExperiment object from retrieved 
        components.
see ?curatedPCaData and browseVignettes('curatedPCaData') for documentation
loading from cache
see ?curatedPCaData and browseVignettes('curatedPCaData') for documentation
loading from cache
see ?curatedPCaData and browseVignettes('curatedPCaData') for documentation
loading from cache
see ?curatedPCaData and browseVignettes('curatedPCaData') for documentation
loading from cache
see ?curatedPCaData and browseVignettes('curatedPCaData') for documentation
loading from cache
see ?curatedPCaData and browseVignettes('curatedPCaData') for documentation
loading from cache
see ?curatedPCaData and browseVignettes('curatedPCaData') for documentation
loading from cache
see ?curatedPCaData and browseVignettes('curatedPCaData') for documentation
loading from cache
see ?curatedPCaData and browseVignettes('curatedPCaData') for documentation
loading from cache
see ?curatedPCaData and browseVignettes('curatedPCaData') for documentation
loading from cache
Constructing the MultiAssayExperiment object from retrieved 
        components.
see ?curatedPCaData and browseVignettes('curatedPCaData') for documentation
loading from cache
see ?curatedPCaData and browseVignettes('curatedPCaData') for documentation
loading from cache
see ?curatedPCaData and browseVignettes('curatedPCaData') for documentation
loading from cache
see ?curatedPCaData and browseVignettes('curatedPCaData') for documentation
loading from cache
see ?curatedPCaData and browseVignettes('curatedPCaData') for documentation
loading from cache
see ?curatedPCaData and browseVignettes('curatedPCaData') for documentation
loading from cache
see ?curatedPCaData and browseVignettes('curatedPCaData') for documentation
loading from cache
see ?curatedPCaData and browseVignettes('curatedPCaData') for documentation
loading from cache
see ?curatedPCaData and browseVignettes('curatedPCaData') for documentation
loading from cache
see ?curatedPCaData and browseVignettes('curatedPCaData') for documentation
loading from cache
see ?curatedPCaData and browseVignettes('curatedPCaData') for documentation
loading from cache
see ?curatedPCaData and browseVignettes('curatedPCaData') for documentation
loading from cache
see ?curatedPCaData and browseVignettes('curatedPCaData') for documentation
loading from cache
Constructing the MultiAssayExperiment object from retrieved 
        components.
see ?curatedPCaData and browseVignettes('curatedPCaData') for documentation
loading from cache
see ?curatedPCaData and browseVignettes('curatedPCaData') for documentation
loading from cache
see ?curatedPCaData and browseVignettes('curatedPCaData') for documentation
loading from cache
see ?curatedPCaData and browseVignettes('curatedPCaData') for documentation
loading from cache
see ?curatedPCaData and browseVignettes('curatedPCaData') for documentation
loading from cache
see ?curatedPCaData and browseVignettes('curatedPCaData') for documentation
loading from cache
see ?curatedPCaData and browseVignettes('curatedPCaData') for documentation
loading from cache
see ?curatedPCaData and browseVignettes('curatedPCaData') for documentation
loading from cache
see ?curatedPCaData and browseVignettes('curatedPCaData') for documentation
loading from cache
see ?curatedPCaData and browseVignettes('curatedPCaData') for documentation
loading from cache
see ?curatedPCaData and browseVignettes('curatedPCaData') for documentation
loading from cache
see ?curatedPCaData and browseVignettes('curatedPCaData') for documentation
loading from cache
Constructing the MultiAssayExperiment object from retrieved 
        components.
see ?curatedPCaData and browseVignettes('curatedPCaData') for documentation
loading from cache
see ?curatedPCaData and browseVignettes('curatedPCaData') for documentation
loading from cache
see ?curatedPCaData and browseVignettes('curatedPCaData') for documentation
loading from cache
see ?curatedPCaData and browseVignettes('curatedPCaData') for documentation
loading from cache
see ?curatedPCaData and browseVignettes('curatedPCaData') for documentation
loading from cache
see ?curatedPCaData and browseVignettes('curatedPCaData') for documentation
loading from cache
see ?curatedPCaData and browseVignettes('curatedPCaData') for documentation
loading from cache
see ?curatedPCaData and browseVignettes('curatedPCaData') for documentation
loading from cache
see ?curatedPCaData and browseVignettes('curatedPCaData') for documentation
loading from cache
Constructing the MultiAssayExperiment object from retrieved 
        components.
see ?curatedPCaData and browseVignettes('curatedPCaData') for documentation
loading from cache
see ?curatedPCaData and browseVignettes('curatedPCaData') for documentation
loading from cache
see ?curatedPCaData and browseVignettes('curatedPCaData') for documentation
loading from cache
see ?curatedPCaData and browseVignettes('curatedPCaData') for documentation
loading from cache
see ?curatedPCaData and browseVignettes('curatedPCaData') for documentation
loading from cache
see ?curatedPCaData and browseVignettes('curatedPCaData') for documentation
loading from cache
see ?curatedPCaData and browseVignettes('curatedPCaData') for documentation
loading from cache
see ?curatedPCaData and browseVignettes('curatedPCaData') for documentation
loading from cache
see ?curatedPCaData and browseVignettes('curatedPCaData') for documentation
loading from cache
see ?curatedPCaData and browseVignettes('curatedPCaData') for documentation
loading from cache
Constructing the MultiAssayExperiment object from retrieved 
        components.
see ?curatedPCaData and browseVignettes('curatedPCaData') for documentation
loading from cache
see ?curatedPCaData and browseVignettes('curatedPCaData') for documentation
loading from cache
see ?curatedPCaData and browseVignettes('curatedPCaData') for documentation
loading from cache
see ?curatedPCaData and browseVignettes('curatedPCaData') for documentation
loading from cache
see ?curatedPCaData and browseVignettes('curatedPCaData') for documentation
loading from cache
see ?curatedPCaData and browseVignettes('curatedPCaData') for documentation
loading from cache
see ?curatedPCaData and browseVignettes('curatedPCaData') for documentation
loading from cache
see ?curatedPCaData and browseVignettes('curatedPCaData') for documentation
loading from cache
see ?curatedPCaData and browseVignettes('curatedPCaData') for documentation
loading from cache
see ?curatedPCaData and browseVignettes('curatedPCaData') for documentation
loading from cache
Constructing the MultiAssayExperiment object from retrieved 
        components.
see ?curatedPCaData and browseVignettes('curatedPCaData') for documentation
loading from cache
see ?curatedPCaData and browseVignettes('curatedPCaData') for documentation
loading from cache
see ?curatedPCaData and browseVignettes('curatedPCaData') for documentation
loading from cache
see ?curatedPCaData and browseVignettes('curatedPCaData') for documentation
loading from cache
see ?curatedPCaData and browseVignettes('curatedPCaData') for documentation
loading from cache
see ?curatedPCaData and browseVignettes('curatedPCaData') for documentation
loading from cache
see ?curatedPCaData and browseVignettes('curatedPCaData') for documentation
loading from cache
see ?curatedPCaData and browseVignettes('curatedPCaData') for documentation
loading from cache
see ?curatedPCaData and browseVignettes('curatedPCaData') for documentation
loading from cache
see ?curatedPCaData and browseVignettes('curatedPCaData') for documentation
loading from cache
Constructing the MultiAssayExperiment object from retrieved 
        components.
> names(maes) <- studies
> 
> # getPCaSummaryTable should summarize into a character matrix key instances and 
> # percentages for certain values for a given colData metadata variable
> # Tested function: curatedPCaData::getPCaSummaryTable
> inherits(curatedPCaData::getPCaSummaryTable(maes, var.name = "grade_group", 
+     vals=c("<=6", "3+4", "4+3", "7", ">=8")), "matrix")
[1] TRUE
> 
> # getPCaSummaryTable should summarize into a character matrix event counts and 
> # follow-up times for a Surv-like data
> # Tested function: curatedPCaData::getPCaSummarySurv
> inherits(curatedPCaData::getPCaSummarySurv(maes, event.name = 
+     "disease_specific_recurrence_status", 
+     time.name = "days_to_disease_specific_recurrence"), "matrix")
[1] TRUE
> 
> # getPCaSummarySamples should return a list of length 2; first element 
> # containing unique assay names and N counts in each study, and second element 
> # a matrix with GEX/CNA/MUT combinations for overlap
> # Tested function: curatedPCaData::getPCaSummarySamples
> inherits(curatedPCaData::getPCaSummarySamples(maes), "list")
[1] TRUE
> length(curatedPCaData::getPCaSummarySamples(maes)) == 2
[1] TRUE
> 
> # getPCaSummaryStudies should create a verbose character matrix depicting key 
> # characteristics for each study, such as sample counts, platforms, and special 
> # notes to be aware of
> # Tested function: curatedPCaData::getPCaSummaryStudies, 
> # curatedPCaData::getPCaStudies
> inherits(curatedPCaData::getPCaSummaryStudies(maes), "matrix")
[1] TRUE
> 
> 
> proc.time()
   user  system elapsed 
263.521  10.303 296.323 

Example timings

curatedPCaData.Rcheck/curatedPCaData-Ex.timings

nameusersystemelapsed
curatedPCaDatasets_abida18.711 1.79121.561
curatedPCaDatasets_baca4.7880.4065.587
curatedPCaDatasets_barbieri13.390 1.05515.396
curatedPCaDatasets_barwick8.5880.5289.882
curatedPCaDatasets_chandran10.521 0.63111.928
curatedPCaDatasets_friedrich11.239 0.54012.731
curatedPCaDatasets_hieronymus3.8950.8315.063
curatedPCaDatasets_icgcca11.200 0.99012.993
curatedPCaDatasets_igc11.683 0.53813.045
curatedPCaDatasets_kim11.580 0.66513.153
curatedPCaDatasets_kunderfranco13.389 1.28115.555
curatedPCaDatasets_ren15.334 1.25417.509
curatedPCaDatasets_sun13.110 0.86614.733
curatedPCaDatasets_taylor17.726 1.05620.069
curatedPCaDatasets_tcga15.114 1.00917.083
curatedPCaDatasets_true10.017 0.98811.707
curatedPCaDatasets_wallace11.927 1.22013.885
curatedPCaDatasets_wang10.852 0.50212.155
curatedPCaDatasets_weiner11.842 0.82113.694
getPCa15.290 1.62618.088
getPCaStudies0.0040.0020.006
getPCaSummarySamples30.310 4.02136.781
getPCaSummaryStudies220.694 18.360256.031
getPCaSummarySurv29.359 3.39935.132
getPCaSummaryTable27.334 1.84031.704
template_prad0.0050.0010.006