Back to Build/check report for BioC 3.22 experimental data
ABCDEF[G]HIJKLMNOPQRSTUVWXYZ

This page was generated on 2025-07-08 15:41 -0400 (Tue, 08 Jul 2025).

HostnameOSArch (*)R versionInstalled pkgs
nebbiolo2Linux (Ubuntu 24.04.1 LTS)x86_644.5.1 (2025-06-13) -- "Great Square Root" 4779
Click on any hostname to see more info about the system (e.g. compilers)      (*) as reported by 'uname -p', except on Windows and Mac OS X

Package 146/429HostnameOS / ArchINSTALLBUILDCHECK
geneLenDataBase 1.45.0  (landing page)
Federico Marini
Snapshot Date: 2025-07-08 07:30 -0400 (Tue, 08 Jul 2025)
git_url: https://git.bioconductor.org/packages/geneLenDataBase
git_branch: devel
git_last_commit: 109b234
git_last_commit_date: 2025-04-15 09:16:59 -0400 (Tue, 15 Apr 2025)
nebbiolo2Linux (Ubuntu 24.04.1 LTS) / x86_64  OK    OK    OK  UNNEEDED, same version is already published


CHECK results for geneLenDataBase on nebbiolo2

To the developers/maintainers of the geneLenDataBase package:
- Use the following Renviron settings to reproduce errors and warnings.
- If 'R CMD check' started to fail recently on the Linux builder(s) over a missing dependency, add the missing dependency to 'Suggests:' in your DESCRIPTION file. See Renviron.bioc for more information.

raw results


Summary

Package: geneLenDataBase
Version: 1.45.0
Command: /home/biocbuild/bbs-3.22-bioc/R/bin/R CMD check --install=check:geneLenDataBase.install-out.txt --library=/home/biocbuild/bbs-3.22-bioc/R/site-library --timings geneLenDataBase_1.45.0.tar.gz
StartedAt: 2025-07-08 12:23:37 -0400 (Tue, 08 Jul 2025)
EndedAt: 2025-07-08 12:33:01 -0400 (Tue, 08 Jul 2025)
EllapsedTime: 564.2 seconds
RetCode: 0
Status:   OK  
CheckDir: geneLenDataBase.Rcheck
Warnings: 0

Command output

##############################################################################
##############################################################################
###
### Running command:
###
###   /home/biocbuild/bbs-3.22-bioc/R/bin/R CMD check --install=check:geneLenDataBase.install-out.txt --library=/home/biocbuild/bbs-3.22-bioc/R/site-library --timings geneLenDataBase_1.45.0.tar.gz
###
##############################################################################
##############################################################################


* using log directory ‘/home/biocbuild/bbs-3.22-data-experiment/meat/geneLenDataBase.Rcheck’
* using R version 4.5.1 (2025-06-13)
* using platform: x86_64-pc-linux-gnu
* R was compiled by
    gcc (Ubuntu 13.3.0-6ubuntu2~24.04) 13.3.0
    GNU Fortran (Ubuntu 13.3.0-6ubuntu2~24.04) 13.3.0
* running under: Ubuntu 24.04.2 LTS
* using session charset: UTF-8
* checking for file ‘geneLenDataBase/DESCRIPTION’ ... OK
* this is package ‘geneLenDataBase’ version ‘1.45.0’
* package encoding: UTF-8
* checking package namespace information ... OK
* checking package dependencies ... OK
* checking if this is a source package ... OK
* checking if there is a namespace ... OK
* checking for hidden files and directories ... OK
* checking for portable file names ... OK
* checking for sufficient/correct file permissions ... OK
* checking whether package ‘geneLenDataBase’ can be installed ... OK
* checking installed package size ... INFO
  installed size is 100.3Mb
  sub-directories of 1Mb or more:
    data  99.7Mb
* checking package directory ... OK
* checking DESCRIPTION meta-information ... OK
* checking top-level files ... OK
* checking for left-over files ... OK
* checking index information ... OK
* checking package subdirectories ... OK
* checking code files for non-ASCII characters ... OK
* checking R files for syntax errors ... OK
* checking whether the package can be loaded ... OK
* checking whether the package can be loaded with stated dependencies ... OK
* checking whether the package can be unloaded cleanly ... OK
* checking whether the namespace can be loaded with stated dependencies ... OK
* checking whether the namespace can be unloaded cleanly ... OK
* checking loading without being on the library search path ... OK
* checking dependencies in R code ... NOTE
Unexported object imported by a ':::' call: ‘txdbmaker:::.UCSC_TXNAME2GENEID_MAPDEFS’
  See the note in ?`:::` about the use of this operator.
* checking S3 generic/method consistency ... OK
* checking replacement functions ... OK
* checking foreign function calls ... OK
* checking R code for possible problems ... OK
* checking Rd files ... OK
* checking Rd metadata ... OK
* checking Rd cross-references ... OK
* checking for missing documentation entries ... OK
* checking for code/documentation mismatches ... OK
* checking Rd \usage sections ... OK
* checking Rd contents ... OK
* checking for unstated dependencies in examples ... OK
* checking contents of ‘data’ directory ... OK
* checking data for non-ASCII characters ... OK
* checking data for ASCII and uncompressed saves ... OK
* checking examples ... OK
Examples with CPU (user + system) or elapsed time > 5s
                  user system elapsed
supportedGeneIDs 3.498   1.02   6.362
* checking PDF version of manual ... OK
* DONE

Status: 1 NOTE
See
  ‘/home/biocbuild/bbs-3.22-data-experiment/meat/geneLenDataBase.Rcheck/00check.log’
for details.


Installation output

geneLenDataBase.Rcheck/00install.out

##############################################################################
##############################################################################
###
### Running command:
###
###   /home/biocbuild/bbs-3.22-bioc/R/bin/R CMD INSTALL geneLenDataBase
###
##############################################################################
##############################################################################


* installing to library ‘/home/biocbuild/bbs-3.22-bioc/R/site-library’
* installing *source* package ‘geneLenDataBase’ ...
** this is package ‘geneLenDataBase’ version ‘1.45.0’
** using staged installation
** R
** data
** byte-compile and prepare package for lazy loading
** help
*** installing help indices
** building package indices
** testing if installed package can be loaded from temporary location
** testing if installed package can be loaded from final location
** testing if installed package keeps a record of temporary installation path
* DONE (geneLenDataBase)

Tests output


Example timings

geneLenDataBase.Rcheck/geneLenDataBase-Ex.timings

nameusersystemelapsed
anoCar1.ensGene.LENGTH0.0870.0030.090
anoCar1.genscan.LENGTH0.0470.0000.048
anoCar1.xenoRefGene.LENGTH1.0190.0261.045
anoGam1.ensGene.LENGTH0.0610.0000.063
anoGam1.geneid.LENGTH0.0450.0000.046
anoGam1.genscan.LENGTH0.0420.0020.044
apiMel1.genscan.LENGTH0.0380.0090.047
apiMel2.ensGene.LENGTH0.0920.0030.095
apiMel2.geneid.LENGTH0.0500.0010.052
apiMel2.genscan.LENGTH0.1100.0050.115
aplCal1.xenoRefGene.LENGTH0.4580.0020.459
bosTau2.geneSymbol.LENGTH0.0390.0010.040
bosTau2.geneid.LENGTH0.9880.2731.261
bosTau2.genscan.LENGTH0.080.000.08
bosTau2.refGene.LENGTH0.0370.0010.040
bosTau2.sgpGene.LENGTH0.1040.0000.104
bosTau3.ensGene.LENGTH0.1030.0010.103
bosTau3.geneSymbol.LENGTH0.0330.0000.034
bosTau3.geneid.LENGTH0.1170.0000.117
bosTau3.genscan.LENGTH0.0690.0010.070
bosTau3.refGene.LENGTH0.0310.0010.033
bosTau3.sgpGene.LENGTH0.0920.0000.091
bosTau4.ensGene.LENGTH0.0970.0010.098
bosTau4.geneSymbol.LENGTH0.0320.0080.040
bosTau4.genscan.LENGTH0.0670.0010.067
bosTau4.nscanGene.LENGTH0.0300.0000.029
bosTau4.refGene.LENGTH0.0320.0010.033
braFlo1.xenoRefGene.LENGTH0.4450.0090.453
caeJap1.xenoRefGene.LENGTH0.3820.0140.397
caePb1.xenoRefGene.LENGTH0.5030.0020.505
caePb2.xenoRefGene.LENGTH0.4770.0120.489
caeRem2.xenoRefGene.LENGTH0.4430.0090.452
caeRem3.xenoRefGene.LENGTH0.4130.0040.417
calJac1.genscan.LENGTH0.1010.0140.114
calJac1.nscanGene.LENGTH0.1130.0100.123
calJac1.xenoRefGene.LENGTH0.8550.0080.863
canFam1.ensGene.LENGTH0.3490.0220.370
canFam1.geneSymbol.LENGTH0.0050.0010.005
canFam1.genscan.LENGTH0.0610.0000.061
canFam1.nscanGene.LENGTH0.0610.0000.061
canFam1.refGene.LENGTH0.0040.0010.005
canFam1.xenoRefGene.LENGTH0.6510.0010.652
canFam2.ensGene.LENGTH0.0970.0020.099
canFam2.geneSymbol.LENGTH0.0050.0000.006
canFam2.genscan.LENGTH0.0570.0000.058
canFam2.nscanGene.LENGTH0.0640.0010.065
canFam2.refGene.LENGTH0.0050.0010.005
canFam2.xenoRefGene.LENGTH0.6430.0010.644
cavPor3.ensGene.LENGTH0.0830.0030.087
cavPor3.genscan.LENGTH0.0950.0040.098
cavPor3.nscanGene.LENGTH0.0610.0060.066
cavPor3.xenoRefGene.LENGTH0.6370.0110.649
cb1.xenoRefGene.LENGTH0.4420.0020.445
cb3.xenoRefGene.LENGTH0.3740.0130.387
ce2.geneSymbol.LENGTH0.1810.0140.195
ce2.geneid.LENGTH0.0560.0000.057
ce2.refGene.LENGTH0.0670.0000.067
ce4.geneSymbol.LENGTH0.070.000.07
ce4.refGene.LENGTH0.0630.0010.064
ce4.xenoRefGene.LENGTH0.0780.0020.080
ce6.ensGene.LENGTH0.0940.0010.096
ce6.geneSymbol.LENGTH0.0670.0010.068
ce6.refGene.LENGTH0.0670.0000.066
ce6.xenoRefGene.LENGTH0.0790.0010.079
ci1.geneSymbol.LENGTH0.0050.0000.005
ci1.refGene.LENGTH0.0040.0000.005
ci1.xenoRefGene.LENGTH0.1750.0010.177
ci2.ensGene.LENGTH0.0650.0000.065
ci2.geneSymbol.LENGTH0.0050.0000.005
ci2.refGene.LENGTH0.0030.0010.005
ci2.xenoRefGene.LENGTH0.3250.0010.327
danRer3.ensGene.LENGTH0.1010.0000.101
danRer3.geneSymbol.LENGTH0.0540.0000.053
danRer3.refGene.LENGTH0.0500.0000.049
danRer4.ensGene.LENGTH0.1250.0010.126
danRer4.geneSymbol.LENGTH0.0520.0000.052
danRer4.genscan.LENGTH0.0610.0010.061
danRer4.nscanGene.LENGTH0.0860.0020.088
danRer4.refGene.LENGTH0.0480.0010.050
danRer5.ensGene.LENGTH0.1270.0000.128
danRer5.geneSymbol.LENGTH0.0490.0000.049
danRer5.refGene.LENGTH0.0450.0000.044
danRer5.vegaGene.LENGTH0.0480.0000.048
danRer5.vegaPseudoGene.LENGTH0.0020.0000.003
danRer6.ensGene.LENGTH0.1180.0010.119
danRer6.geneSymbol.LENGTH0.0520.0000.052
danRer6.refGene.LENGTH0.0460.0000.046
danRer6.xenoRefGene.LENGTH0.5540.0020.557
dm1.geneSymbol.LENGTH0.0640.0010.065
dm1.genscan.LENGTH0.0240.0000.024
dm1.refGene.LENGTH0.0590.0000.060
dm2.geneSymbol.LENGTH0.0650.0000.065
dm2.geneid.LENGTH0.0360.0010.036
dm2.genscan.LENGTH0.0210.0020.023
dm2.nscanGene.LENGTH0.0530.0000.053
dm2.refGene.LENGTH0.0590.0010.061
dm3.geneSymbol.LENGTH0.0730.0010.074
dm3.nscanPasaGene.LENGTH0.0560.0000.056
dm3.refGene.LENGTH0.0670.0000.067
downloadLengthFromUCSC000
dp2.genscan.LENGTH0.0320.0010.033
dp2.xenoRefGene.LENGTH0.2360.0010.237
dp3.geneid.LENGTH0.0370.0020.039
dp3.genscan.LENGTH0.0240.0010.025
dp3.xenoRefGene.LENGTH0.1160.0010.117
droAna1.geneid.LENGTH0.0700.0000.071
droAna1.genscan.LENGTH0.0200.0010.022
droAna1.xenoRefGene.LENGTH0.2220.0020.224
droAna2.genscan.LENGTH0.1990.0020.200
droAna2.xenoRefGene.LENGTH0.3040.0010.305
droEre1.genscan.LENGTH0.030.000.03
droEre1.xenoRefGene.LENGTH0.2860.0020.288
droGri1.genscan.LENGTH0.0410.0000.041
droGri1.xenoRefGene.LENGTH0.3130.0010.314
droMoj1.geneid.LENGTH0.1300.0010.131
droMoj1.genscan.LENGTH0.0580.0000.058
droMoj1.xenoRefGene.LENGTH0.2320.0010.234
droMoj2.genscan.LENGTH0.0350.0010.037
droMoj2.xenoRefGene.LENGTH0.3140.0000.315
droPer1.genscan.LENGTH0.0400.0020.042
droPer1.xenoRefGene.LENGTH0.3330.0010.334
droSec1.genscan.LENGTH0.030.000.03
droSec1.xenoRefGene.LENGTH0.3130.0000.313
droSim1.geneid.LENGTH0.0380.0000.038
droSim1.genscan.LENGTH0.0230.0020.025
droSim1.xenoRefGene.LENGTH0.2580.0000.258
droVir1.geneid.LENGTH0.1060.0000.106
droVir1.genscan.LENGTH0.0410.0020.043
droVir1.xenoRefGene.LENGTH0.2620.0010.263
droVir2.genscan.LENGTH0.1330.0000.133
droVir2.xenoRefGene.LENGTH0.3150.0000.315
droYak1.geneid.LENGTH0.0430.0010.044
droYak1.genscan.LENGTH0.0290.0010.031
droYak1.xenoRefGene.LENGTH0.2410.0000.241
droYak2.genscan.LENGTH0.0280.0000.028
droYak2.xenoRefGene.LENGTH0.2950.0010.297
equCab1.geneSymbol.LENGTH0.0050.0010.005
equCab1.geneid.LENGTH0.0930.0000.093
equCab1.nscanGene.LENGTH0.0420.0010.043
equCab1.refGene.LENGTH0.0050.0000.005
equCab1.sgpGene.LENGTH0.0690.0010.069
equCab2.ensGene.LENGTH0.1140.0000.114
equCab2.geneSymbol.LENGTH0.0060.0010.007
equCab2.nscanGene.LENGTH0.0510.0000.052
equCab2.refGene.LENGTH0.0060.0000.006
equCab2.xenoRefGene.LENGTH0.6530.0010.654
felCat3.ensGene.LENGTH0.1250.0010.125
felCat3.geneSymbol.LENGTH0.0020.0020.003
felCat3.geneid.LENGTH0.8130.0060.819
felCat3.genscan.LENGTH0.1130.0010.115
felCat3.nscanGene.LENGTH0.0890.0010.090
felCat3.refGene.LENGTH0.0030.0000.004
felCat3.sgpGene.LENGTH0.1480.0000.148
felCat3.xenoRefGene.LENGTH1.2530.0031.257
fr1.ensGene.LENGTH0.0790.0000.079
fr1.genscan.LENGTH0.0580.0010.059
fr2.ensGene.LENGTH0.1400.0000.139
galGal2.ensGene.LENGTH0.060.000.06
galGal2.geneSymbol.LENGTH0.0160.0010.016
galGal2.geneid.LENGTH0.040.000.04
galGal2.genscan.LENGTH0.0530.0000.053
galGal2.refGene.LENGTH0.0150.0010.016
galGal2.sgpGene.LENGTH0.0470.0000.046
galGal3.ensGene.LENGTH0.0760.0000.076
galGal3.geneSymbol.LENGTH0.0150.0000.016
galGal3.genscan.LENGTH0.0460.0010.047
galGal3.nscanGene.LENGTH0.0720.0010.074
galGal3.refGene.LENGTH0.0140.0000.015
galGal3.xenoRefGene.LENGTH1.5100.1301.641
gasAcu1.ensGene.LENGTH0.0940.0000.095
gasAcu1.nscanGene.LENGTH0.0860.0000.087
hg16.acembly.LENGTH0.3770.0010.379
hg16.ensGene.LENGTH0.0680.0000.069
hg16.exoniphy.LENGTH0.2280.0000.228
hg16.geneSymbol.LENGTH0.1000.0030.103
hg16.geneid.LENGTH0.0460.0010.048
hg16.genscan.LENGTH0.0610.0000.061
hg16.knownGene.LENGTH0.1210.0000.121
hg16.refGene.LENGTH0.0980.0000.097
hg16.sgpGene.LENGTH0.0500.0030.053
hg17.acembly.LENGTH0.4650.0090.473
hg17.acescan.LENGTH0.0090.0010.011
hg17.ccdsGene.LENGTH0.0230.0010.024
hg17.ensGene.LENGTH0.1110.0020.112
hg17.exoniphy.LENGTH0.3990.0110.410
hg17.geneSymbol.LENGTH0.1040.0010.105
hg17.geneid.LENGTH0.0720.0020.074
hg17.genscan.LENGTH0.0590.0000.059
hg17.knownGene.LENGTH0.1150.0030.117
hg17.refGene.LENGTH0.1030.0000.103
hg17.sgpGene.LENGTH0.0700.0010.070
hg17.vegaGene.LENGTH0.0430.0010.043
hg17.vegaPseudoGene.LENGTH0.0190.0000.018
hg17.xenoRefGene.LENGTH0.2610.0020.262
hg18.acembly.LENGTH0.5370.0240.561
hg18.acescan.LENGTH0.0090.0010.010
hg18.ccdsGene.LENGTH0.0330.0010.035
hg18.ensGene.LENGTH0.2100.0020.212
hg18.exoniphy.LENGTH0.4770.0060.483
hg18.geneSymbol.LENGTH0.1160.0000.116
hg18.geneid.LENGTH0.0710.0030.075
hg18.genscan.LENGTH0.0650.0000.065
hg18.knownGene.LENGTH0.1600.0040.165
hg18.knownGeneOld3.LENGTH0.0700.0020.072
hg18.refGene.LENGTH0.1120.0000.112
hg18.sgpGene.LENGTH0.0820.0100.092
hg18.sibGene.LENGTH0.8270.0280.855
hg18.xenoRefGene.LENGTH0.3830.0010.384
hg19.ccdsGene.LENGTH0.0420.0010.042
hg19.ensGene.LENGTH0.3350.0270.361
hg19.exoniphy.LENGTH0.4230.0110.434
hg19.geneSymbol.LENGTH0.1030.0000.104
hg19.knownGene.LENGTH0.1830.0020.186
hg19.nscanGene.LENGTH0.1470.0010.149
hg19.refGene.LENGTH0.1000.0010.101
hg19.xenoRefGene.LENGTH0.3940.0010.394
loxAfr3.xenoRefGene.LENGTH0.8860.0010.886
mm7.ensGene.LENGTH0.1210.0020.123
mm7.geneSymbol.LENGTH0.0910.0030.093
mm7.geneid.LENGTH0.0800.0030.084
mm7.genscan.LENGTH0.0610.0030.063
mm7.knownGene.LENGTH0.1020.0000.102
mm7.refGene.LENGTH0.0870.0010.088
mm7.sgpGene.LENGTH0.0740.0000.075
mm7.xenoRefGene.LENGTH0.3380.0030.341
mm8.ccdsGene.LENGTH0.0210.0010.023
mm8.ensGene.LENGTH0.1820.0070.190
mm8.geneSymbol.LENGTH0.0940.0000.093
mm8.geneid.LENGTH0.0840.0000.084
mm8.genscan.LENGTH0.0610.0000.061
mm8.knownGene.LENGTH0.0970.0010.098
mm8.nscanGene.LENGTH0.0620.0000.063
mm8.refGene.LENGTH0.0830.0010.084
mm8.sgpGene.LENGTH0.0710.0000.071
mm8.sibGene.LENGTH0.2780.0020.280
mm8.xenoRefGene.LENGTH0.3790.0000.378
mm9.acembly.LENGTH0.3470.0020.349
mm9.ccdsGene.LENGTH0.0310.0000.030
mm9.ensGene.LENGTH0.1660.0010.167
mm9.exoniphy.LENGTH0.4510.0000.450
mm9.geneSymbol.LENGTH0.0880.0020.090
mm9.geneid.LENGTH0.0830.0010.084
mm9.genscan.LENGTH0.0620.0010.063
mm9.knownGene.LENGTH0.1040.0020.106
mm9.nscanGene.LENGTH0.0580.0020.060
mm9.refGene.LENGTH0.0790.0020.082
mm9.sgpGene.LENGTH0.0790.0000.078
mm9.xenoRefGene.LENGTH0.9470.0090.955
monDom1.genscan.LENGTH0.0600.0010.061
monDom4.ensGene.LENGTH0.0730.0000.074
monDom4.geneSymbol.LENGTH0.0040.0000.003
monDom4.genscan.LENGTH0.0530.0000.052
monDom4.nscanGene.LENGTH0.0610.0220.083
monDom4.refGene.LENGTH0.0030.0010.003
monDom4.xenoRefGene.LENGTH0.4050.0070.412
monDom5.ensGene.LENGTH0.1290.0020.131
monDom5.geneSymbol.LENGTH0.0040.0000.003
monDom5.genscan.LENGTH0.0570.0010.057
monDom5.nscanGene.LENGTH0.1160.0020.118
monDom5.refGene.LENGTH0.0040.0000.004
monDom5.xenoRefGene.LENGTH0.6430.0040.647
ornAna1.ensGene.LENGTH0.0980.0060.104
ornAna1.geneSymbol.LENGTH0.0000.0020.002
ornAna1.refGene.LENGTH0.0010.0010.002
ornAna1.xenoRefGene.LENGTH0.6150.0020.617
oryLat2.ensGene.LENGTH0.0860.0010.086
oryLat2.geneSymbol.LENGTH0.0030.0010.004
oryLat2.refGene.LENGTH0.0020.0010.004
oryLat2.xenoRefGene.LENGTH0.5480.0030.550
panTro1.ensGene.LENGTH0.1030.0010.104
panTro1.geneid.LENGTH0.0500.0010.051
panTro1.genscan.LENGTH0.0630.0000.062
panTro1.xenoRefGene.LENGTH0.1140.0000.114
panTro2.ensGene.LENGTH0.1170.0010.119
panTro2.geneSymbol.LENGTH0.1040.0010.105
panTro2.genscan.LENGTH0.0630.0010.064
panTro2.nscanGene.LENGTH0.0680.0000.068
panTro2.refGene.LENGTH0.1020.0010.102
panTro2.xenoRefGene.LENGTH0.5310.0000.530
petMar1.xenoRefGene.LENGTH0.5070.0040.511
ponAbe2.ensGene.LENGTH0.0870.0000.087
ponAbe2.geneSymbol.LENGTH0.0120.0000.012
ponAbe2.genscan.LENGTH0.0630.0010.065
ponAbe2.nscanGene.LENGTH0.0600.0020.062
ponAbe2.refGene.LENGTH0.0100.0010.011
ponAbe2.xenoRefGene.LENGTH0.6920.0010.693
priPac1.xenoRefGene.LENGTH0.3760.0020.377
rheMac2.ensGene.LENGTH0.1410.0000.141
rheMac2.geneSymbol.LENGTH0.0050.0000.006
rheMac2.geneid.LENGTH0.080.000.08
rheMac2.nscanGene.LENGTH0.0610.0000.061
rheMac2.refGene.LENGTH0.0050.0000.004
rheMac2.sgpGene.LENGTH0.0720.0000.072
rheMac2.xenoRefGene.LENGTH0.4870.0010.487
rn3.ensGene.LENGTH0.1080.0000.108
rn3.geneSymbol.LENGTH0.0560.0000.058
rn3.geneid.LENGTH0.0560.0000.056
rn3.genscan.LENGTH0.0640.0000.065
rn3.knownGene.LENGTH0.0230.0000.023
rn3.nscanGene.LENGTH0.0590.0010.060
rn3.refGene.LENGTH0.0490.0010.050
rn3.sgpGene.LENGTH0.0570.0000.058
rn3.xenoRefGene.LENGTH0.5710.0030.574
rn4.ensGene.LENGTH0.4760.0000.476
rn4.geneSymbol.LENGTH0.0510.0000.052
rn4.geneid.LENGTH0.0850.0000.086
rn4.genscan.LENGTH0.0600.0010.060
rn4.knownGene.LENGTH0.0230.0010.023
rn4.nscanGene.LENGTH0.0530.0010.055
rn4.refGene.LENGTH0.0460.0000.046
rn4.sgpGene.LENGTH0.0810.0010.081
rn4.xenoRefGene.LENGTH0.3470.0000.347
sacCer1.ensGene.LENGTH0.0170.0020.019
sacCer2.ensGene.LENGTH0.0170.0000.017
strPur1.geneSymbol.LENGTH0.0040.0000.004
strPur1.genscan.LENGTH0.0620.0010.063
strPur1.refGene.LENGTH0.0040.0000.004
strPur1.xenoRefGene.LENGTH0.4560.0000.456
strPur2.geneSymbol.LENGTH0.0030.0000.004
strPur2.genscan.LENGTH0.1100.0010.111
strPur2.refGene.LENGTH0.0020.0020.004
strPur2.xenoRefGene.LENGTH0.6690.0000.669
supportedGeneIDs3.4981.0206.362
supportedGenomes0.2630.0360.978
taeGut1.ensGene.LENGTH0.0580.0030.062
taeGut1.geneSymbol.LENGTH0.0010.0010.003
taeGut1.genscan.LENGTH0.0300.0010.031
taeGut1.nscanGene.LENGTH0.0250.0000.025
taeGut1.refGene.LENGTH0.0010.0010.003
taeGut1.xenoRefGene.LENGTH0.4480.0130.462
tetNig1.ensGene.LENGTH0.0860.0050.091
tetNig1.geneid.LENGTH0.0600.0060.065
tetNig1.genscan.LENGTH0.0440.0050.049
tetNig1.nscanGene.LENGTH0.0630.0020.065
tetNig2.ensGene.LENGTH0.0680.0020.070
unfactor0.0040.0000.003
xenTro1.genscan.LENGTH0.0790.0010.080
xenTro2.ensGene.LENGTH0.0870.0010.088
xenTro2.geneSymbol.LENGTH0.0280.0010.030
xenTro2.genscan.LENGTH0.0680.0030.071
xenTro2.refGene.LENGTH0.0290.0000.028