Back to Build/check report for BioC 3.22 experimental data
ABCDEFGHIJKLMNO[P]QRSTUVWXYZ

This page was generated on 2025-07-08 15:41 -0400 (Tue, 08 Jul 2025).

HostnameOSArch (*)R versionInstalled pkgs
nebbiolo2Linux (Ubuntu 24.04.1 LTS)x86_644.5.1 (2025-06-13) -- "Great Square Root" 4779
Click on any hostname to see more info about the system (e.g. compilers)      (*) as reported by 'uname -p', except on Windows and Mac OS X

Package 299/429HostnameOS / ArchINSTALLBUILDCHECK
pRolocdata 1.47.0  (landing page)
Lisa Breckels
Snapshot Date: 2025-07-08 07:30 -0400 (Tue, 08 Jul 2025)
git_url: https://git.bioconductor.org/packages/pRolocdata
git_branch: devel
git_last_commit: 40b364e
git_last_commit_date: 2025-04-15 09:21:13 -0400 (Tue, 15 Apr 2025)
nebbiolo2Linux (Ubuntu 24.04.1 LTS) / x86_64  OK    OK    OK  UNNEEDED, same version is already published


CHECK results for pRolocdata on nebbiolo2

To the developers/maintainers of the pRolocdata package:
- Use the following Renviron settings to reproduce errors and warnings.
- If 'R CMD check' started to fail recently on the Linux builder(s) over a missing dependency, add the missing dependency to 'Suggests:' in your DESCRIPTION file. See Renviron.bioc for more information.

raw results


Summary

Package: pRolocdata
Version: 1.47.0
Command: /home/biocbuild/bbs-3.22-bioc/R/bin/R CMD check --install=check:pRolocdata.install-out.txt --library=/home/biocbuild/bbs-3.22-bioc/R/site-library --timings pRolocdata_1.47.0.tar.gz
StartedAt: 2025-07-08 12:49:19 -0400 (Tue, 08 Jul 2025)
EndedAt: 2025-07-08 12:57:31 -0400 (Tue, 08 Jul 2025)
EllapsedTime: 492.2 seconds
RetCode: 0
Status:   OK  
CheckDir: pRolocdata.Rcheck
Warnings: 0

Command output

##############################################################################
##############################################################################
###
### Running command:
###
###   /home/biocbuild/bbs-3.22-bioc/R/bin/R CMD check --install=check:pRolocdata.install-out.txt --library=/home/biocbuild/bbs-3.22-bioc/R/site-library --timings pRolocdata_1.47.0.tar.gz
###
##############################################################################
##############################################################################


* using log directory ‘/home/biocbuild/bbs-3.22-data-experiment/meat/pRolocdata.Rcheck’
* using R version 4.5.1 (2025-06-13)
* using platform: x86_64-pc-linux-gnu
* R was compiled by
    gcc (Ubuntu 13.3.0-6ubuntu2~24.04) 13.3.0
    GNU Fortran (Ubuntu 13.3.0-6ubuntu2~24.04) 13.3.0
* running under: Ubuntu 24.04.2 LTS
* using session charset: UTF-8
* checking for file ‘pRolocdata/DESCRIPTION’ ... OK
* checking extension type ... Package
* this is package ‘pRolocdata’ version ‘1.47.0’
* package encoding: UTF-8
* checking package namespace information ... OK
* checking package dependencies ... OK
* checking if this is a source package ... OK
* checking if there is a namespace ... OK
* checking for hidden files and directories ... OK
* checking for portable file names ... OK
* checking for sufficient/correct file permissions ... OK
* checking whether package ‘pRolocdata’ can be installed ... OK
* checking installed package size ... INFO
  installed size is 192.1Mb
  sub-directories of 1Mb or more:
    data     190.3Mb
    extdata    1.1Mb
* checking package directory ... OK
* checking DESCRIPTION meta-information ... OK
* checking top-level files ... OK
* checking for left-over files ... OK
* checking index information ... OK
* checking package subdirectories ... OK
* checking code files for non-ASCII characters ... OK
* checking R files for syntax errors ... OK
* checking whether the package can be loaded ... OK
* checking whether the package can be loaded with stated dependencies ... OK
* checking whether the package can be unloaded cleanly ... OK
* checking whether the namespace can be loaded with stated dependencies ... OK
* checking whether the namespace can be unloaded cleanly ... OK
* checking loading without being on the library search path ... OK
* checking whether startup messages can be suppressed ... OK
* checking dependencies in R code ... OK
* checking S3 generic/method consistency ... OK
* checking replacement functions ... OK
* checking foreign function calls ... OK
* checking R code for possible problems ... OK
* checking Rd files ... NOTE
checkRd: (-1) thpLOPIT2021.Rd:82: Lost braces
    82 |   PSM-level csv files are available in the code{extdata} directory
       |                                                ^
checkRd: (-1) thpTimecourse2021.Rd:52: Lost braces
    52 |   code{extdata} directory and have been imported as 
       |       ^
* checking Rd metadata ... OK
* checking Rd cross-references ... OK
* checking for missing documentation entries ... OK
* checking for code/documentation mismatches ... OK
* checking Rd \usage sections ... OK
* checking Rd contents ... OK
* checking for unstated dependencies in examples ... OK
* checking contents of ‘data’ directory ... OK
* checking data for non-ASCII characters ... OK
* checking data for ASCII and uncompressed saves ... OK
* checking examples ... OK
Examples with CPU (user + system) or elapsed time > 5s
                 user system elapsed
thpLOPIT2021   10.522  0.048  10.570
krahmer2018pcp 10.053  0.337  10.390
Shin2020        5.047  0.255   5.314
* checking for unstated dependencies in ‘tests’ ... OK
* checking tests ...
  Running ‘testthat.R’
 OK
* checking PDF version of manual ... OK
* DONE

Status: 1 NOTE
See
  ‘/home/biocbuild/bbs-3.22-data-experiment/meat/pRolocdata.Rcheck/00check.log’
for details.


Installation output

pRolocdata.Rcheck/00install.out

##############################################################################
##############################################################################
###
### Running command:
###
###   /home/biocbuild/bbs-3.22-bioc/R/bin/R CMD INSTALL pRolocdata
###
##############################################################################
##############################################################################


* installing to library ‘/home/biocbuild/bbs-3.22-bioc/R/site-library’
* installing *source* package ‘pRolocdata’ ...
** this is package ‘pRolocdata’ version ‘1.47.0’
** using staged installation
** R
** data
** inst
** byte-compile and prepare package for lazy loading
** help
*** installing help indices
** building package indices
** testing if installed package can be loaded from temporary location
** testing if installed package can be loaded from final location
** testing if installed package keeps a record of temporary installation path
* DONE (pRolocdata)

Tests output

pRolocdata.Rcheck/tests/testthat.Rout


R version 4.5.1 (2025-06-13) -- "Great Square Root"
Copyright (C) 2025 The R Foundation for Statistical Computing
Platform: x86_64-pc-linux-gnu

R is free software and comes with ABSOLUTELY NO WARRANTY.
You are welcome to redistribute it under certain conditions.
Type 'license()' or 'licence()' for distribution details.

R is a collaborative project with many contributors.
Type 'contributors()' for more information and
'citation()' on how to cite R or R packages in publications.

Type 'demo()' for some demos, 'help()' for on-line help, or
'help.start()' for an HTML browser interface to help.
Type 'q()' to quit R.

> # setting R_TESTS to empty string because of 
> # https://github.com/hadley/testthat/issues/144
> # revert this when that issue in R is fixed.
> Sys.setenv("R_TESTS" = "")
> library(testthat)
> library(MSnbase)
Loading required package: BiocGenerics
Loading required package: generics

Attaching package: 'generics'

The following objects are masked from 'package:base':

    as.difftime, as.factor, as.ordered, intersect, is.element, setdiff,
    setequal, union


Attaching package: 'BiocGenerics'

The following objects are masked from 'package:stats':

    IQR, mad, sd, var, xtabs

The following objects are masked from 'package:base':

    Filter, Find, Map, Position, Reduce, anyDuplicated, aperm, append,
    as.data.frame, basename, cbind, colnames, dirname, do.call,
    duplicated, eval, evalq, get, grep, grepl, is.unsorted, lapply,
    mapply, match, mget, order, paste, pmax, pmax.int, pmin, pmin.int,
    rank, rbind, rownames, sapply, saveRDS, table, tapply, unique,
    unsplit, which.max, which.min

Loading required package: Biobase
Welcome to Bioconductor

    Vignettes contain introductory material; view with
    'browseVignettes()'. To cite Bioconductor, see
    'citation("Biobase")', and for packages 'citation("pkgname")'.

Loading required package: mzR
Loading required package: Rcpp
Loading required package: S4Vectors
Loading required package: stats4

Attaching package: 'S4Vectors'

The following object is masked from 'package:utils':

    findMatches

The following objects are masked from 'package:base':

    I, expand.grid, unname

Loading required package: ProtGenerics

Attaching package: 'ProtGenerics'

The following object is masked from 'package:stats':

    smooth


This is MSnbase version 2.35.0 
  Visit https://lgatto.github.io/MSnbase/ to get started.
 Consider switching to the 'R for Mass Spectrometry'
 packages - see https://RforMassSpectrometry.org for details.


Attaching package: 'MSnbase'

The following object is masked from 'package:base':

    trimws

> library(pRolocdata)

This is pRolocdata version 1.47.0.
Use 'pRolocdata()' to list available data sets.
> 
> test_check("pRolocdata")
[ FAIL 0 | WARN 0 | SKIP 0 | PASS 144 ]
> 
> proc.time()
   user  system elapsed 
 44.923   1.859  46.779 

Example timings

pRolocdata.Rcheck/pRolocdata-Ex.timings

nameusersystemelapsed
E14TG2a0.0290.0010.030
Shin20205.0470.2555.314
ToxoLopit1.4200.0251.445
andreyev20100.6190.0260.645
andy20110.0570.0040.061
at_chloro0.1110.0020.113
baers20180.4150.0040.418
beltran20160.5920.0070.598
courtland20200.5910.0100.601
davies20180.3440.0100.354
dunkley20060.0100.0020.012
fabre20150.2940.0080.302
foster20060.0310.0010.032
groen20140.2420.0060.248
hall20090.1740.0060.179
havugimana20120.1240.0190.142
hirst20180.5050.0030.508
hyperLOPIT20154.2140.2584.471
hyperLOPITU2OS20171.3770.0361.413
itzhak2016stcSILAC0.6240.0270.651
itzhak20171.6920.0301.722
itzhak2017dynamic1.3010.0091.311
kirkwood20130.0370.0010.039
kozik20200.2170.0020.218
krahmer2018pcp10.053 0.33710.390
kristensen20120.0230.0010.023
lopimsSyn20.6700.0050.676
moloney20230.7750.0070.782
mulvey20152.3200.0612.381
nikolovski20120.2980.0040.302
nikolovski20140.3770.0050.383
orre20190.4170.0030.419
pRolocdata0.0100.0050.016
pRolocmetadata0.0130.0010.014
rodriguez2012r10.7040.0050.710
stekhoven20140.2190.0010.219
tan20090.0160.0000.015
thpLOPIT202110.522 0.04810.570
thpTimecourse20210.1450.0040.147
trotter20100.4440.0090.453
yeast0.3870.0050.391