Back to Build/check report for BioC 3.22 experimental data
ABCDEFGHIJKLMNOPQR[S]TUVWXYZ

This page was generated on 2025-07-08 15:41 -0400 (Tue, 08 Jul 2025).

HostnameOSArch (*)R versionInstalled pkgs
nebbiolo2Linux (Ubuntu 24.04.1 LTS)x86_644.5.1 (2025-06-13) -- "Great Square Root" 4779
Click on any hostname to see more info about the system (e.g. compilers)      (*) as reported by 'uname -p', except on Windows and Mac OS X

Package 354/429HostnameOS / ArchINSTALLBUILDCHECK
scRNAseq 2.23.0  (landing page)
Aaron Lun
Snapshot Date: 2025-07-08 07:30 -0400 (Tue, 08 Jul 2025)
git_url: https://git.bioconductor.org/packages/scRNAseq
git_branch: devel
git_last_commit: efd05d7
git_last_commit_date: 2025-04-15 10:08:35 -0400 (Tue, 15 Apr 2025)
nebbiolo2Linux (Ubuntu 24.04.1 LTS) / x86_64  OK    OK    OK  UNNEEDED, same version is already published


CHECK results for scRNAseq on nebbiolo2

To the developers/maintainers of the scRNAseq package:
- Use the following Renviron settings to reproduce errors and warnings.
- If 'R CMD check' started to fail recently on the Linux builder(s) over a missing dependency, add the missing dependency to 'Suggests:' in your DESCRIPTION file. See Renviron.bioc for more information.

raw results


Summary

Package: scRNAseq
Version: 2.23.0
Command: /home/biocbuild/bbs-3.22-bioc/R/bin/R CMD check --install=check:scRNAseq.install-out.txt --library=/home/biocbuild/bbs-3.22-bioc/R/site-library --timings scRNAseq_2.23.0.tar.gz
StartedAt: 2025-07-08 12:59:55 -0400 (Tue, 08 Jul 2025)
EndedAt: 2025-07-08 13:15:35 -0400 (Tue, 08 Jul 2025)
EllapsedTime: 940.2 seconds
RetCode: 0
Status:   OK  
CheckDir: scRNAseq.Rcheck
Warnings: 0

Command output

##############################################################################
##############################################################################
###
### Running command:
###
###   /home/biocbuild/bbs-3.22-bioc/R/bin/R CMD check --install=check:scRNAseq.install-out.txt --library=/home/biocbuild/bbs-3.22-bioc/R/site-library --timings scRNAseq_2.23.0.tar.gz
###
##############################################################################
##############################################################################


* using log directory ‘/home/biocbuild/bbs-3.22-data-experiment/meat/scRNAseq.Rcheck’
* using R version 4.5.1 (2025-06-13)
* using platform: x86_64-pc-linux-gnu
* R was compiled by
    gcc (Ubuntu 13.3.0-6ubuntu2~24.04) 13.3.0
    GNU Fortran (Ubuntu 13.3.0-6ubuntu2~24.04) 13.3.0
* running under: Ubuntu 24.04.2 LTS
* using session charset: UTF-8
* checking for file ‘scRNAseq/DESCRIPTION’ ... OK
* this is package ‘scRNAseq’ version ‘2.23.0’
* package encoding: UTF-8
* checking package namespace information ... OK
* checking package dependencies ... OK
* checking if this is a source package ... OK
* checking if there is a namespace ... OK
* checking for hidden files and directories ... NOTE
Found the following hidden files and directories:
  .BBSoptions
These were most likely included in error. See section ‘Package
structure’ in the ‘Writing R Extensions’ manual.
* checking for portable file names ... OK
* checking for sufficient/correct file permissions ... OK
* checking whether package ‘scRNAseq’ can be installed ... OK
* checking installed package size ... OK
* checking package directory ... OK
* checking ‘build’ directory ... OK
* checking DESCRIPTION meta-information ... OK
* checking top-level files ... OK
* checking for left-over files ... OK
* checking index information ... OK
* checking package subdirectories ... OK
* checking code files for non-ASCII characters ... OK
* checking R files for syntax errors ... OK
* checking whether the package can be loaded ... OK
* checking whether the package can be loaded with stated dependencies ... OK
* checking whether the package can be unloaded cleanly ... OK
* checking whether the namespace can be loaded with stated dependencies ... OK
* checking whether the namespace can be unloaded cleanly ... OK
* checking loading without being on the library search path ... OK
* checking dependencies in R code ... OK
* checking S3 generic/method consistency ... OK
* checking replacement functions ... OK
* checking foreign function calls ... OK
* checking R code for possible problems ... OK
* checking Rd files ... OK
* checking Rd metadata ... OK
* checking Rd cross-references ... OK
* checking for missing documentation entries ... OK
* checking for code/documentation mismatches ... OK
* checking Rd \usage sections ... OK
* checking Rd contents ... OK
* checking for unstated dependencies in examples ... OK
* checking files in ‘vignettes’ ... OK
* checking examples ... OK
Examples with CPU (user + system) or elapsed time > 5s
                           user system elapsed
BhaduriOrganoidData      24.812  8.744  33.872
BacherTCellData          18.418  4.872  23.412
ZeiselNervousData        15.027  5.505  20.977
HeOrganAtlasData         12.927  6.720  19.863
JessaBrainData           13.018  4.484  17.900
ErnstSpermatogenesisData 12.032  4.547  17.150
StoeckiusHashingData     10.220  1.667  12.600
ZhaoImmuneLiverData       7.471  3.038  10.619
GiladiHSCData             5.647  2.802   8.555
AztekinTailData           7.381  0.663   8.070
BachMammaryData           7.140  0.754   8.774
LunSpikeInData            6.711  0.941   8.151
NestorowaHSCData          5.120  0.625   6.008
ZilionisLungData          4.387  1.129   5.625
* checking for unstated dependencies in ‘tests’ ... OK
* checking tests ...
  Running ‘testthat.R’
 OK
* checking for unstated dependencies in vignettes ... OK
* checking package vignettes ... OK
* checking re-building of vignette outputs ... OK
* checking PDF version of manual ... OK
* DONE

Status: 1 NOTE
See
  ‘/home/biocbuild/bbs-3.22-data-experiment/meat/scRNAseq.Rcheck/00check.log’
for details.


Installation output

scRNAseq.Rcheck/00install.out

##############################################################################
##############################################################################
###
### Running command:
###
###   /home/biocbuild/bbs-3.22-bioc/R/bin/R CMD INSTALL scRNAseq
###
##############################################################################
##############################################################################


* installing to library ‘/home/biocbuild/bbs-3.22-bioc/R/site-library’
* installing *source* package ‘scRNAseq’ ...
** this is package ‘scRNAseq’ version ‘2.23.0’
** using staged installation
** R
** inst
** byte-compile and prepare package for lazy loading
** help
*** installing help indices
** building package indices
** installing vignettes
** testing if installed package can be loaded from temporary location
** testing if installed package can be loaded from final location
** testing if installed package keeps a record of temporary installation path
* DONE (scRNAseq)

Tests output

scRNAseq.Rcheck/tests/testthat.Rout


R version 4.5.1 (2025-06-13) -- "Great Square Root"
Copyright (C) 2025 The R Foundation for Statistical Computing
Platform: x86_64-pc-linux-gnu

R is free software and comes with ABSOLUTELY NO WARRANTY.
You are welcome to redistribute it under certain conditions.
Type 'license()' or 'licence()' for distribution details.

R is a collaborative project with many contributors.
Type 'contributors()' for more information and
'citation()' on how to cite R or R packages in publications.

Type 'demo()' for some demos, 'help()' for on-line help, or
'help.start()' for an HTML browser interface to help.
Type 'q()' to quit R.

> library(testthat)
> library(scRNAseq)
Loading required package: SingleCellExperiment
Loading required package: SummarizedExperiment
Loading required package: MatrixGenerics
Loading required package: matrixStats

Attaching package: 'MatrixGenerics'

The following objects are masked from 'package:matrixStats':

    colAlls, colAnyNAs, colAnys, colAvgsPerRowSet, colCollapse,
    colCounts, colCummaxs, colCummins, colCumprods, colCumsums,
    colDiffs, colIQRDiffs, colIQRs, colLogSumExps, colMadDiffs,
    colMads, colMaxs, colMeans2, colMedians, colMins, colOrderStats,
    colProds, colQuantiles, colRanges, colRanks, colSdDiffs, colSds,
    colSums2, colTabulates, colVarDiffs, colVars, colWeightedMads,
    colWeightedMeans, colWeightedMedians, colWeightedSds,
    colWeightedVars, rowAlls, rowAnyNAs, rowAnys, rowAvgsPerColSet,
    rowCollapse, rowCounts, rowCummaxs, rowCummins, rowCumprods,
    rowCumsums, rowDiffs, rowIQRDiffs, rowIQRs, rowLogSumExps,
    rowMadDiffs, rowMads, rowMaxs, rowMeans2, rowMedians, rowMins,
    rowOrderStats, rowProds, rowQuantiles, rowRanges, rowRanks,
    rowSdDiffs, rowSds, rowSums2, rowTabulates, rowVarDiffs, rowVars,
    rowWeightedMads, rowWeightedMeans, rowWeightedMedians,
    rowWeightedSds, rowWeightedVars

Loading required package: GenomicRanges
Loading required package: stats4
Loading required package: BiocGenerics
Loading required package: generics

Attaching package: 'generics'

The following objects are masked from 'package:base':

    as.difftime, as.factor, as.ordered, intersect, is.element, setdiff,
    setequal, union


Attaching package: 'BiocGenerics'

The following objects are masked from 'package:stats':

    IQR, mad, sd, var, xtabs

The following objects are masked from 'package:base':

    Filter, Find, Map, Position, Reduce, anyDuplicated, aperm, append,
    as.data.frame, basename, cbind, colnames, dirname, do.call,
    duplicated, eval, evalq, get, grep, grepl, is.unsorted, lapply,
    mapply, match, mget, order, paste, pmax, pmax.int, pmin, pmin.int,
    rank, rbind, rownames, sapply, saveRDS, table, tapply, unique,
    unsplit, which.max, which.min

Loading required package: S4Vectors

Attaching package: 'S4Vectors'

The following object is masked from 'package:utils':

    findMatches

The following objects are masked from 'package:base':

    I, expand.grid, unname

Loading required package: IRanges
Loading required package: Seqinfo
Loading required package: Biobase
Welcome to Bioconductor

    Vignettes contain introductory material; view with
    'browseVignettes()'. To cite Bioconductor, see
    'citation("Biobase")', and for packages 'citation("pkgname")'.


Attaching package: 'Biobase'

The following object is masked from 'package:MatrixGenerics':

    rowMedians

The following objects are masked from 'package:matrixStats':

    anyMissing, rowMedians

> test_check("scRNAseq")
[ FAIL 0 | WARN 35 | SKIP 1 | PASS 186 ]

══ Skipped tests (1) ═══════════════════════════════════════════════════════════
• is.null(gh_token) is TRUE (1): 'test-uploadDirectory.R:59:5'

[ FAIL 0 | WARN 35 | SKIP 1 | PASS 186 ]
Warning message:
call dbDisconnect() when finished working with a connection 
> 
> proc.time()
   user  system elapsed 
297.628  37.956 353.156 

Example timings

scRNAseq.Rcheck/scRNAseq-Ex.timings

nameusersystemelapsed
AztekinTailData7.3810.6638.070
BachMammaryData7.1400.7548.774
BacherTCellData18.418 4.87223.412
BaronPancreasData1.0480.1701.230
BhaduriOrganoidData24.812 8.74433.872
BuettnerESCData3.1810.2943.721
BunisHSPCData1.1020.7521.876
CampbellBrainData2.0091.3983.511
ChenBrainData1.0930.6051.715
DarmanisBrainData0.2650.1040.375
ERCCSpikeInConcentrations0.0170.0050.024
ErnstSpermatogenesisData12.032 4.54717.150
FletcherOlfactoryData1.0170.4821.509
GiladiHSCData5.6472.8028.555
GrunHSCData0.2470.0310.283
GrunPancreasData0.7160.4471.171
HeOrganAtlasData12.927 6.72019.863
HermannSpermatogenesisData0.8160.2361.062
HuCortexData0.5260.1790.715
JessaBrainData13.018 4.48417.900
KolodziejczykESCData3.7500.6374.614
KotliarovPBMCData2.4990.5243.098
LaMannoBrainData1.7380.3122.075
LawlorPancreasData0.8250.1140.969
LedergorMyelomaData1.4130.2571.717
LengESCData0.5100.0820.621
LunSpikeInData6.7110.9418.151
MacoskoRetinaData1.7490.5582.341
MairPBMCData1.0660.2121.288
MarquesBrainData1.0040.1141.159
MessmerESCData4.0140.5874.884
MuraroPancreasData1.5030.3181.832
NestorowaHSCData5.1200.6256.008
NowakowskiCortexData1.8630.3132.189
PaulHSCData3.6060.5394.159
PollenGliaData0.2400.0240.268
ReprocessedData2.2010.2952.577
RichardTCellData3.8770.3374.482
RomanovBrainData0.5420.1140.666
SegerstolpePancreasData1.3600.3271.702
ShekharRetinaData2.5290.7083.311
StoeckiusHashingData10.220 1.66712.600
TasicBrainData1.9400.4032.410
UsoskinBrainData0.5030.0840.595
WuKidneyData0.3680.0510.426
XinPancreasData0.8040.2591.073
ZeiselBrainData1.0690.2751.357
ZeiselNervousData15.027 5.50520.977
ZhaoImmuneLiverData 7.471 3.03810.619
ZhongPrefrontalData0.6470.1130.769
ZilionisLungData4.3871.1295.625
countErccMolecules0.0350.0000.035
fetchDataset0.4640.0170.481
listDatasets0.0110.0000.011
listPaths0.6500.0281.680
listVersions0.0120.0000.476
polishDataset0.1210.0040.125
saveDataset0.9360.0481.003
searchDatasets1.7830.1222.085
surveyDatasets0.8820.0560.938