Back to Multiple platform build/check report for BioC 3.19: simplified long |
|
This page was generated on 2024-06-25 17:39 -0400 (Tue, 25 Jun 2024).
Hostname | OS | Arch (*) | R version | Installed pkgs |
---|---|---|---|---|
nebbiolo1 | Linux (Ubuntu 22.04.3 LTS) | x86_64 | 4.4.0 (2024-04-24) -- "Puppy Cup" | 4760 |
palomino3 | Windows Server 2022 Datacenter | x64 | 4.4.0 (2024-04-24 ucrt) -- "Puppy Cup" | 4494 |
merida1 | macOS 12.7.4 Monterey | x86_64 | 4.4.0 (2024-04-24) -- "Puppy Cup" | 4508 |
kjohnson1 | macOS 13.6.6 Ventura | arm64 | 4.4.0 (2024-04-24) -- "Puppy Cup" | 4466 |
Click on any hostname to see more info about the system (e.g. compilers) (*) as reported by 'uname -p', except on Windows and Mac OS X |
Package 509/2300 | Hostname | OS / Arch | INSTALL | BUILD | CHECK | BUILD BIN | ||||||||
DAPAR 1.36.2 (landing page) Samuel Wieczorek
| nebbiolo1 | Linux (Ubuntu 22.04.3 LTS) / x86_64 | OK | OK | OK | |||||||||
palomino3 | Windows Server 2022 Datacenter / x64 | OK | OK | OK | OK | |||||||||
merida1 | macOS 12.7.4 Monterey / x86_64 | OK | OK | OK | OK | |||||||||
kjohnson1 | macOS 13.6.6 Ventura / arm64 | OK | OK | OK | OK | |||||||||
To the developers/maintainers of the DAPAR package: - Allow up to 24 hours (and sometimes 48 hours) for your latest push to git@git.bioconductor.org:packages/DAPAR.git to reflect on this report. See Troubleshooting Build Report for more information. - Use the following Renviron settings to reproduce errors and warnings. - If 'R CMD check' started to fail recently on the Linux builder(s) over a missing dependency, add the missing dependency to 'Suggests:' in your DESCRIPTION file. See Renviron.bioc for more information. |
Package: DAPAR |
Version: 1.36.2 |
Command: /home/biocbuild/bbs-3.19-bioc/R/bin/R CMD check --install=check:DAPAR.install-out.txt --library=/home/biocbuild/bbs-3.19-bioc/R/site-library --timings DAPAR_1.36.2.tar.gz |
StartedAt: 2024-06-23 22:20:01 -0400 (Sun, 23 Jun 2024) |
EndedAt: 2024-06-23 22:28:06 -0400 (Sun, 23 Jun 2024) |
EllapsedTime: 484.9 seconds |
RetCode: 0 |
Status: OK |
CheckDir: DAPAR.Rcheck |
Warnings: 0 |
############################################################################## ############################################################################## ### ### Running command: ### ### /home/biocbuild/bbs-3.19-bioc/R/bin/R CMD check --install=check:DAPAR.install-out.txt --library=/home/biocbuild/bbs-3.19-bioc/R/site-library --timings DAPAR_1.36.2.tar.gz ### ############################################################################## ############################################################################## * using log directory ‘/home/biocbuild/bbs-3.19-bioc/meat/DAPAR.Rcheck’ * using R version 4.4.0 (2024-04-24) * using platform: x86_64-pc-linux-gnu * R was compiled by gcc (Ubuntu 11.4.0-1ubuntu1~22.04) 11.4.0 GNU Fortran (Ubuntu 11.4.0-1ubuntu1~22.04) 11.4.0 * running under: Ubuntu 22.04.4 LTS * using session charset: UTF-8 * checking for file ‘DAPAR/DESCRIPTION’ ... OK * checking extension type ... Package * this is package ‘DAPAR’ version ‘1.36.2’ * package encoding: UTF-8 * checking package namespace information ... OK * checking package dependencies ... OK * checking if this is a source package ... OK * checking if there is a namespace ... OK * checking for hidden files and directories ... OK * checking for portable file names ... OK * checking for sufficient/correct file permissions ... OK * checking whether package ‘DAPAR’ can be installed ... OK * checking installed package size ... OK * checking package directory ... OK * checking DESCRIPTION meta-information ... OK * checking top-level files ... OK * checking for left-over files ... OK * checking index information ... OK * checking package subdirectories ... OK * checking code files for non-ASCII characters ... OK * checking R files for syntax errors ... OK * checking whether the package can be loaded ... OK * checking whether the package can be loaded with stated dependencies ... OK * checking whether the package can be unloaded cleanly ... OK * checking whether the namespace can be loaded with stated dependencies ... OK * checking whether the namespace can be unloaded cleanly ... OK * checking loading without being on the library search path ... OK * checking whether startup messages can be suppressed ... OK * checking dependencies in R code ... OK * checking S3 generic/method consistency ... OK * checking replacement functions ... OK * checking foreign function calls ... OK * checking R code for possible problems ... NOTE Check_Dataset_Validity: no visible global function definition for ‘exprs’ OWAnova: no visible global function definition for ‘aov’ aggregateIterParallel: no visible binding for global variable ‘cond’ averageIntensities: no visible binding for global variable ‘condition’ averageIntensities: no visible binding for global variable ‘feature’ averageIntensities: no visible binding for global variable ‘intensity’ createMSnset: no visible global function definition for ‘installed.packages’ createMSnset: no visible binding for global variable ‘Prostar.loc’ createMSnset2: no visible global function definition for ‘installed.packages’ createMSnset2: no visible binding for global variable ‘Prostar.loc’ diffAnaVolcanoplot_rCharts: no visible binding for global variable ‘x’ diffAnaVolcanoplot_rCharts: no visible binding for global variable ‘y’ diffAnaVolcanoplot_rCharts: no visible binding for global variable ‘g’ display.CC.visNet: no visible binding for global variable ‘layout_nicely’ getTextForGOAnalysis: no visible binding for global variable ‘textGOParams’ getTextForGOAnalysis: no visible binding for global variable ‘input’ globalAdjPval: no visible global function definition for ‘stack’ heatmapForMissingValues: no visible binding for global variable ‘par’ limmaCompleteTest: no visible binding for global variable ‘A’ limmaCompleteTest: no visible binding for global variable ‘B’ limmaCompleteTest: no visible binding for global variable ‘P.Value’ pepa.test: no visible global function definition for ‘nodes<-’ testAnovaModels : <anonymous>: no visible global function definition for ‘TukeyHSD’ visualizeClusters: no visible binding for global variable ‘adjusted_pvalues’ visualizeClusters: no visible binding for global variable ‘Condition’ visualizeClusters: no visible binding for global variable ‘Intensity’ visualizeClusters: no visible binding for global variable ‘FDR_threshold’ visualizeClusters: no visible binding for global variable ‘feature’ wrapperClassic1wayAnova: no visible binding for global variable ‘Pr(>F)1’ wrapperRunClustering: no visible global function definition for ‘str_c’ Undefined global functions or variables: A B Condition FDR_threshold Intensity P.Value Pr(>F)1 Prostar.loc TukeyHSD adjusted_pvalues aov cond condition exprs feature g input installed.packages intensity layout_nicely nodes<- par stack str_c textGOParams x y Consider adding importFrom("graphics", "par") importFrom("stats", "TukeyHSD", "aov") importFrom("utils", "installed.packages", "stack") to your NAMESPACE file. * checking Rd files ... OK * checking Rd metadata ... OK * checking Rd cross-references ... OK * checking for missing documentation entries ... OK * checking for code/documentation mismatches ... OK * checking Rd \usage sections ... OK * checking Rd contents ... OK * checking for unstated dependencies in examples ... OK * checking examples ... OK Examples with CPU (user + system) or elapsed time > 5s user system elapsed wrapper.compareNormalizationD_HC 33.901 8.825 43.339 wrapper.dapar.impute.mi 13.007 0.451 13.477 barplotEnrichGO_HC 8.241 0.901 9.178 barplotGroupGO_HC 4.822 0.242 5.071 * checking for unstated dependencies in ‘tests’ ... OK * checking tests ... Running ‘testthat.R’ OK * checking PDF version of manual ... OK * DONE Status: 1 NOTE See ‘/home/biocbuild/bbs-3.19-bioc/meat/DAPAR.Rcheck/00check.log’ for details.
DAPAR.Rcheck/00install.out
############################################################################## ############################################################################## ### ### Running command: ### ### /home/biocbuild/bbs-3.19-bioc/R/bin/R CMD INSTALL DAPAR ### ############################################################################## ############################################################################## * installing to library ‘/home/biocbuild/bbs-3.19-bioc/R/site-library’ * installing *source* package ‘DAPAR’ ... ** using staged installation ** R ** inst ** byte-compile and prepare package for lazy loading ** help *** installing help indices ** building package indices ** testing if installed package can be loaded from temporary location ** testing if installed package can be loaded from final location ** testing if installed package keeps a record of temporary installation path * DONE (DAPAR)
DAPAR.Rcheck/tests/testthat.Rout
R version 4.4.0 (2024-04-24) -- "Puppy Cup" Copyright (C) 2024 The R Foundation for Statistical Computing Platform: x86_64-pc-linux-gnu R is free software and comes with ABSOLUTELY NO WARRANTY. You are welcome to redistribute it under certain conditions. Type 'license()' or 'licence()' for distribution details. R is a collaborative project with many contributors. Type 'contributors()' for more information and 'citation()' on how to cite R or R packages in publications. Type 'demo()' for some demos, 'help()' for on-line help, or 'help.start()' for an HTML browser interface to help. Type 'q()' to quit R. > library(testthat) > library(DAPAR) This is the 'DAPAR' version 1.36.2. To get started, visit http://www.prostar-proteomics.org/ > > test_check("DAPAR") Iterations: 1 / 1 - Imputation MNAR OK - Imputation MCAR in progress - 3 % - 6 % - 9 % - 12 % - 15 % - 18 % - 21 % - 24 % - 27 % - 30 % - 33 % - 36 % - 39 % - 42 % - 45 % - 48 % - 51 % - 54 % - 57 % - 60 % - 63 % - 66 % - 69 % - 72 % - 75 % - 78 % - 81 % - 84 % - 87 % - 90 % - 93 % - 96 % - 99 % - Iterations: 1 / 1 - Imputation MNAR OK - Imputation MCAR in progress - 3 % - 6 % - 9 % - 12 % - 15 % - 18 % - 21 % - 24 % - 27 % - 30 % - 33 % - 36 % - 39 % - 42 % - 45 % - 48 % - 51 % - 54 % - 57 % - 60 % - 63 % - 66 % - 69 % - 72 % - 75 % - 78 % - 81 % - 84 % - 87 % - 90 % - 93 % - 96 % - 99 % - Imputation in condition 1 ... In progress: 10 % - 20 % - 30 % - 40 % - 50 % - 60 % - 70 % - 80 % - 90 % - 100 % - Imputation in condition 2 ... In progress: 10 % - 20 % - 30 % - 40 % - 50 % - 60 % - 70 % - 80 % - 90 % - 100 % - [ FAIL 0 | WARN 17 | SKIP 0 | PASS 66 ] [ FAIL 0 | WARN 17 | SKIP 0 | PASS 66 ] > > proc.time() user system elapsed 32.214 1.726 33.932
DAPAR.Rcheck/DAPAR-Ex.timings
name | user | system | elapsed | |
AggregateMetacell | 0.570 | 0.011 | 0.583 | |
BuildAdjacencyMatrix | 1.617 | 0.188 | 1.805 | |
BuildColumnToProteinDataset | 0.530 | 0.012 | 0.542 | |
BuildMetaCell | 0.606 | 0.051 | 0.660 | |
CVDistD_HC | 2.146 | 0.160 | 2.312 | |
Children | 0.005 | 0.000 | 0.005 | |
CountPep | 0.482 | 0.019 | 0.502 | |
ExtendPalette | 0.025 | 0.004 | 0.029 | |
GOAnalysisSave | 0.000 | 0.000 | 0.001 | |
GetCC | 3.697 | 0.316 | 4.012 | |
GetColorsForConditions | 0.426 | 0.017 | 0.441 | |
GetDetailedNbPeptides | 0.447 | 0.024 | 0.471 | |
GetDetailedNbPeptidesUsed | 0.000 | 0.000 | 0.001 | |
GetIndices_BasedOnConditions | 0.465 | 0.000 | 0.465 | |
GetIndices_MetacellFiltering | 0.453 | 0.011 | 0.466 | |
GetIndices_WholeLine | 0.456 | 0.012 | 0.467 | |
GetIndices_WholeMatrix | 0.447 | 0.016 | 0.463 | |
GetKeyId | 0.437 | 0.020 | 0.457 | |
GetMatAdj | 0.477 | 0.020 | 0.497 | |
GetMetacell | 0.000 | 0.000 | 0.001 | |
GetMetacellTags | 0.448 | 0.016 | 0.464 | |
GetNbPeptidesUsed | 0.439 | 0.019 | 0.458 | |
GetNbTags | 0 | 0 | 0 | |
GetSoftAvailables | 0.000 | 0.001 | 0.001 | |
GetTypeofData | 0.432 | 0.010 | 0.443 | |
Get_AllComparisons | 0.267 | 0.008 | 0.276 | |
GlobalQuantileAlignment | 0.479 | 0.020 | 0.499 | |
GraphPepProt | 0.457 | 0.028 | 0.485 | |
LH0 | 0 | 0 | 0 | |
LH0.lm | 0 | 0 | 0 | |
LH1 | 0.000 | 0.001 | 0.001 | |
LH1.lm | 0 | 0 | 0 | |
LOESS | 1.137 | 0.030 | 1.167 | |
MeanCentering | 0.456 | 0.008 | 0.465 | |
MetaCellFiltering | 0.598 | 0.036 | 0.634 | |
MetacellFilteringScope | 0.000 | 0.000 | 0.001 | |
Metacell_DIA_NN | 0.493 | 0.011 | 0.504 | |
Metacell_generic | 0.424 | 0.004 | 0.428 | |
Metacell_maxquant | 0.466 | 0.004 | 0.470 | |
Metacell_proline | 0.429 | 0.016 | 0.446 | |
NumericalFiltering | 0.474 | 0.008 | 0.483 | |
NumericalgetIndicesOfLinesToRemove | 0.425 | 0.012 | 0.437 | |
OWAnova | 0.008 | 0.000 | 0.008 | |
QuantileCentering | 0.418 | 0.012 | 0.430 | |
SetCC | 2.628 | 0.199 | 2.829 | |
SetMatAdj | 0.468 | 0.012 | 0.479 | |
Set_POV_MEC_tags | 0.431 | 0.012 | 0.443 | |
StringBasedFiltering | 0.464 | 0.008 | 0.473 | |
StringBasedFiltering2 | 0.468 | 0.008 | 0.476 | |
SumByColumns | 1.215 | 0.052 | 1.268 | |
SymFilteringOperators | 0.000 | 0.000 | 0.001 | |
UpdateMetacellAfterImputation | 0.447 | 0.004 | 0.452 | |
aggregateIter | 0.588 | 0.012 | 0.600 | |
aggregateIterParallel | 0 | 0 | 0 | |
aggregateMean | 0.533 | 0.016 | 0.548 | |
aggregateSum | 0.514 | 0.024 | 0.538 | |
aggregateTopn | 0.485 | 0.008 | 0.493 | |
applyAnovasOnProteins | 0.135 | 0.000 | 0.135 | |
averageIntensities | 0.457 | 0.065 | 0.523 | |
barplotEnrichGO_HC | 8.241 | 0.901 | 9.178 | |
barplotGroupGO_HC | 4.822 | 0.242 | 5.071 | |
boxPlotD_HC | 0.317 | 0.012 | 0.331 | |
buildGraph | 1.881 | 0.108 | 1.990 | |
check.conditions | 0.441 | 0.004 | 0.446 | |
check.design | 0.426 | 0.016 | 0.440 | |
checkClusterability | 2.504 | 0.823 | 3.375 | |
classic1wayAnova | 0.000 | 0.000 | 0.001 | |
compareNormalizationD_HC | 0.171 | 0.016 | 0.188 | |
compute.selection.table | 0.663 | 0.051 | 0.716 | |
compute_t_tests | 0.931 | 0.106 | 1.039 | |
corrMatrixD_HC | 0.590 | 0.060 | 0.651 | |
createMSnset | 1.673 | 0.064 | 1.739 | |
createMSnset2 | 1.543 | 0.044 | 1.588 | |
dapar_hc_ExportMenu | 0.117 | 0.032 | 0.150 | |
dapar_hc_chart | 0.041 | 0.020 | 0.061 | |
deleteLinesFromIndices | 0.466 | 0.008 | 0.475 | |
densityPlotD_HC | 2.093 | 0.508 | 2.629 | |
diffAnaComputeAdjustedPValues | 0.179 | 0.012 | 0.192 | |
diffAnaComputeFDR | 0 | 0 | 0 | |
diffAnaGetSignificant | 0.235 | 0.033 | 0.270 | |
diffAnaSave | 0.220 | 0.036 | 0.257 | |
diffAnaVolcanoplot | 0.176 | 0.008 | 0.185 | |
diffAnaVolcanoplot_rCharts | 0.348 | 0.037 | 0.387 | |
display.CC.visNet | 1.639 | 0.043 | 1.683 | |
enrich_GO | 4.285 | 0.210 | 4.502 | |
finalizeAggregation | 0 | 0 | 0 | |
findMECBlock | 0.457 | 0.012 | 0.469 | |
formatHSDResults | 0 | 0 | 0 | |
formatLimmaResult | 0.166 | 0.008 | 0.174 | |
formatPHResults | 0.001 | 0.000 | 0.000 | |
formatPHTResults | 0 | 0 | 0 | |
fudge2LRT | 0.000 | 0.000 | 0.001 | |
get.pep.prot.cc | 1.725 | 0.091 | 1.816 | |
getDesignLevel | 0.416 | 0.004 | 0.420 | |
getIndicesConditions | 0.427 | 0.004 | 0.432 | |
getIndicesOfLinesToRemove | 0.415 | 0.020 | 0.436 | |
getListNbValuesInLines | 0.418 | 0.004 | 0.422 | |
getNumberOf | 0.438 | 0.008 | 0.446 | |
getNumberOfEmptyLines | 0.431 | 0.016 | 0.447 | |
getPourcentageOfMV | 0.419 | 0.028 | 0.447 | |
getProcessingInfo | 0.414 | 0.008 | 0.422 | |
getProteinsStats | 0.444 | 0.007 | 0.452 | |
getQuantile4Imp | 0.112 | 0.005 | 0.115 | |
getTextForAggregation | 0.001 | 0.000 | 0.000 | |
getTextForAnaDiff | 0.001 | 0.000 | 0.000 | |
getTextForFiltering | 0.001 | 0.000 | 0.000 | |
getTextForGOAnalysis | 0 | 0 | 0 | |
getTextForHypothesisTest | 0 | 0 | 0 | |
getTextForNewDataset | 0.000 | 0.001 | 0.002 | |
getTextForNormalization | 0.000 | 0.000 | 0.001 | |
getTextForpeptideImputation | 0.001 | 0.000 | 0.000 | |
getTextForproteinImputation | 0.001 | 0.000 | 0.000 | |
globalAdjPval | 0.390 | 0.011 | 0.402 | |
group_GO | 4.447 | 0.181 | 4.633 | |
hc_logFC_DensityPlot | 0.482 | 0.122 | 0.609 | |
hc_mvTypePlot2 | 0.766 | 0.130 | 0.901 | |
heatmapD | 0.809 | 0.036 | 0.845 | |
heatmapForMissingValues | 0.198 | 0.016 | 0.213 | |
histPValue_HC | 0.212 | 0.028 | 0.240 | |
impute.pa2 | 0.471 | 0.019 | 0.491 | |
inner.aggregate.iter | 0.496 | 0.012 | 0.508 | |
inner.aggregate.topn | 0.464 | 0.020 | 0.483 | |
inner.mean | 0.460 | 0.017 | 0.476 | |
inner.sum | 0.518 | 0.007 | 0.525 | |
is.subset | 0.001 | 0.000 | 0.001 | |
limmaCompleteTest | 1.248 | 0.060 | 1.309 | |
listSheets | 0 | 0 | 0 | |
make.contrast | 0.450 | 0.006 | 0.455 | |
make.design.1 | 0.446 | 0.008 | 0.454 | |
make.design.2 | 0.423 | 0.024 | 0.448 | |
make.design.3 | 0.443 | 0.008 | 0.452 | |
make.design | 0.446 | 0.004 | 0.450 | |
match.metacell | 0.621 | 0.040 | 0.661 | |
metacell.def | 0.002 | 0.003 | 0.005 | |
metacellHisto_HC | 0.495 | 0.024 | 0.520 | |
metacellPerLinesHistoPerCondition_HC | 0.616 | 0.028 | 0.645 | |
metacellPerLinesHisto_HC | 0.664 | 0.068 | 0.734 | |
metacombine | 0.051 | 0.000 | 0.051 | |
mvImage | 1.982 | 0.028 | 2.013 | |
my_hc_ExportMenu | 0.111 | 0.028 | 0.139 | |
my_hc_chart | 0.112 | 0.028 | 0.140 | |
nonzero | 0.017 | 0.004 | 0.021 | |
normalizeMethods.dapar | 0.001 | 0.000 | 0.000 | |
pepa.test | 0.447 | 0.020 | 0.467 | |
pkgs.require | 0.001 | 0.000 | 0.000 | |
plotJitter | 1.632 | 0.068 | 1.701 | |
plotJitter_rCharts | 1.533 | 0.012 | 1.546 | |
plotPCA_Eigen | 0.469 | 0.027 | 0.498 | |
plotPCA_Eigen_hc | 0.422 | 0.003 | 0.426 | |
plotPCA_Ind | 0.420 | 0.016 | 0.436 | |
plotPCA_Var | 0.422 | 0.000 | 0.421 | |
postHocTest | 0.001 | 0.000 | 0.000 | |
proportionConRev_HC | 0.046 | 0.000 | 0.046 | |
rbindMSnset | 0.479 | 0.024 | 0.503 | |
reIntroduceMEC | 0.463 | 0.020 | 0.483 | |
readExcel | 0.001 | 0.000 | 0.000 | |
removeLines | 0.468 | 0.007 | 0.475 | |
samLRT | 0 | 0 | 0 | |
saveParameters | 0.421 | 0.004 | 0.425 | |
scatterplotEnrichGO_HC | 4.356 | 0.214 | 4.578 | |
search.metacell.tags | 0.000 | 0.006 | 0.006 | |
separateAdjPval | 0.181 | 0.017 | 0.199 | |
splitAdjacencyMat | 0.443 | 0.016 | 0.458 | |
test.design | 0.444 | 0.004 | 0.448 | |
testAnovaModels | 0.127 | 0.016 | 0.143 | |
thresholdpval4fdr | 0.001 | 0.000 | 0.000 | |
translatedRandomBeta | 0.001 | 0.008 | 0.009 | |
univ_AnnotDbPkg | 0.145 | 0.044 | 0.189 | |
violinPlotD | 0.398 | 0.008 | 0.407 | |
visualizeClusters | 1.074 | 0.064 | 1.141 | |
vsn | 0.632 | 0.032 | 0.664 | |
wrapper.CVDistD_HC | 1.558 | 0.296 | 1.871 | |
wrapper.compareNormalizationD_HC | 33.901 | 8.825 | 43.339 | |
wrapper.corrMatrixD_HC | 0.499 | 0.015 | 0.516 | |
wrapper.dapar.impute.mi | 13.007 | 0.451 | 13.477 | |
wrapper.heatmapD | 0.648 | 0.044 | 0.693 | |
wrapper.impute.KNN | 0.485 | 0.022 | 0.508 | |
wrapper.impute.detQuant | 0.456 | 0.028 | 0.485 | |
wrapper.impute.fixedValue | 0.472 | 0.024 | 0.496 | |
wrapper.impute.mle | 0.446 | 0.012 | 0.457 | |
wrapper.impute.pa | 0.151 | 0.000 | 0.152 | |
wrapper.impute.pa2 | 0.436 | 0.020 | 0.456 | |
wrapper.impute.slsa | 0.527 | 0.035 | 0.564 | |
wrapper.mvImage | 0.163 | 0.008 | 0.171 | |
wrapper.normalizeD | 0.424 | 0.008 | 0.432 | |
wrapper.pca | 0.147 | 0.016 | 0.163 | |
wrapperCalibrationPlot | 0.190 | 0.016 | 0.206 | |
wrapperClassic1wayAnova | 0 | 0 | 0 | |
wrapperRunClustering | 1.725 | 0.176 | 1.905 | |
write.excel | 0.689 | 0.069 | 0.760 | |
writeMSnsetToCSV | 0.426 | 0.015 | 0.440 | |
writeMSnsetToExcel | 0.895 | 0.097 | 0.996 | |