Back to Multiple platform build/check report for BioC 3.20:   simplified   long
ABCDEF[G]HIJKLMNOPQRSTUVWXYZ

This page was generated on 2025-02-06 12:09 -0500 (Thu, 06 Feb 2025).

HostnameOSArch (*)R versionInstalled pkgs
nebbiolo2Linux (Ubuntu 24.04.1 LTS)x86_644.4.2 (2024-10-31) -- "Pile of Leaves" 4753
palomino8Windows Server 2022 Datacenterx644.4.2 (2024-10-31 ucrt) -- "Pile of Leaves" 4501
merida1macOS 12.7.5 Montereyx86_644.4.2 (2024-10-31) -- "Pile of Leaves" 4524
kjohnson1macOS 13.6.6 Venturaarm644.4.2 (2024-10-31) -- "Pile of Leaves" 4476
taishanLinux (openEuler 24.03 LTS)aarch644.4.2 (2024-10-31) -- "Pile of Leaves" 4407
Click on any hostname to see more info about the system (e.g. compilers)      (*) as reported by 'uname -p', except on Windows and Mac OS X

Package 770/2289HostnameOS / ArchINSTALLBUILDCHECKBUILD BIN
GBScleanR 2.0.3  (landing page)
Tomoyuki Furuta
Snapshot Date: 2025-02-03 13:00 -0500 (Mon, 03 Feb 2025)
git_url: https://git.bioconductor.org/packages/GBScleanR
git_branch: RELEASE_3_20
git_last_commit: 39e77d4
git_last_commit_date: 2025-01-28 04:33:43 -0500 (Tue, 28 Jan 2025)
nebbiolo2Linux (Ubuntu 24.04.1 LTS) / x86_64  OK    OK    OK  UNNEEDED, same version is already published
palomino8Windows Server 2022 Datacenter / x64  OK    OK    OK    OK  UNNEEDED, same version is already published
merida1macOS 12.7.5 Monterey / x86_64  OK    OK    OK    OK  UNNEEDED, same version is already published
kjohnson1macOS 13.6.6 Ventura / arm64  OK    OK    OK    OK  UNNEEDED, same version is already published
taishanLinux (openEuler 24.03 LTS) / aarch64  OK    ERROR  skipped


CHECK results for GBScleanR on kjohnson1

To the developers/maintainers of the GBScleanR package:
- Allow up to 24 hours (and sometimes 48 hours) for your latest push to git@git.bioconductor.org:packages/GBScleanR.git to reflect on this report. See Troubleshooting Build Report for more information.
- Use the following Renviron settings to reproduce errors and warnings.
- If 'R CMD check' started to fail recently on the Linux builder(s) over a missing dependency, add the missing dependency to 'Suggests:' in your DESCRIPTION file. See Renviron.bioc for more information.

raw results


Summary

Package: GBScleanR
Version: 2.0.3
Command: /Library/Frameworks/R.framework/Resources/bin/R CMD check --install=check:GBScleanR.install-out.txt --library=/Library/Frameworks/R.framework/Resources/library --no-vignettes --timings GBScleanR_2.0.3.tar.gz
StartedAt: 2025-02-04 20:20:09 -0500 (Tue, 04 Feb 2025)
EndedAt: 2025-02-04 20:23:28 -0500 (Tue, 04 Feb 2025)
EllapsedTime: 199.6 seconds
RetCode: 0
Status:   OK  
CheckDir: GBScleanR.Rcheck
Warnings: 0

Command output

##############################################################################
##############################################################################
###
### Running command:
###
###   /Library/Frameworks/R.framework/Resources/bin/R CMD check --install=check:GBScleanR.install-out.txt --library=/Library/Frameworks/R.framework/Resources/library --no-vignettes --timings GBScleanR_2.0.3.tar.gz
###
##############################################################################
##############################################################################


* using log directory ‘/Users/biocbuild/bbs-3.20-bioc/meat/GBScleanR.Rcheck’
* using R version 4.4.2 (2024-10-31)
* using platform: aarch64-apple-darwin20
* R was compiled by
    Apple clang version 14.0.0 (clang-1400.0.29.202)
    GNU Fortran (GCC) 12.2.0
* running under: macOS Ventura 13.7.1
* using session charset: UTF-8
* using option ‘--no-vignettes’
* checking for file ‘GBScleanR/DESCRIPTION’ ... OK
* checking extension type ... Package
* this is package ‘GBScleanR’ version ‘2.0.3’
* package encoding: UTF-8
* checking package namespace information ... OK
* checking package dependencies ... OK
* checking if this is a source package ... OK
* checking if there is a namespace ... OK
* checking for hidden files and directories ... OK
* checking for portable file names ... OK
* checking for sufficient/correct file permissions ... OK
* checking whether package ‘GBScleanR’ can be installed ... OK
* used C++ compiler: ‘Apple clang version 15.0.0 (clang-1500.0.40.1)’
* used SDK: ‘MacOSX11.3.sdk’
* checking C++ specification ... NOTE
  Specified C++11: please drop specification unless essential
* checking installed package size ... OK
* checking package directory ... OK
* checking ‘build’ directory ... OK
* checking DESCRIPTION meta-information ... OK
* checking top-level files ... OK
* checking for left-over files ... OK
* checking index information ... OK
* checking package subdirectories ... OK
* checking code files for non-ASCII characters ... OK
* checking R files for syntax errors ... OK
* checking whether the package can be loaded ... OK
* checking whether the package can be loaded with stated dependencies ... OK
* checking whether the package can be unloaded cleanly ... OK
* checking whether the namespace can be loaded with stated dependencies ... OK
* checking whether the namespace can be unloaded cleanly ... OK
* checking dependencies in R code ... OK
* checking S3 generic/method consistency ... OK
* checking replacement functions ... OK
* checking foreign function calls ... OK
* checking R code for possible problems ... OK
* checking Rd files ... OK
* checking Rd metadata ... OK
* checking Rd cross-references ... OK
* checking for missing documentation entries ... OK
* checking for code/documentation mismatches ... OK
* checking Rd \usage sections ... OK
* checking Rd contents ... OK
* checking for unstated dependencies in examples ... OK
* checking line endings in C/C++/Fortran sources/headers ... OK
* checking line endings in Makefiles ... OK
* checking compilation flags in Makevars ... OK
* checking for GNU extensions in Makefiles ... NOTE
GNU make is a SystemRequirements.
* checking for portable use of $(BLAS_LIBS) and $(LAPACK_LIBS) ... OK
* checking use of PKG_*FLAGS in Makefiles ... OK
* checking compiled code ... NOTE
Note: information on .o files is not available
File ‘/Library/Frameworks/R.framework/Versions/4.4-arm64/Resources/library/GBScleanR/libs/GBScleanR.so’:
  Found ‘__ZNSt3__14coutE’, possibly from ‘std::cout’ (C++)

Compiled code should not call entry points which might terminate R nor
write to stdout/stderr instead of to the console, nor use Fortran I/O
nor system RNGs nor [v]sprintf. The detected symbols are linked into
the code but might come from libraries and not actually be called.

See ‘Writing portable packages’ in the ‘Writing R Extensions’ manual.
* checking files in ‘vignettes’ ... OK
* checking examples ... OK
* checking for unstated dependencies in ‘tests’ ... OK
* checking tests ...
  Running ‘testthat.R’
 OK
* checking for unstated dependencies in vignettes ... OK
* checking package vignettes ... OK
* checking running R code from vignettes ... SKIPPED
* checking re-building of vignette outputs ... SKIPPED
* checking PDF version of manual ... OK
* DONE

Status: 3 NOTEs
See
  ‘/Users/biocbuild/bbs-3.20-bioc/meat/GBScleanR.Rcheck/00check.log’
for details.


Installation output

GBScleanR.Rcheck/00install.out

##############################################################################
##############################################################################
###
### Running command:
###
###   /Library/Frameworks/R.framework/Resources/bin/R CMD INSTALL GBScleanR
###
##############################################################################
##############################################################################


* installing to library ‘/Library/Frameworks/R.framework/Versions/4.4-arm64/Resources/library’
* installing *source* package ‘GBScleanR’ ...
** using staged installation
** libs
using C++ compiler: ‘Apple clang version 15.0.0 (clang-1500.0.40.1)’
using C++11
using SDK: ‘MacOSX11.3.sdk’
clang++ -arch arm64 -std=gnu++11 -I"/Library/Frameworks/R.framework/Resources/include" -DNDEBUG  -I'/Library/Frameworks/R.framework/Versions/4.4-arm64/Resources/library/Rcpp/include' -I'/Library/Frameworks/R.framework/Versions/4.4-arm64/Resources/library/RcppParallel/include' -I/opt/R/arm64/include    -fPIC  -falign-functions=64 -Wall -g -O2   -c RcppExports.cpp -o RcppExports.o
clang++ -arch arm64 -std=gnu++11 -I"/Library/Frameworks/R.framework/Resources/include" -DNDEBUG  -I'/Library/Frameworks/R.framework/Versions/4.4-arm64/Resources/library/Rcpp/include' -I'/Library/Frameworks/R.framework/Versions/4.4-arm64/Resources/library/RcppParallel/include' -I/opt/R/arm64/include    -fPIC  -falign-functions=64 -Wall -g -O2   -c gbsrCalcProb.cpp -o gbsrCalcProb.o
clang++ -arch arm64 -std=gnu++11 -I"/Library/Frameworks/R.framework/Resources/include" -DNDEBUG  -I'/Library/Frameworks/R.framework/Versions/4.4-arm64/Resources/library/Rcpp/include' -I'/Library/Frameworks/R.framework/Versions/4.4-arm64/Resources/library/RcppParallel/include' -I/opt/R/arm64/include    -fPIC  -falign-functions=64 -Wall -g -O2   -c gbsrFB.cpp -o gbsrFB.o
clang++ -arch arm64 -std=gnu++11 -I"/Library/Frameworks/R.framework/Resources/include" -DNDEBUG  -I'/Library/Frameworks/R.framework/Versions/4.4-arm64/Resources/library/Rcpp/include' -I'/Library/Frameworks/R.framework/Versions/4.4-arm64/Resources/library/RcppParallel/include' -I/opt/R/arm64/include    -fPIC  -falign-functions=64 -Wall -g -O2   -c gbsrIPO.cpp -o gbsrIPO.o
clang++ -arch arm64 -std=gnu++11 -I"/Library/Frameworks/R.framework/Resources/include" -DNDEBUG  -I'/Library/Frameworks/R.framework/Versions/4.4-arm64/Resources/library/Rcpp/include' -I'/Library/Frameworks/R.framework/Versions/4.4-arm64/Resources/library/RcppParallel/include' -I/opt/R/arm64/include    -fPIC  -falign-functions=64 -Wall -g -O2   -c gbsrStats.cpp -o gbsrStats.o
clang++ -arch arm64 -std=gnu++11 -I"/Library/Frameworks/R.framework/Resources/include" -DNDEBUG  -I'/Library/Frameworks/R.framework/Versions/4.4-arm64/Resources/library/Rcpp/include' -I'/Library/Frameworks/R.framework/Versions/4.4-arm64/Resources/library/RcppParallel/include' -I/opt/R/arm64/include    -fPIC  -falign-functions=64 -Wall -g -O2   -c gbsrViterbi.cpp -o gbsrViterbi.o
clang++ -arch arm64 -std=gnu++11 -I"/Library/Frameworks/R.framework/Resources/include" -DNDEBUG  -I'/Library/Frameworks/R.framework/Versions/4.4-arm64/Resources/library/Rcpp/include' -I'/Library/Frameworks/R.framework/Versions/4.4-arm64/Resources/library/RcppParallel/include' -I/opt/R/arm64/include    -fPIC  -falign-functions=64 -Wall -g -O2   -c gbsrutil.cpp -o gbsrutil.o
clang++ -arch arm64 -std=gnu++11 -dynamiclib -Wl,-headerpad_max_install_names -undefined dynamic_lookup -L/Library/Frameworks/R.framework/Resources/lib -L/opt/R/arm64/lib -o GBScleanR.so RcppExports.o gbsrCalcProb.o gbsrFB.o gbsrIPO.o gbsrStats.o gbsrViterbi.o gbsrutil.o -L/Library/Frameworks/R.framework/Versions/4.4-arm64/Resources/library/RcppParallel/lib -ltbb -ltbbmalloc -F/Library/Frameworks/R.framework/.. -framework R -Wl,-framework -Wl,CoreFoundation
installing to /Library/Frameworks/R.framework/Versions/4.4-arm64/Resources/library/00LOCK-GBScleanR/00new/GBScleanR/libs
** R
** inst
** byte-compile and prepare package for lazy loading
** help
*** installing help indices
** building package indices
** installing vignettes
** testing if installed package can be loaded from temporary location
** checking absolute paths in shared objects and dynamic libraries
** testing if installed package can be loaded from final location
** testing if installed package keeps a record of temporary installation path
* DONE (GBScleanR)

Tests output

GBScleanR.Rcheck/tests/testthat.Rout


R version 4.4.2 (2024-10-31) -- "Pile of Leaves"
Copyright (C) 2024 The R Foundation for Statistical Computing
Platform: aarch64-apple-darwin20

R is free software and comes with ABSOLUTELY NO WARRANTY.
You are welcome to redistribute it under certain conditions.
Type 'license()' or 'licence()' for distribution details.

R is a collaborative project with many contributors.
Type 'contributors()' for more information and
'citation()' on how to cite R or R packages in publications.

Type 'demo()' for some demos, 'help()' for on-line help, or
'help.start()' for an HTML browser interface to help.
Type 'q()' to quit R.

> library(testthat)
> library(GBScleanR)
Loading required package: SeqArray
Loading required package: gdsfmt
> 
> test_check("GBScleanR")
Loading GDS file.
Working on 'genotype' ...
Working on 'phase' ...
Working on 'annotation/format/AD' ...
Clean up the fragments of GDS file:
    open the file '/private/tmp/RtmpczSdKj/samplecb681fed7f91.gds' (95.5K)
    # of fragments: 69
    save to '/private/tmp/RtmpczSdKj/samplecb681fed7f91.gds.tmp'
    rename '/private/tmp/RtmpczSdKj/samplecb681fed7f91.gds.tmp' (95.4K, reduced: 108B)
    # of fragments: 60
The connection to the GDS file was closed.
Loading GDS file.
The connection to the GDS file was closed.
Loading GDS file.
The connection to the GDS file was closed.
Loading GDS file.
The connection to the GDS file was closed.
Loading GDS file.
The connection to the GDS file was closed.
Loading GDS file.
The connection to the GDS file was closed.
Loading GDS file.
The connection to the GDS file was closed.
Loading GDS file.
The connection to the GDS file was closed.
Loading GDS file.
The connection to the GDS file was closed.
Loading GDS file.
The connection to the GDS file was closed.
Loading GDS file.
Working on 'genotype' ...
Working on 'phase' ...
Working on 'annotation/format/AD' ...
Clean up the fragments of GDS file:
    open the file '/private/tmp/RtmpczSdKj/samplecb68491ca427.gds' (95.5K)
    # of fragments: 69
    save to '/private/tmp/RtmpczSdKj/samplecb68491ca427.gds.tmp'
    rename '/private/tmp/RtmpczSdKj/samplecb68491ca427.gds.tmp' (95.4K, reduced: 108B)
    # of fragments: 60
The connection to the GDS file was closed.
Loading GDS file.
The connection to the GDS file was closed.
Loading GDS file.
Overwrite the previous parents information.
The connection to the GDS file was closed.
Loading GDS file.
Overwrite the previous parents information.
Overwrite the previous parents information.
The connection to the GDS file was closed.
Loading GDS file.
Overwrite the previous parents information.
Overwrite the previous parents information.
The connection to the GDS file was closed.
Loading GDS file.
Overwrite the previous parents information.
The connection to the GDS file was closed.
Loading GDS file.
Working on 'genotype' ...
Working on 'phase' ...
Working on 'annotation/format/AD' ...
Clean up the fragments of GDS file:
    open the file '/private/tmp/RtmpczSdKj/samplecb6851c74a19.gds' (95.5K)
    # of fragments: 69
    save to '/private/tmp/RtmpczSdKj/samplecb6851c74a19.gds.tmp'
    rename '/private/tmp/RtmpczSdKj/samplecb6851c74a19.gds.tmp' (95.4K, reduced: 108B)
    # of fragments: 60
The connection to the GDS file was closed.
Loading GDS file.
The connection to the GDS file was closed.
Loading GDS file.
The connection to the GDS file was closed.
Loading GDS file.
The connection to the GDS file was closed.
Loading GDS file.
The connection to the GDS file was closed.
Loading GDS file.
The connection to the GDS file was closed.
Loading GDS file.
The connection to the GDS file was closed.
Loading GDS file.
The connection to the GDS file was closed.
Loading GDS file.
The connection to the GDS file was closed.
Tue Feb  4 20:22:58 2025
Variant Call Format (VCF) Import:
    file:
        sample.vcf (210.3K)
    file format: VCFv4.2
    genome reference: <unknown>
    # of sets of chromosomes (ploidy): 2
    # of samples: 102
    genotype field: GT
    genotype storage: bit2
    compression method: customized
    # of samples: 102
    INFO:
    FORMAT: AD
Output:
    /tmp/RtmpczSdKj/samplecb68129539c0.gds
    [Progress Info: samplecb68129539c0.gds.progress]
Parsing 'sample.vcf':
+ genotype/data   { Bit2 2x102x242 ZIP_ra, 16B }
Digests:
    sample.id  [md5: 338086c89cac9760256e9d1ec0a77327]
    variant.id  [md5: 6f6b771cc6816e18766cd7b202765193]
    position  [md5: f3033fec247b8ec6980e81005e257bd8]
    chromosome  [md5: 891ee7d299e1dba9146b8ae33476741c]
    allele  [md5: 9fc3f097ae98a7ebff52fac77379926e]
    genotype  [md5: b83af5eb9818d83c2ccaa40d494f15a8]
    phase  [md5: 9d686e01959b61df5fdc1a4684bd72b3]
    annotation/id  [md5: 021994c12424cab1e907740e364c7c24]
    annotation/qual  [md5: 5a566f4332739a2b28d23b215163b70a]
    annotation/filter  [md5: cb74cdb22966d99a9290a2c804a10580]
    annotation/format/AD  [md5: f8b130e5e4e497ee162cf32b15b0ac3a]
Done.
Tue Feb  4 20:22:59 2025
Optimize the access efficiency ...
Clean up the fragments of GDS file:
    open the file '/tmp/RtmpczSdKj/samplecb68129539c0.gds' (53.4K)
    # of fragments: 108
    save to '/tmp/RtmpczSdKj/samplecb68129539c0.gds.tmp'
    rename '/tmp/RtmpczSdKj/samplecb68129539c0.gds.tmp' (52.8K, reduced: 648B)
    # of fragments: 54
Tue Feb  4 20:22:59 2025
Loading GDS file.
Working on 'genotype' ...
Working on 'phase' ...
Working on 'annotation/format/AD' ...
Clean up the fragments of GDS file:
    open the file '/private/tmp/RtmpczSdKj/samplecb68129539c0.gds' (95.5K)
    # of fragments: 69
    save to '/private/tmp/RtmpczSdKj/samplecb68129539c0.gds.tmp'
    rename '/private/tmp/RtmpczSdKj/samplecb68129539c0.gds.tmp' (95.4K, reduced: 108B)
    # of fragments: 60
The connection to the GDS file was closed.
Loading GDS file.
The connection to the GDS file was closed.
Loading GDS file.
The connection to the GDS file was closed.
Loading GDS file.
Working on 'genotype' ...
Working on 'phase' ...
Working on 'annotation/format/AD' ...
Clean up the fragments of GDS file:
    open the file '/private/tmp/RtmpczSdKj/samplecb686e2bec88.gds' (95.5K)
    # of fragments: 69
    save to '/private/tmp/RtmpczSdKj/samplecb686e2bec88.gds.tmp'
    rename '/private/tmp/RtmpczSdKj/samplecb686e2bec88.gds.tmp' (95.4K, reduced: 108B)
    # of fragments: 60
The connection to the GDS file was closed.
Loading GDS file.
The connection to the GDS file was closed.
Loading GDS file.
The connection to the GDS file was closed.
Loading GDS file.
The connection to the GDS file was closed.
Loading GDS file.
Reformatting FGT
The connection to the GDS file was closed.
Loading GDS file.
Reformatting FGT
The connection to the GDS file was closed.
Tue Feb  4 20:23:11 2025
Variant Call Format (VCF) Import:
    file:
        sample.vcf (210.3K)
    file format: VCFv4.2
    genome reference: <unknown>
    # of sets of chromosomes (ploidy): 2
    # of samples: 102
    genotype field: GT
    genotype storage: bit2
    compression method: customized
    # of samples: 102
    INFO:
    FORMAT: AD
Output:
    /tmp/RtmpczSdKj/samplecb681ef5bd9d.gds
    [Progress Info: samplecb681ef5bd9d.gds.progress]
Parsing 'sample.vcf':
+ genotype/data   { Bit2 2x102x242 ZIP_ra, 16B }
Digests:
    sample.id  [md5: 338086c89cac9760256e9d1ec0a77327]
    variant.id  [md5: 6f6b771cc6816e18766cd7b202765193]
    position  [md5: f3033fec247b8ec6980e81005e257bd8]
    chromosome  [md5: 891ee7d299e1dba9146b8ae33476741c]
    allele  [md5: 9fc3f097ae98a7ebff52fac77379926e]
    genotype  [md5: b83af5eb9818d83c2ccaa40d494f15a8]
    phase  [md5: 9d686e01959b61df5fdc1a4684bd72b3]
    annotation/id  [md5: 021994c12424cab1e907740e364c7c24]
    annotation/qual  [md5: 5a566f4332739a2b28d23b215163b70a]
    annotation/filter  [md5: cb74cdb22966d99a9290a2c804a10580]
    annotation/format/AD  [md5: f8b130e5e4e497ee162cf32b15b0ac3a]
Done.
Tue Feb  4 20:23:11 2025
Optimize the access efficiency ...
Clean up the fragments of GDS file:
    open the file '/tmp/RtmpczSdKj/samplecb681ef5bd9d.gds' (53.4K)
    # of fragments: 108
    save to '/tmp/RtmpczSdKj/samplecb681ef5bd9d.gds.tmp'
    rename '/tmp/RtmpczSdKj/samplecb681ef5bd9d.gds.tmp' (52.8K, reduced: 648B)
    # of fragments: 54
Tue Feb  4 20:23:11 2025
Loading GDS file.
Working on 'genotype' ...
Working on 'phase' ...
Working on 'annotation/format/AD' ...
Clean up the fragments of GDS file:
    open the file '/private/tmp/RtmpczSdKj/samplecb681ef5bd9d.gds' (95.5K)
    # of fragments: 69
    save to '/private/tmp/RtmpczSdKj/samplecb681ef5bd9d.gds.tmp'
    rename '/private/tmp/RtmpczSdKj/samplecb681ef5bd9d.gds.tmp' (95.4K, reduced: 108B)
    # of fragments: 60
No parents info.
Tue Feb  4 20:23:11 2025
Variant Call Format (VCF) Import:
    file:
        outcb68279d9b9b.vcf (46.8K)
    file format: VCFv4.2
    genome reference: <unknown>
    # of sets of chromosomes (ploidy): 2
    # of samples: 40
    genotype field: GT
    genotype storage: bit2
    compression method: customized
    # of samples: 40
    INFO:
    FORMAT: AD
Output:
    /tmp/RtmpczSdKj/newgdscb6849689c1c.gds
    [Progress Info: newgdscb6849689c1c.gds.progress]
Parsing 'outcb68279d9b9b.vcf':
+ genotype/data   { Bit2 2x40x126 ZIP_ra, 16B }
Digests:
    sample.id  [md5: ccb6bb293e0efd0ad8ed763828deab7d]
    variant.id  [md5: 2e2dfa87373e993fd88f21477de921fe]
    position  [md5: 0d464e58eaea358dbed45e78d66c9ae4]
    chromosome  [md5: 75ff3cd6ef0b481bb73ba08fcbeee27b]
    allele  [md5: 64119379bd87f54d96d7960982e0e4a5]
    genotype  [md5: d986f2f6388d75ab0d5500a9e2e9cf97]
    phase  [md5: b99a16432939656b142f23c71e63cd93]
    annotation/id  [md5: fd124a95edba6e6abb582528e0128d36]
    annotation/qual  [md5: 7c9ff95556974f2c3f617595e8f5cf0c]
    annotation/filter  [md5: 771651bdbd313285a2dbfcd3847d9e89]
    annotation/format/AD  [md5: dfda15e752f08db345e2611ce9f8da0e]
Done.
Tue Feb  4 20:23:11 2025
Optimize the access efficiency ...
Clean up the fragments of GDS file:
    open the file '/tmp/RtmpczSdKj/newgdscb6849689c1c.gds' (18.2K)
    # of fragments: 107
    save to '/tmp/RtmpczSdKj/newgdscb6849689c1c.gds.tmp'
    rename '/tmp/RtmpczSdKj/newgdscb6849689c1c.gds.tmp' (17.5K, reduced: 636B)
    # of fragments: 54
Tue Feb  4 20:23:11 2025
Loading GDS file.
Working on 'genotype' ...
Working on 'phase' ...
Working on 'annotation/format/AD' ...
Clean up the fragments of GDS file:
    open the file '/private/tmp/RtmpczSdKj/newgdscb6849689c1c.gds' (27.2K)
    # of fragments: 69
    save to '/private/tmp/RtmpczSdKj/newgdscb6849689c1c.gds.tmp'
    rename '/private/tmp/RtmpczSdKj/newgdscb6849689c1c.gds.tmp' (27.1K, reduced: 108B)
    # of fragments: 60
No parents info.
Tue Feb  4 20:23:12 2025
Variant Call Format (VCF) Import:
    file:
        outcb68b5b593c.vcf (87.8K)
    file format: VCFv4.2
    genome reference: <unknown>
    # of sets of chromosomes (ploidy): 2
    # of samples: 40
    genotype field: GT
    genotype storage: bit2
    compression method: customized
    # of samples: 40
    INFO:
    FORMAT: AD,FAD,FGT
Output:
    /tmp/RtmpczSdKj/newgdscb683cdd0697.gds
    [Progress Info: newgdscb683cdd0697.gds.progress]
Parsing 'outcb68b5b593c.vcf':
+ genotype/data   { Bit2 2x40x126 ZIP_ra, 16B }
Digests:
    sample.id  [md5: ccb6bb293e0efd0ad8ed763828deab7d]
    variant.id  [md5: 2e2dfa87373e993fd88f21477de921fe]
    position  [md5: 0d464e58eaea358dbed45e78d66c9ae4]
    chromosome  [md5: 75ff3cd6ef0b481bb73ba08fcbeee27b]
    allele  [md5: 64119379bd87f54d96d7960982e0e4a5]
    genotype  [md5: d986f2f6388d75ab0d5500a9e2e9cf97]
    phase  [md5: b99a16432939656b142f23c71e63cd93]
    annotation/id  [md5: fd124a95edba6e6abb582528e0128d36]
    annotation/qual  [md5: 7c9ff95556974f2c3f617595e8f5cf0c]
    annotation/filter  [md5: 771651bdbd313285a2dbfcd3847d9e89]
    annotation/format/AD  [md5: dfda15e752f08db345e2611ce9f8da0e]
    annotation/format/FAD  [md5: c2ddf1899ee48f4760f5594e5ca545ea]
    annotation/format/FGT  [md5: 1269d69b18e54e3c8fee59bb89cf6e14]
Done.
Tue Feb  4 20:23:13 2025
Optimize the access efficiency ...
Clean up the fragments of GDS file:
    open the file '/tmp/RtmpczSdKj/newgdscb683cdd0697.gds' (25.9K)
    # of fragments: 129
    save to '/tmp/RtmpczSdKj/newgdscb683cdd0697.gds.tmp'
    rename '/tmp/RtmpczSdKj/newgdscb683cdd0697.gds.tmp' (25.2K, reduced: 780B)
    # of fragments: 64
Tue Feb  4 20:23:13 2025
Loading GDS file.
Reformatting FGT
Working on 'genotype' ...
Working on 'phase' ...
Working on 'annotation/format/AD' ...
Working on 'annotation/format/FAD' ...
Working on 'annotation/format/FGT' ...
Clean up the fragments of GDS file:
    open the file '/private/tmp/RtmpczSdKj/newgdscb683cdd0697.gds' (43.1K)
    # of fragments: 86
    save to '/private/tmp/RtmpczSdKj/newgdscb683cdd0697.gds.tmp'
    rename '/private/tmp/RtmpczSdKj/newgdscb683cdd0697.gds.tmp' (41.9K, reduced: 1.2K)
    # of fragments: 74
The connection to the GDS file was closed.
The connection to the GDS file was closed.
Loading GDS file.
Working on 'genotype' ...
Working on 'phase' ...
Working on 'annotation/format/AD' ...
Clean up the fragments of GDS file:
    open the file '/private/tmp/RtmpczSdKj/samplecb6841af9e57.gds' (95.5K)
    # of fragments: 69
    save to '/private/tmp/RtmpczSdKj/samplecb6841af9e57.gds.tmp'
    rename '/private/tmp/RtmpczSdKj/samplecb6841af9e57.gds.tmp' (95.4K, reduced: 108B)
    # of fragments: 60
As `mating` was not specified, set the following mating design.
     [,1]
[1,]    3
[2,]    3
Member IDs were not assigned to samples.
Assign 4 to all samples as member ID.
Set the number of threads: 1
Start cleaning...
Preparing genotype and haplotype pattern table...
Possible allele dosages: 0 1 2
Number of possible founder genotypes: 2
Member ID(s) to be processed: 4
Number of offspring haplotypes: 4

Now cleaning chr 1...

Cycle 1: 

Forward round of genotype estimation ...

Founder genotype probability calculation ...                                                                      
Founder genotype probability calculation at marker#: 10                                                                      
Founder genotype probability calculation at marker#: 20                                                                      
Founder genotype probability calculation at marker#: 30                                                                      
Founder genotype probability calculation at marker#: 40                                                                      
Founder genotype probability calculation at marker#: 50                                                                      
Founder genotype probability calculation at marker#: 60                                                                      
Founder genotype probability calculation at marker#: 70                                                                      
Founder genotype probability calculation at marker#: 80                                                                      
Founder genotype probability calculation at marker#: 90                                                                      
Founder genotype probability calculation at marker#: 100                                                                      
Founder genotype probability calculation at marker#: 110                                                                      
Founder genotype probability calculation at marker#: 120                                                                      
Founder genotype probability calculation at marker#: 130                                                                      
Founder genotype probability calculation at marker#: 140                                                                      
Founder genotype probability calculation at marker#: 150                                                                      
Founder genotype probability calculation at marker#: 160                                                                      
Founder genotype probability calculation at marker#: 170                                                                      
Founder genotype probability calculation at marker#: 180                                                                      
Founder genotype probability calculation at marker#: 190                                                                      
Founder genotype probability calculation at marker#: 200                                                                      
Founder genotype probability calculation at marker#: 210                                                                      
Founder genotype probability calculation at marker#: 220                                                                      
Founder genotype probability calculation at marker#: 230                                                                      
Founder genotype probability calculation at marker#: 240                                                                      
Backtracking best genotype sequences at marker#: 240                                                                      
Backtracking best genotype sequences at marker#: 230                                                                      
Backtracking best genotype sequences at marker#: 220                                                                      
Backtracking best genotype sequences at marker#: 210                                                                      
Backtracking best genotype sequences at marker#: 200                                                                      
Backtracking best genotype sequences at marker#: 190                                                                      
Backtracking best genotype sequences at marker#: 180                                                                      
Backtracking best genotype sequences at marker#: 170                                                                      
Backtracking best genotype sequences at marker#: 160                                                                      
Backtracking best genotype sequences at marker#: 150                                                                      
Backtracking best genotype sequences at marker#: 140                                                                      
Backtracking best genotype sequences at marker#: 130                                                                      
Backtracking best genotype sequences at marker#: 120                                                                      
Backtracking best genotype sequences at marker#: 110                                                                      
Backtracking best genotype sequences at marker#: 100                                                                      
Backtracking best genotype sequences at marker#: 90                                                                      
Backtracking best genotype sequences at marker#: 80                                                                      
Backtracking best genotype sequences at marker#: 70                                                                      
Backtracking best genotype sequences at marker#: 60                                                                      
Backtracking best genotype sequences at marker#: 50                                                                      
Backtracking best genotype sequences at marker#: 40                                                                      
Backtracking best genotype sequences at marker#: 30                                                                      
Backtracking best genotype sequences at marker#: 20                                                                      
Backtracking best genotype sequences at marker#: 10                                                                      
Backtracking best genotype sequences: Done!                                                                      
Offspring genotype probability calculation ...                                                                      
                                                                      
Backward round of genotype estimation  ...

Founder genotype probability calculation ...                                                                      
Founder genotype probability calculation at marker#: 10                                                                      
Founder genotype probability calculation at marker#: 20                                                                      
Founder genotype probability calculation at marker#: 30                                                                      
Founder genotype probability calculation at marker#: 40                                                                      
Founder genotype probability calculation at marker#: 50                                                                      
Founder genotype probability calculation at marker#: 60                                                                      
Founder genotype probability calculation at marker#: 70                                                                      
Founder genotype probability calculation at marker#: 80                                                                      
Founder genotype probability calculation at marker#: 90                                                                      
Founder genotype probability calculation at marker#: 100                                                                      
Founder genotype probability calculation at marker#: 110                                                                      
Founder genotype probability calculation at marker#: 120                                                                      
Founder genotype probability calculation at marker#: 130                                                                      
Founder genotype probability calculation at marker#: 140                                                                      
Founder genotype probability calculation at marker#: 150                                                                      
Founder genotype probability calculation at marker#: 160                                                                      
Founder genotype probability calculation at marker#: 170                                                                      
Founder genotype probability calculation at marker#: 180                                                                      
Founder genotype probability calculation at marker#: 190                                                                      
Founder genotype probability calculation at marker#: 200                                                                      
Founder genotype probability calculation at marker#: 210                                                                      
Founder genotype probability calculation at marker#: 220                                                                      
Founder genotype probability calculation at marker#: 230                                                                      
Founder genotype probability calculation at marker#: 240                                                                      
Backtracking best genotype sequences at marker#: 240                                                                      
Backtracking best genotype sequences at marker#: 230                                                                      
Backtracking best genotype sequences at marker#: 220                                                                      
Backtracking best genotype sequences at marker#: 210                                                                      
Backtracking best genotype sequences at marker#: 200                                                                      
Backtracking best genotype sequences at marker#: 190                                                                      
Backtracking best genotype sequences at marker#: 180                                                                      
Backtracking best genotype sequences at marker#: 170                                                                      
Backtracking best genotype sequences at marker#: 160                                                                      
Backtracking best genotype sequences at marker#: 150                                                                      
Backtracking best genotype sequences at marker#: 140                                                                      
Backtracking best genotype sequences at marker#: 130                                                                      
Backtracking best genotype sequences at marker#: 120                                                                      
Backtracking best genotype sequences at marker#: 110                                                                      
Backtracking best genotype sequences at marker#: 100                                                                      
Backtracking best genotype sequences at marker#: 90                                                                      
Backtracking best genotype sequences at marker#: 80                                                                      
Backtracking best genotype sequences at marker#: 70                                                                      
Backtracking best genotype sequences at marker#: 60                                                                      
Backtracking best genotype sequences at marker#: 50                                                                      
Backtracking best genotype sequences at marker#: 40                                                                      
Backtracking best genotype sequences at marker#: 30                                                                      
Backtracking best genotype sequences at marker#: 20                                                                      
Backtracking best genotype sequences at marker#: 10                                                                      
Backtracking best genotype sequences: Done!                                                                      
Offspring genotype probability calculation ...                                                                      
                                                                      
Paramter optimization ...

Cycle 2: 

Forward round of genotype estimation ...

Founder genotype probability calculation ...                                                                      
Founder genotype probability calculation at marker#: 10                                                                      
Founder genotype probability calculation at marker#: 20                                                                      
Founder genotype probability calculation at marker#: 30                                                                      
Founder genotype probability calculation at marker#: 40                                                                      
Founder genotype probability calculation at marker#: 50                                                                      
Founder genotype probability calculation at marker#: 60                                                                      
Founder genotype probability calculation at marker#: 70                                                                      
Founder genotype probability calculation at marker#: 80                                                                      
Founder genotype probability calculation at marker#: 90                                                                      
Founder genotype probability calculation at marker#: 100                                                                      
Founder genotype probability calculation at marker#: 110                                                                      
Founder genotype probability calculation at marker#: 120                                                                      
Founder genotype probability calculation at marker#: 130                                                                      
Founder genotype probability calculation at marker#: 140                                                                      
Founder genotype probability calculation at marker#: 150                                                                      
Founder genotype probability calculation at marker#: 160                                                                      
Founder genotype probability calculation at marker#: 170                                                                      
Founder genotype probability calculation at marker#: 180                                                                      
Founder genotype probability calculation at marker#: 190                                                                      
Founder genotype probability calculation at marker#: 200                                                                      
Founder genotype probability calculation at marker#: 210                                                                      
Founder genotype probability calculation at marker#: 220                                                                      
Founder genotype probability calculation at marker#: 230                                                                      
Founder genotype probability calculation at marker#: 240                                                                      
Backtracking best genotype sequences at marker#: 240                                                                      
Backtracking best genotype sequences at marker#: 230                                                                      
Backtracking best genotype sequences at marker#: 220                                                                      
Backtracking best genotype sequences at marker#: 210                                                                      
Backtracking best genotype sequences at marker#: 200                                                                      
Backtracking best genotype sequences at marker#: 190                                                                      
Backtracking best genotype sequences at marker#: 180                                                                      
Backtracking best genotype sequences at marker#: 170                                                                      
Backtracking best genotype sequences at marker#: 160                                                                      
Backtracking best genotype sequences at marker#: 150                                                                      
Backtracking best genotype sequences at marker#: 140                                                                      
Backtracking best genotype sequences at marker#: 130                                                                      
Backtracking best genotype sequences at marker#: 120                                                                      
Backtracking best genotype sequences at marker#: 110                                                                      
Backtracking best genotype sequences at marker#: 100                                                                      
Backtracking best genotype sequences at marker#: 90                                                                      
Backtracking best genotype sequences at marker#: 80                                                                      
Backtracking best genotype sequences at marker#: 70                                                                      
Backtracking best genotype sequences at marker#: 60                                                                      
Backtracking best genotype sequences at marker#: 50                                                                      
Backtracking best genotype sequences at marker#: 40                                                                      
Backtracking best genotype sequences at marker#: 30                                                                      
Backtracking best genotype sequences at marker#: 20                                                                      
Backtracking best genotype sequences at marker#: 10                                                                      
Backtracking best genotype sequences: Done!                                                                      
Offspring genotype probability calculation ...                                                                      
                                                                      
Backward round of genotype estimation  ...

Founder genotype probability calculation ...                                                                      
Founder genotype probability calculation at marker#: 10                                                                      
Founder genotype probability calculation at marker#: 20                                                                      
Founder genotype probability calculation at marker#: 30                                                                      
Founder genotype probability calculation at marker#: 40                                                                      
Founder genotype probability calculation at marker#: 50                                                                      
Founder genotype probability calculation at marker#: 60                                                                      
Founder genotype probability calculation at marker#: 70                                                                      
Founder genotype probability calculation at marker#: 80                                                                      
Founder genotype probability calculation at marker#: 90                                                                      
Founder genotype probability calculation at marker#: 100                                                                      
Founder genotype probability calculation at marker#: 110                                                                      
Founder genotype probability calculation at marker#: 120                                                                      
Founder genotype probability calculation at marker#: 130                                                                      
Founder genotype probability calculation at marker#: 140                                                                      
Founder genotype probability calculation at marker#: 150                                                                      
Founder genotype probability calculation at marker#: 160                                                                      
Founder genotype probability calculation at marker#: 170                                                                      
Founder genotype probability calculation at marker#: 180                                                                      
Founder genotype probability calculation at marker#: 190                                                                      
Founder genotype probability calculation at marker#: 200                                                                      
Founder genotype probability calculation at marker#: 210                                                                      
Founder genotype probability calculation at marker#: 220                                                                      
Founder genotype probability calculation at marker#: 230                                                                      
Founder genotype probability calculation at marker#: 240                                                                      
Backtracking best genotype sequences at marker#: 240                                                                      
Backtracking best genotype sequences at marker#: 230                                                                      
Backtracking best genotype sequences at marker#: 220                                                                      
Backtracking best genotype sequences at marker#: 210                                                                      
Backtracking best genotype sequences at marker#: 200                                                                      
Backtracking best genotype sequences at marker#: 190                                                                      
Backtracking best genotype sequences at marker#: 180                                                                      
Backtracking best genotype sequences at marker#: 170                                                                      
Backtracking best genotype sequences at marker#: 160                                                                      
Backtracking best genotype sequences at marker#: 150                                                                      
Backtracking best genotype sequences at marker#: 140                                                                      
Backtracking best genotype sequences at marker#: 130                                                                      
Backtracking best genotype sequences at marker#: 120                                                                      
Backtracking best genotype sequences at marker#: 110                                                                      
Backtracking best genotype sequences at marker#: 100                                                                      
Backtracking best genotype sequences at marker#: 90                                                                      
Backtracking best genotype sequences at marker#: 80                                                                      
Backtracking best genotype sequences at marker#: 70                                                                      
Backtracking best genotype sequences at marker#: 60                                                                      
Backtracking best genotype sequences at marker#: 50                                                                      
Backtracking best genotype sequences at marker#: 40                                                                      
Backtracking best genotype sequences at marker#: 30                                                                      
Backtracking best genotype sequences at marker#: 20                                                                      
Backtracking best genotype sequences at marker#: 10                                                                      
Backtracking best genotype sequences: Done!                                                                      
Offspring genotype probability calculation ...                                                                      
                                                                      
Summarizing output ...

Done!
The connection to the GDS file was closed.
[ FAIL 0 | WARN 0 | SKIP 0 | PASS 271 ]
> 
> proc.time()
   user  system elapsed 
 32.827   1.291  34.382 

Example timings

GBScleanR.Rcheck/GBScleanR-Ex.timings

nameusersystemelapsed
GbsrGenotypeData-class0.0140.0040.021
GbsrScheme-class0.0100.0020.012
addScheme0.0100.0030.012
assignScheme0.0800.0040.083
boxplotGBSR0.9480.0280.977
closeGDS0.0040.0010.005
countGenotype0.7870.0150.803
countRead0.8050.0100.816
estGeno1.4490.0731.542
gbsrGDS2CSV0.0190.0030.023
gbsrGDS2VCF0.0040.0020.005
gbsrVCF2GDS0.1080.0390.163
getAllele0.0050.0030.008
getChromosome0.0040.0030.006
getCountAlleleAlt0.5410.0050.546
getCountAlleleMissing0.5590.0050.563
getCountAlleleRef0.5380.0040.542
getCountGenoAlt0.5240.0050.528
getCountGenoHet0.5170.0040.521
getCountGenoMissing0.5130.0040.516
getCountGenoRef0.4960.0040.500
getCountRead0.5860.0060.591
getCountReadAlt0.5570.0060.565
getCountReadRef0.5440.0050.550
getFixedBias0.0910.0350.141
getGenotype0.0300.0020.032
getHaplotype2.4890.0772.568
getInfo0.0050.0010.007
getMAC0.5580.0050.563
getMAF0.5620.0050.566
getMarID0.0060.0030.007
getMeanReadAlt0.5710.0050.576
getMeanReadRef0.5480.0050.553
getMedianReadAlt0.5600.0040.565
getMedianReadRef0.5790.0050.587
getParents0.0080.0020.010
getPosition0.0040.0040.009
getRead0.0080.0020.010
getReplicates0.0070.0030.009
getSDReadAlt0.5520.0050.563
getSDReadRef0.5440.0040.548
getSamID0.0050.0030.007
histGBSR0.7600.0050.774
initScheme0.0060.0020.009
isOpenGDS0.0060.0020.008
loadGDS0.0940.0370.146
makeScheme0.0080.0030.010
nmar0.0050.0020.005
nsam0.0040.0010.005
pairsGBSR0.6480.0040.654
plotDosage0.2240.0080.232
plotGBSR0.7010.0070.709
plotReadRatio0.1790.0060.184
reopenGDS0.0070.0030.009
resetCallFilter0.6550.0600.733
resetFilter1.7440.0571.828
resetMarFilter1.1180.0051.124
resetSamFilter1.1730.0381.226
setCallFilter1.2820.0711.371
setFixedBias0.0920.0350.142
setInfoFilter0.0050.0020.007
setMarFilter1.0010.0051.005
setParents2.4030.0702.477
setReplicates0.0050.0020.007
setSamFilter1.0270.0051.032
showScheme0.0070.0020.008
thinMarker0.5150.0020.517
validMar0.0040.0030.007
validSam0.0040.0020.006