Back to Multiple platform build/check report for BioC 3.19: simplified long |
|
This page was generated on 2024-07-09 17:43 -0400 (Tue, 09 Jul 2024).
Hostname | OS | Arch (*) | R version | Installed pkgs |
---|---|---|---|---|
nebbiolo1 | Linux (Ubuntu 22.04.3 LTS) | x86_64 | 4.4.1 (2024-06-14) -- "Race for Your Life" | 4709 |
palomino7 | Windows Server 2022 Datacenter | x64 | 4.4.1 (2024-06-14 ucrt) -- "Race for Your Life" | 4483 |
merida1 | macOS 12.7.4 Monterey | x86_64 | 4.4.1 (2024-06-14) -- "Race for Your Life" | 4512 |
kjohnson1 | macOS 13.6.6 Ventura | arm64 | 4.4.1 (2024-06-14) -- "Race for Your Life" | 4461 |
Click on any hostname to see more info about the system (e.g. compilers) (*) as reported by 'uname -p', except on Windows and Mac OS X |
Package 817/2300 | Hostname | OS / Arch | INSTALL | BUILD | CHECK | BUILD BIN | ||||||||
GeneStructureTools 1.24.0 (landing page) Beth Signal
| nebbiolo1 | Linux (Ubuntu 22.04.3 LTS) / x86_64 | OK | OK | OK | |||||||||
palomino7 | Windows Server 2022 Datacenter / x64 | OK | OK | OK | OK | |||||||||
merida1 | macOS 12.7.4 Monterey / x86_64 | OK | OK | OK | OK | |||||||||
kjohnson1 | macOS 13.6.6 Ventura / arm64 | OK | OK | OK | OK | |||||||||
To the developers/maintainers of the GeneStructureTools package: - Allow up to 24 hours (and sometimes 48 hours) for your latest push to git@git.bioconductor.org:packages/GeneStructureTools.git to reflect on this report. See Troubleshooting Build Report for more information. - Use the following Renviron settings to reproduce errors and warnings. - If 'R CMD check' started to fail recently on the Linux builder(s) over a missing dependency, add the missing dependency to 'Suggests:' in your DESCRIPTION file. See Renviron.bioc for more information. |
Package: GeneStructureTools |
Version: 1.24.0 |
Command: /Library/Frameworks/R.framework/Resources/bin/R CMD check --install=check:GeneStructureTools.install-out.txt --library=/Library/Frameworks/R.framework/Resources/library --no-vignettes --timings GeneStructureTools_1.24.0.tar.gz |
StartedAt: 2024-07-08 20:39:41 -0400 (Mon, 08 Jul 2024) |
EndedAt: 2024-07-08 20:47:35 -0400 (Mon, 08 Jul 2024) |
EllapsedTime: 473.9 seconds |
RetCode: 0 |
Status: OK |
CheckDir: GeneStructureTools.Rcheck |
Warnings: 0 |
############################################################################## ############################################################################## ### ### Running command: ### ### /Library/Frameworks/R.framework/Resources/bin/R CMD check --install=check:GeneStructureTools.install-out.txt --library=/Library/Frameworks/R.framework/Resources/library --no-vignettes --timings GeneStructureTools_1.24.0.tar.gz ### ############################################################################## ############################################################################## * using log directory ‘/Users/biocbuild/bbs-3.19-bioc/meat/GeneStructureTools.Rcheck’ * using R version 4.4.1 (2024-06-14) * using platform: aarch64-apple-darwin20 * R was compiled by Apple clang version 14.0.0 (clang-1400.0.29.202) GNU Fortran (GCC) 12.2.0 * running under: macOS Ventura 13.6.6 * using session charset: UTF-8 * using option ‘--no-vignettes’ * checking for file ‘GeneStructureTools/DESCRIPTION’ ... OK * checking extension type ... Package * this is package ‘GeneStructureTools’ version ‘1.24.0’ * package encoding: UTF-8 * checking package namespace information ... OK * checking package dependencies ... OK * checking if this is a source package ... OK * checking if there is a namespace ... OK * checking for hidden files and directories ... OK * checking for portable file names ... OK * checking for sufficient/correct file permissions ... OK * checking whether package ‘GeneStructureTools’ can be installed ... OK * checking installed package size ... OK * checking package directory ... OK * checking ‘build’ directory ... OK * checking DESCRIPTION meta-information ... OK * checking top-level files ... OK * checking for left-over files ... OK * checking index information ... OK * checking package subdirectories ... OK * checking code files for non-ASCII characters ... OK * checking R files for syntax errors ... OK * checking whether the package can be loaded ... OK * checking whether the package can be loaded with stated dependencies ... OK * checking whether the package can be unloaded cleanly ... OK * checking whether the namespace can be loaded with stated dependencies ... OK * checking whether the namespace can be unloaded cleanly ... OK * checking dependencies in R code ... OK * checking S3 generic/method consistency ... OK * checking replacement functions ... OK * checking foreign function calls ... OK * checking R code for possible problems ... OK * checking Rd files ... OK * checking Rd metadata ... OK * checking Rd cross-references ... OK * checking for missing documentation entries ... OK * checking for code/documentation mismatches ... OK * checking Rd \usage sections ... OK * checking Rd contents ... OK * checking for unstated dependencies in examples ... OK * checking files in ‘vignettes’ ... OK * checking examples ... OK Examples with CPU (user + system) or elapsed time > 5s user system elapsed leafcutterTranscriptChangeSummary 24.838 0.817 26.150 whippetTranscriptChangeSummary 12.660 0.290 13.187 * checking for unstated dependencies in vignettes ... OK * checking package vignettes ... OK * checking running R code from vignettes ... SKIPPED * checking re-building of vignette outputs ... SKIPPED * checking PDF version of manual ... OK * DONE Status: OK
GeneStructureTools.Rcheck/00install.out
############################################################################## ############################################################################## ### ### Running command: ### ### /Library/Frameworks/R.framework/Resources/bin/R CMD INSTALL GeneStructureTools ### ############################################################################## ############################################################################## * installing to library ‘/Library/Frameworks/R.framework/Versions/4.4-arm64/Resources/library’ * installing *source* package ‘GeneStructureTools’ ... ** using staged installation ** R ** inst ** byte-compile and prepare package for lazy loading ** help *** installing help indices ** building package indices ** installing vignettes ** testing if installed package can be loaded from temporary location ** testing if installed package can be loaded from final location ** testing if installed package keeps a record of temporary installation path * DONE (GeneStructureTools)
GeneStructureTools.Rcheck/GeneStructureTools-Ex.timings
name | user | system | elapsed | |
DEXSeqIdsToGeneIds | 0.003 | 0.001 | 0.005 | |
UTR2UTR53 | 2.511 | 0.082 | 2.605 | |
addBroadTypes | 0.262 | 0.006 | 0.270 | |
addIntronInTranscript | 1.487 | 0.128 | 1.668 | |
alternativeIntronUsage | 4.309 | 0.024 | 4.362 | |
annotateGeneModel | 0.945 | 0.014 | 0.961 | |
attrChangeAltSpliced | 1.337 | 0.119 | 1.512 | |
coordinates-methods | 0.085 | 0.096 | 0.212 | |
diffSplicingResults-methods | 0.082 | 0.104 | 0.213 | |
exonsToTranscripts | 0.398 | 0.010 | 0.411 | |
filterGtfOverlap | 0.318 | 0.007 | 0.326 | |
filterWhippetEvents | 0.094 | 0.095 | 0.214 | |
findDEXexonType | 2.648 | 0.022 | 2.697 | |
findExonContainingTranscripts | 0.527 | 0.098 | 0.661 | |
findIntronContainingTranscripts | 0.756 | 0.101 | 0.890 | |
findJunctionPairs | 1.465 | 0.118 | 1.617 | |
formatWhippetEvents | 0.017 | 0.009 | 0.030 | |
getOrfs | 0.791 | 0.019 | 0.814 | |
getUOrfs | 0.639 | 0.017 | 0.671 | |
junctions-methods | 0.085 | 0.112 | 0.228 | |
leafcutterTranscriptChangeSummary | 24.838 | 0.817 | 26.150 | |
makeGeneModel | 0.213 | 0.007 | 0.221 | |
maxLocation | 0.002 | 0.001 | 0.003 | |
orfDiff | 1.273 | 0.117 | 1.427 | |
orfSimilarity | 0.000 | 0.000 | 0.001 | |
overlapTypes | 2.400 | 0.017 | 2.448 | |
readCounts-methods | 0.082 | 0.102 | 0.230 | |
readWhippetDIFFfiles | 0.009 | 0.013 | 0.027 | |
readWhippetDataSet | 0.085 | 0.107 | 0.232 | |
readWhippetJNCfiles | 0.041 | 0.048 | 0.108 | |
readWhippetPSIfiles | 0.025 | 0.043 | 0.084 | |
removeDuplicateTranscripts | 0.329 | 0.006 | 0.340 | |
removeSameExon | 0.277 | 0.006 | 0.291 | |
removeVersion | 0.000 | 0.000 | 0.001 | |
reorderExonNumbers | 0.230 | 0.006 | 0.241 | |
replaceJunction | 4.198 | 0.123 | 4.453 | |
skipExonInTranscript | 1.523 | 0.106 | 1.679 | |
summariseExonTypes | 2.623 | 0.018 | 2.680 | |
transcriptChangeSummary | 1.656 | 0.132 | 1.852 | |
whippetTranscriptChangeSummary | 12.660 | 0.290 | 13.187 | |