Back to Multiple platform build/check report for BioC 3.19: simplified long |
|
This page was generated on 2024-08-06 17:38 -0400 (Tue, 06 Aug 2024).
Hostname | OS | Arch (*) | R version | Installed pkgs |
---|---|---|---|---|
nebbiolo1 | Linux (Ubuntu 22.04.3 LTS) | x86_64 | 4.4.1 (2024-06-14) -- "Race for Your Life" | 4756 |
palomino7 | Windows Server 2022 Datacenter | x64 | 4.4.1 (2024-06-14 ucrt) -- "Race for Your Life" | 4490 |
merida1 | macOS 12.7.5 Monterey | x86_64 | 4.4.1 (2024-06-14) -- "Race for Your Life" | 4519 |
kjohnson1 | macOS 13.6.6 Ventura | arm64 | 4.4.1 (2024-06-14) -- "Race for Your Life" | 4468 |
Click on any hostname to see more info about the system (e.g. compilers) (*) as reported by 'uname -p', except on Windows and Mac OS X |
Package 1136/2300 | Hostname | OS / Arch | INSTALL | BUILD | CHECK | BUILD BIN | ||||||||
M3Drop 1.30.0 (landing page) Tallulah Andrews
| nebbiolo1 | Linux (Ubuntu 22.04.3 LTS) / x86_64 | OK | OK | OK | |||||||||
palomino7 | Windows Server 2022 Datacenter / x64 | OK | OK | OK | OK | |||||||||
merida1 | macOS 12.7.5 Monterey / x86_64 | OK | OK | OK | OK | |||||||||
kjohnson1 | macOS 13.6.6 Ventura / arm64 | OK | OK | OK | OK | |||||||||
To the developers/maintainers of the M3Drop package: - Allow up to 24 hours (and sometimes 48 hours) for your latest push to git@git.bioconductor.org:packages/M3Drop.git to reflect on this report. See Troubleshooting Build Report for more information. - Use the following Renviron settings to reproduce errors and warnings. - If 'R CMD check' started to fail recently on the Linux builder(s) over a missing dependency, add the missing dependency to 'Suggests:' in your DESCRIPTION file. See Renviron.bioc for more information. |
Package: M3Drop |
Version: 1.30.0 |
Command: /home/biocbuild/bbs-3.19-bioc/R/bin/R CMD check --install=check:M3Drop.install-out.txt --library=/home/biocbuild/bbs-3.19-bioc/R/site-library --timings M3Drop_1.30.0.tar.gz |
StartedAt: 2024-08-05 01:06:00 -0400 (Mon, 05 Aug 2024) |
EndedAt: 2024-08-05 01:12:49 -0400 (Mon, 05 Aug 2024) |
EllapsedTime: 409.0 seconds |
RetCode: 0 |
Status: OK |
CheckDir: M3Drop.Rcheck |
Warnings: 0 |
############################################################################## ############################################################################## ### ### Running command: ### ### /home/biocbuild/bbs-3.19-bioc/R/bin/R CMD check --install=check:M3Drop.install-out.txt --library=/home/biocbuild/bbs-3.19-bioc/R/site-library --timings M3Drop_1.30.0.tar.gz ### ############################################################################## ############################################################################## * using log directory ‘/home/biocbuild/bbs-3.19-bioc/meat/M3Drop.Rcheck’ * using R version 4.4.1 (2024-06-14) * using platform: x86_64-pc-linux-gnu * R was compiled by gcc (Ubuntu 11.4.0-1ubuntu1~22.04) 11.4.0 GNU Fortran (Ubuntu 11.4.0-1ubuntu1~22.04) 11.4.0 * running under: Ubuntu 22.04.4 LTS * using session charset: UTF-8 * checking for file ‘M3Drop/DESCRIPTION’ ... OK * this is package ‘M3Drop’ version ‘1.30.0’ * checking package namespace information ... OK * checking package dependencies ... OK * checking if this is a source package ... OK * checking if there is a namespace ... OK * checking for hidden files and directories ... OK * checking for portable file names ... OK * checking for sufficient/correct file permissions ... OK * checking whether package ‘M3Drop’ can be installed ... OK * checking installed package size ... OK * checking package directory ... OK * checking ‘build’ directory ... OK * checking DESCRIPTION meta-information ... OK * checking top-level files ... OK * checking for left-over files ... OK * checking index information ... OK * checking package subdirectories ... OK * checking code files for non-ASCII characters ... OK * checking R files for syntax errors ... OK * checking whether the package can be loaded ... OK * checking whether the package can be loaded with stated dependencies ... OK * checking whether the package can be unloaded cleanly ... OK * checking whether the namespace can be loaded with stated dependencies ... OK * checking whether the namespace can be unloaded cleanly ... OK * checking loading without being on the library search path ... OK * checking dependencies in R code ... NOTE Namespace in Imports field not imported from: ‘scater’ All declared Imports should be used. * checking S3 generic/method consistency ... OK * checking replacement functions ... OK * checking foreign function calls ... OK * checking R code for possible problems ... NOTE M3DropConvertData: no visible global function definition for ‘assays’ NBumiConvertData: no visible global function definition for ‘assays’ bg__filter_cells: no visible binding for global variable ‘x’ bg__get_extreme_residuals: no visible binding for global variable ‘x’ Undefined global functions or variables: assays x * checking Rd files ... NOTE prepare_Rd: NBumi_FSOther.Rd:8-10: Dropping empty section \usage prepare_Rd: NBumi_TradDE.Rd:7-8: Dropping empty section \usage * checking Rd metadata ... OK * checking Rd cross-references ... OK * checking for missing documentation entries ... OK * checking for code/documentation mismatches ... OK * checking Rd \usage sections ... OK * checking Rd contents ... OK * checking for unstated dependencies in examples ... OK * checking files in ‘vignettes’ ... OK * checking examples ... OK Examples with CPU (user + system) or elapsed time > 5s user system elapsed NewSimulations 98.404 1.436 99.842 Imputation 39.635 0.168 39.804 M3D_getmarkers 32.152 0.276 32.429 M3D_ConverData 5.319 0.156 5.475 * checking for unstated dependencies in vignettes ... OK * checking package vignettes ... OK * checking re-building of vignette outputs ... OK * checking PDF version of manual ... OK * DONE Status: 3 NOTEs See ‘/home/biocbuild/bbs-3.19-bioc/meat/M3Drop.Rcheck/00check.log’ for details.
M3Drop.Rcheck/00install.out
############################################################################## ############################################################################## ### ### Running command: ### ### /home/biocbuild/bbs-3.19-bioc/R/bin/R CMD INSTALL M3Drop ### ############################################################################## ############################################################################## * installing to library ‘/home/biocbuild/bbs-3.19-bioc/R/site-library’ * installing *source* package ‘M3Drop’ ... ** using staged installation ** R ** inst ** byte-compile and prepare package for lazy loading ** help *** installing help indices ** building package indices ** installing vignettes ** testing if installed package can be loaded from temporary location ** testing if installed package can be loaded from final location ** testing if installed package keeps a record of temporary installation path * DONE (M3Drop)
M3Drop.Rcheck/M3Drop-Ex.timings
name | user | system | elapsed | |
Brennecke_getVariableGenes | 3.489 | 0.167 | 3.658 | |
Consensus_FS | 0.259 | 0.000 | 0.259 | |
Fitting_Dropout_Models | 0 | 0 | 0 | |
Imputation | 39.635 | 0.168 | 39.804 | |
M3D_Clean_Data | 1.835 | 0.108 | 1.943 | |
M3D_ConverData | 5.319 | 0.156 | 5.475 | |
M3D_Differential_Expression | 1.901 | 0.080 | 1.981 | |
M3D_Dropout_Models | 1.659 | 0.116 | 1.775 | |
M3D_Expression_Heatmap | 0.470 | 0.012 | 0.482 | |
M3D_Get_Extremes | 1.656 | 0.028 | 1.684 | |
M3D_Get_Heatmap_Cell_Clusters | 0.427 | 0.008 | 0.436 | |
M3D_Simulations | 0.001 | 0.000 | 0.000 | |
M3D_Test_Shift | 1.251 | 0.044 | 1.294 | |
M3D_ThreeSet_Venn | 0.319 | 0.004 | 0.323 | |
M3D_TraditionalDE | 0.01 | 0.00 | 0.01 | |
M3D_getmarkers | 32.152 | 0.276 | 32.429 | |
M3D_horz_res | 0 | 0 | 0 | |
NBumi_CheckFit | 1.404 | 0.088 | 1.493 | |
NBumi_CoExpression | 1.293 | 0.064 | 1.357 | |
NBumi_CompareModels | 2.853 | 0.044 | 2.898 | |
NBumi_ConvertToInteger | 0.001 | 0.000 | 0.000 | |
NBumi_ConvrtData | 0.267 | 0.004 | 0.271 | |
NBumi_FSDrop | 1.494 | 0.072 | 1.566 | |
NBumi_FSHighVar | 0.641 | 0.048 | 0.690 | |
NBumi_FSOther | 0.011 | 0.000 | 0.011 | |
NBumi_FitDisp | 0.001 | 0.000 | 0.000 | |
NBumi_FitDispVsMean | 0.497 | 0.000 | 0.497 | |
NBumi_FitModel | 0.657 | 0.052 | 0.709 | |
NBumi_HVG | 1.451 | 0.020 | 1.472 | |
NBumi_PearsonResiduals | 0.749 | 0.019 | 0.769 | |
NBumi_TradDE | 0.001 | 0.000 | 0.000 | |
NewSimulations | 98.404 | 1.436 | 99.842 | |
Other_FS | 1.040 | 0.008 | 1.048 | |
PoissonUMIFeatureSelectionDropouts | 0.591 | 0.012 | 0.603 | |
bg__fit_gamma | 0 | 0 | 0 | |
bg__get_stats | 0 | 0 | 0 | |
bg__mean2disp | 0 | 0 | 0 | |
bg__shift_size | 0 | 0 | 0 | |
bg__var_vs_drop | 0.001 | 0.000 | 0.001 | |