Back to Multiple platform build/check report for BioC 3.19: simplified long |
|
This page was generated on 2024-08-06 17:40 -0400 (Tue, 06 Aug 2024).
Hostname | OS | Arch (*) | R version | Installed pkgs |
---|---|---|---|---|
nebbiolo1 | Linux (Ubuntu 22.04.3 LTS) | x86_64 | 4.4.1 (2024-06-14) -- "Race for Your Life" | 4756 |
palomino7 | Windows Server 2022 Datacenter | x64 | 4.4.1 (2024-06-14 ucrt) -- "Race for Your Life" | 4490 |
merida1 | macOS 12.7.5 Monterey | x86_64 | 4.4.1 (2024-06-14) -- "Race for Your Life" | 4519 |
kjohnson1 | macOS 13.6.6 Ventura | arm64 | 4.4.1 (2024-06-14) -- "Race for Your Life" | 4468 |
Click on any hostname to see more info about the system (e.g. compilers) (*) as reported by 'uname -p', except on Windows and Mac OS X |
Package 112/2300 | Hostname | OS / Arch | INSTALL | BUILD | CHECK | BUILD BIN | ||||||||
autonomics 1.12.1 (landing page) Aditya Bhagwat
| nebbiolo1 | Linux (Ubuntu 22.04.3 LTS) / x86_64 | OK | OK | OK | |||||||||
palomino7 | Windows Server 2022 Datacenter / x64 | OK | OK | OK | OK | |||||||||
merida1 | macOS 12.7.5 Monterey / x86_64 | OK | OK | OK | OK | |||||||||
kjohnson1 | macOS 13.6.6 Ventura / arm64 | OK | OK | ERROR | OK | |||||||||
To the developers/maintainers of the autonomics package: - Allow up to 24 hours (and sometimes 48 hours) for your latest push to git@git.bioconductor.org:packages/autonomics.git to reflect on this report. See Troubleshooting Build Report for more information. - Use the following Renviron settings to reproduce errors and warnings. - If 'R CMD check' started to fail recently on the Linux builder(s) over a missing dependency, add the missing dependency to 'Suggests:' in your DESCRIPTION file. See Renviron.bioc for more information. |
Package: autonomics |
Version: 1.12.1 |
Command: /Library/Frameworks/R.framework/Resources/bin/R CMD check --install=check:autonomics.install-out.txt --library=/Library/Frameworks/R.framework/Resources/library --no-vignettes --timings autonomics_1.12.1.tar.gz |
StartedAt: 2024-08-05 00:48:41 -0400 (Mon, 05 Aug 2024) |
EndedAt: 2024-08-05 01:25:02 -0400 (Mon, 05 Aug 2024) |
EllapsedTime: 2181.6 seconds |
RetCode: 0 |
Status: OK |
CheckDir: autonomics.Rcheck |
Warnings: 0 |
############################################################################## ############################################################################## ### ### Running command: ### ### /Library/Frameworks/R.framework/Resources/bin/R CMD check --install=check:autonomics.install-out.txt --library=/Library/Frameworks/R.framework/Resources/library --no-vignettes --timings autonomics_1.12.1.tar.gz ### ############################################################################## ############################################################################## * using log directory ‘/Users/biocbuild/bbs-3.19-bioc/meat/autonomics.Rcheck’ * using R version 4.4.1 (2024-06-14) * using platform: x86_64-apple-darwin20 * R was compiled by Apple clang version 14.0.0 (clang-1400.0.29.202) GNU Fortran (GCC) 12.2.0 * running under: macOS Monterey 12.7.5 * using session charset: UTF-8 * using option ‘--no-vignettes’ * checking for file ‘autonomics/DESCRIPTION’ ... OK * checking extension type ... Package * this is package ‘autonomics’ version ‘1.12.1’ * package encoding: UTF-8 * checking package namespace information ... OK * checking package dependencies ... OK * checking if this is a source package ... OK * checking if there is a namespace ... OK * checking for hidden files and directories ... NOTE Found the following hidden files and directories: .BBSoptions These were most likely included in error. See section ‘Package structure’ in the ‘Writing R Extensions’ manual. * checking for portable file names ... OK * checking for sufficient/correct file permissions ... OK * checking whether package ‘autonomics’ can be installed ... OK * checking installed package size ... OK * checking package directory ... OK * checking ‘build’ directory ... OK * checking DESCRIPTION meta-information ... OK * checking top-level files ... OK * checking for left-over files ... OK * checking index information ... OK * checking package subdirectories ... OK * checking code files for non-ASCII characters ... OK * checking R files for syntax errors ... OK * checking whether the package can be loaded ... OK * checking whether the package can be loaded with stated dependencies ... OK * checking whether the package can be unloaded cleanly ... OK * checking whether the namespace can be loaded with stated dependencies ... OK * checking whether the namespace can be unloaded cleanly ... OK * checking dependencies in R code ... OK * checking S3 generic/method consistency ... OK * checking replacement functions ... OK * checking foreign function calls ... OK * checking R code for possible problems ... OK * checking Rd files ... NOTE checkRd: (-1) dequantify.Rd:24: Lost braces; missing escapes or markup? 24 | Encode {channel} as suffix. | ^ * checking Rd metadata ... OK * checking Rd cross-references ... OK * checking for missing documentation entries ... OK * checking for code/documentation mismatches ... OK * checking Rd \usage sections ... OK * checking Rd contents ... OK * checking for unstated dependencies in examples ... OK * checking files in ‘vignettes’ ... OK * checking examples ... OK Examples with CPU (user + system) or elapsed time > 5s user system elapsed read_diann_proteingroups 227.860 3.152 283.038 read_rnaseq_counts 62.819 3.065 79.750 plot_exprs 53.075 0.400 67.022 plot_exprs_per_coef 49.838 0.394 63.341 rm_diann_contaminants 47.833 0.706 59.372 default_formula 35.784 0.784 43.936 analyze 32.207 0.279 39.393 read_somascan 31.732 0.266 41.364 plot_summary 30.950 0.227 37.736 read_metabolon 30.690 0.399 37.866 fit 30.291 0.425 38.370 plot_volcano 24.169 0.219 29.638 plot_densities 20.829 0.438 26.637 plot_sample_nas 15.141 0.102 18.802 read_fragpipe 14.522 0.262 18.248 code 13.205 0.156 15.837 biplot_covariates 12.991 0.136 15.443 extract_coef_features 12.702 0.328 16.484 plot_subgroup_points 11.352 0.136 14.445 subtract_baseline 10.904 0.277 13.621 fit_lmx 10.956 0.167 14.059 reset_fit 10.463 0.149 12.796 biplot 10.028 0.130 12.087 plot_violins 9.281 0.135 11.134 dot-plot_survival 8.296 0.723 11.245 log2transform 8.922 0.095 11.470 explore_transformations 8.642 0.128 10.998 biplot_corrections 7.932 0.116 9.532 impute 7.546 0.087 9.673 pca 7.338 0.122 9.472 plot_contrastogram 5.780 0.251 7.605 plot_contrast_venn 4.743 0.096 6.098 sumexp_to_longdt 4.612 0.183 6.144 plot_fit_summary 4.643 0.106 5.753 plot_heatmap 4.520 0.084 5.542 add_facetvars 4.273 0.172 5.302 modelvar 4.171 0.100 5.370 * checking for unstated dependencies in ‘tests’ ... OK * checking tests ... Running ‘testthat.R’ OK * checking for unstated dependencies in vignettes ... OK * checking package vignettes ... OK * checking running R code from vignettes ... SKIPPED * checking re-building of vignette outputs ... SKIPPED * checking PDF version of manual ... OK * DONE Status: 2 NOTEs See ‘/Users/biocbuild/bbs-3.19-bioc/meat/autonomics.Rcheck/00check.log’ for details.
autonomics.Rcheck/00install.out
############################################################################## ############################################################################## ### ### Running command: ### ### /Library/Frameworks/R.framework/Resources/bin/R CMD INSTALL autonomics ### ############################################################################## ############################################################################## * installing to library ‘/Library/Frameworks/R.framework/Versions/4.4-x86_64/Resources/library’ * installing *source* package ‘autonomics’ ... ** using staged installation ** R ** inst ** byte-compile and prepare package for lazy loading ** help *** installing help indices ** building package indices ** installing vignettes ** testing if installed package can be loaded from temporary location ** testing if installed package can be loaded from final location ** testing if installed package keeps a record of temporary installation path * DONE (autonomics)
autonomics.Rcheck/tests/testthat.Rout
R version 4.4.1 (2024-06-14) -- "Race for Your Life" Copyright (C) 2024 The R Foundation for Statistical Computing Platform: x86_64-apple-darwin20 R is free software and comes with ABSOLUTELY NO WARRANTY. You are welcome to redistribute it under certain conditions. Type 'license()' or 'licence()' for distribution details. R is a collaborative project with many contributors. Type 'contributors()' for more information and 'citation()' on how to cite R or R packages in publications. Type 'demo()' for some demos, 'help()' for on-line help, or 'help.start()' for an HTML browser interface to help. Type 'q()' to quit R. > library(testthat) > library(autonomics) Attaching package: 'autonomics' The following objects are masked from 'package:stats': biplot, loadings > > test_check("autonomics") [ FAIL 0 | WARN 0 | SKIP 0 | PASS 159 ] > > proc.time() user system elapsed 281.710 11.541 339.837
autonomics.Rcheck/autonomics-Ex.timings
name | user | system | elapsed | |
AUTONOMICS_DATASETS | 0.001 | 0.001 | 0.003 | |
CONTAMINANTSURL | 0.001 | 0.001 | 0.003 | |
FITSEP | 0.000 | 0.000 | 0.001 | |
LINMOD_ENGINES | 0.001 | 0.000 | 0.001 | |
MAXQUANT_PATTERNS | 0.000 | 0.000 | 0.004 | |
TAXON_TO_ORGNAME | 0.001 | 0.001 | 0.001 | |
TESTS | 0 | 0 | 0 | |
abstract_fit | 3.225 | 0.162 | 4.059 | |
add_adjusted_pvalues | 1.432 | 0.041 | 1.777 | |
add_assay_means | 1.659 | 0.017 | 2.012 | |
add_facetvars | 4.273 | 0.172 | 5.302 | |
add_opentargets_by_uniprot | 0.989 | 0.017 | 1.200 | |
add_psp | 1.240 | 0.030 | 1.498 | |
add_smiles | 1.226 | 0.072 | 1.474 | |
analysis | 0.943 | 0.012 | 1.049 | |
analyze | 32.207 | 0.279 | 39.393 | |
annotate_maxquant | 1.909 | 0.065 | 2.435 | |
annotate_uniprot_rest | 0.148 | 0.020 | 1.667 | |
assert_is_valid_sumexp | 1.539 | 0.076 | 1.854 | |
bin | 1.016 | 0.023 | 1.248 | |
biplot | 10.028 | 0.130 | 12.087 | |
biplot_corrections | 7.932 | 0.116 | 9.532 | |
biplot_covariates | 12.991 | 0.136 | 15.443 | |
block2lme | 0.007 | 0.002 | 0.010 | |
center | 3.563 | 0.048 | 4.201 | |
code | 13.205 | 0.156 | 15.837 | |
coefs | 1.884 | 0.079 | 2.413 | |
collapsed_entrezg_to_symbol | 0.002 | 0.001 | 0.004 | |
contrast_subgroup_cols | 1.559 | 0.077 | 1.999 | |
count_in | 0.002 | 0.003 | 0.006 | |
counts | 1.075 | 0.010 | 1.312 | |
counts2cpm | 0.985 | 0.007 | 1.205 | |
counts2tpm | 0.955 | 0.008 | 1.144 | |
cpm | 1.017 | 0.007 | 1.182 | |
create_design | 1.917 | 0.086 | 2.373 | |
default_formula | 35.784 | 0.784 | 43.936 | |
default_geom | 1.349 | 0.078 | 1.686 | |
default_sfile | 0.003 | 0.001 | 0.004 | |
demultiplex | 0.035 | 0.002 | 0.041 | |
dequantify | 0.004 | 0.001 | 0.005 | |
dot-merge | 0.030 | 0.002 | 0.035 | |
dot-plot_survival | 8.296 | 0.723 | 11.245 | |
dot-read_maxquant_proteingroups | 0.203 | 0.011 | 0.265 | |
download_contaminants | 0.078 | 0.012 | 3.301 | |
download_data | 0.001 | 0.002 | 0.003 | |
download_gtf | 0.000 | 0.001 | 0.001 | |
download_mcclain21 | 0.001 | 0.001 | 0.001 | |
dt2mat | 0.008 | 0.002 | 0.009 | |
enrichment | 3.067 | 0.162 | 3.851 | |
entrezg_to_symbol | 0.001 | 0.001 | 0.002 | |
explore_transformations | 8.642 | 0.128 | 10.998 | |
extract_coef_features | 12.702 | 0.328 | 16.484 | |
extract_rectangle | 0.292 | 0.071 | 0.457 | |
fdata | 1.375 | 0.033 | 1.747 | |
fdr2p | 2.387 | 0.083 | 3.165 | |
filter_exprs_replicated_in_some_subgroup | 2.594 | 0.097 | 3.395 | |
filter_features | 1.404 | 0.082 | 1.906 | |
filter_medoid | 1.985 | 0.045 | 2.572 | |
filter_samples | 1.434 | 0.098 | 2.046 | |
fit | 30.291 | 0.425 | 38.370 | |
fit_lmx | 10.956 | 0.167 | 14.059 | |
fitcoefs | 2.028 | 0.091 | 2.839 | |
fits | 1.925 | 0.081 | 2.557 | |
fitvars | 2.751 | 0.102 | 3.603 | |
fix_xlgenes | 0.004 | 0.001 | 0.006 | |
flevels | 0.997 | 0.014 | 1.262 | |
fnames | 1.132 | 0.015 | 1.449 | |
formula2str | 0.000 | 0.000 | 0.001 | |
fvalues | 1.035 | 0.014 | 1.291 | |
fvars | 1.039 | 0.015 | 1.358 | |
genome_to_orgdb | 0.001 | 0.001 | 0.002 | |
group_by_level | 0.002 | 0.002 | 0.004 | |
guess_fitsep | 1.221 | 0.015 | 1.576 | |
guess_maxquant_quantity | 0.011 | 0.003 | 0.016 | |
guess_sep | 1.337 | 0.084 | 1.868 | |
has_multiple_levels | 0.133 | 0.007 | 0.179 | |
hdlproteins | 0.084 | 0.073 | 0.213 | |
impute | 7.546 | 0.087 | 9.673 | |
invert_subgroups | 1.680 | 0.018 | 2.158 | |
is_collapsed_subset | 0.001 | 0.001 | 0.002 | |
is_diann_report | 0.373 | 0.076 | 0.664 | |
is_fastadt | 0.149 | 0.003 | 0.198 | |
is_file | 0.001 | 0.001 | 0.002 | |
is_fraction | 0.003 | 0.001 | 0.006 | |
is_imputed | 1.866 | 0.021 | 2.370 | |
is_positive_number | 0.003 | 0.001 | 0.004 | |
is_scalar_subset | 0.867 | 0.014 | 1.104 | |
is_sig | 3.058 | 0.035 | 3.888 | |
is_valid_formula | 0.108 | 0.004 | 0.140 | |
keep_connected_blocks | 1.392 | 0.078 | 1.871 | |
keep_connected_features | 1.845 | 0.082 | 2.426 | |
keep_replicated_features | 2.138 | 0.082 | 2.768 | |
label2index | 0.002 | 0.001 | 0.002 | |
list2mat | 0.001 | 0.001 | 0.003 | |
log2counts | 1.020 | 0.008 | 1.272 | |
log2cpm | 1.013 | 0.008 | 1.269 | |
log2diffs | 0.838 | 0.012 | 1.066 | |
log2proteins | 0.836 | 0.014 | 1.074 | |
log2sites | 0.942 | 0.014 | 1.210 | |
log2tpm | 1.021 | 0.008 | 1.298 | |
log2transform | 8.922 | 0.095 | 11.470 | |
logical2factor | 0.003 | 0.001 | 0.004 | |
make_alpha_palette | 1.401 | 0.077 | 1.853 | |
make_colors | 0.017 | 0.002 | 0.024 | |
make_volcano_dt | 2.210 | 0.024 | 2.775 | |
map_fvalues | 0.995 | 0.017 | 1.264 | |
matrix2sumexp | 2.445 | 0.087 | 3.179 | |
merge_sample_file | 1.176 | 0.022 | 1.490 | |
merge_sdata | 1.479 | 0.117 | 1.991 | |
message_df | 0.005 | 0.001 | 0.005 | |
modelvar | 4.171 | 0.100 | 5.370 | |
order_on_p | 2.386 | 0.081 | 3.113 | |
pca | 7.338 | 0.122 | 9.472 | |
pg_to_canonical | 0.014 | 0.001 | 0.021 | |
plot_contrast_venn | 4.743 | 0.096 | 6.098 | |
plot_contrastogram | 5.780 | 0.251 | 7.605 | |
plot_data | 3.151 | 0.093 | 4.084 | |
plot_densities | 20.829 | 0.438 | 26.637 | |
plot_design | 1.580 | 0.018 | 1.993 | |
plot_exprs | 53.075 | 0.400 | 67.022 | |
plot_exprs_per_coef | 49.838 | 0.394 | 63.341 | |
plot_fit_summary | 4.643 | 0.106 | 5.753 | |
plot_heatmap | 4.520 | 0.084 | 5.542 | |
plot_matrix | 1.320 | 0.073 | 1.688 | |
plot_sample_nas | 15.141 | 0.102 | 18.802 | |
plot_subgroup_points | 11.352 | 0.136 | 14.445 | |
plot_summary | 30.950 | 0.227 | 37.736 | |
plot_venn | 0.026 | 0.002 | 0.031 | |
plot_venn_heatmap | 0.077 | 0.007 | 0.099 | |
plot_violins | 9.281 | 0.135 | 11.134 | |
plot_volcano | 24.169 | 0.219 | 29.638 | |
preprocess_rnaseq_counts | 0.921 | 0.008 | 1.079 | |
pull_columns | 0.005 | 0.001 | 0.006 | |
read_affymetrix | 0.000 | 0.001 | 0.002 | |
read_contaminants | 0.041 | 0.006 | 1.313 | |
read_diann_proteingroups | 227.860 | 3.152 | 283.038 | |
read_fragpipe | 14.522 | 0.262 | 18.248 | |
read_maxquant_phosphosites | 3.645 | 0.042 | 4.449 | |
read_maxquant_proteingroups | 3.110 | 0.035 | 3.815 | |
read_metabolon | 30.690 | 0.399 | 37.866 | |
read_msigdt | 0.002 | 0.001 | 0.002 | |
read_olink | 2.863 | 0.099 | 3.735 | |
read_rectangles | 0.401 | 0.037 | 0.528 | |
read_rnaseq_counts | 62.819 | 3.065 | 79.750 | |
read_salmon | 0.000 | 0.001 | 0.001 | |
read_somascan | 31.732 | 0.266 | 41.364 | |
read_uniprotdt | 0.573 | 0.053 | 0.771 | |
reset_fit | 10.463 | 0.149 | 12.796 | |
rm_diann_contaminants | 47.833 | 0.706 | 59.372 | |
rm_missing_in_some_samples | 1.295 | 0.086 | 1.621 | |
rm_unmatched_samples | 1.520 | 0.066 | 1.918 | |
scaledlibsizes | 0.970 | 0.009 | 1.185 | |
scoremat | 2.556 | 0.101 | 3.144 | |
slevels | 1.027 | 0.014 | 1.196 | |
snames | 0.994 | 0.013 | 1.177 | |
split_extract_fixed | 1.299 | 0.074 | 1.584 | |
split_samples | 3.063 | 0.110 | 3.707 | |
stri_any_regex | 0.000 | 0.001 | 0.002 | |
stri_detect_fixed_in_collapsed | 0.847 | 0.011 | 1.037 | |
subgroup_matrix | 1.332 | 0.081 | 1.632 | |
subtract_baseline | 10.904 | 0.277 | 13.621 | |
sumexp_to_longdt | 4.612 | 0.183 | 6.144 | |
sumexp_to_tsv | 1.246 | 0.017 | 1.521 | |
sumexplist_to_longdt | 3.810 | 0.048 | 4.693 | |
summarize_fit | 3.793 | 0.100 | 4.780 | |
svalues | 1.000 | 0.013 | 1.238 | |
svars | 1.055 | 0.015 | 1.344 | |
systematic_nas | 1.342 | 0.018 | 1.619 | |
tag_features | 2.239 | 0.065 | 2.749 | |
tag_hdlproteins | 1.310 | 0.097 | 1.697 | |
taxon2org | 0.001 | 0.000 | 0.002 | |
tpm | 0.978 | 0.010 | 1.184 | |
uncollapse | 0.021 | 0.003 | 0.032 | |
values | 1.042 | 0.022 | 1.256 | |
varlevels_dont_clash | 0.035 | 0.002 | 0.049 | |
venn_detects | 1.358 | 0.018 | 1.616 | |
weights | 1.075 | 0.011 | 1.302 | |
write_xl | 1.785 | 0.088 | 2.646 | |
zero_to_na | 0.004 | 0.002 | 0.020 | |