Back to Multiple platform build/check report for BioC 3.19: simplified long |
|
This page was generated on 2024-06-25 17:41 -0400 (Tue, 25 Jun 2024).
Hostname | OS | Arch (*) | R version | Installed pkgs |
---|---|---|---|---|
nebbiolo1 | Linux (Ubuntu 22.04.3 LTS) | x86_64 | 4.4.0 (2024-04-24) -- "Puppy Cup" | 4760 |
palomino3 | Windows Server 2022 Datacenter | x64 | 4.4.0 (2024-04-24 ucrt) -- "Puppy Cup" | 4494 |
merida1 | macOS 12.7.4 Monterey | x86_64 | 4.4.0 (2024-04-24) -- "Puppy Cup" | 4508 |
kjohnson1 | macOS 13.6.6 Ventura | arm64 | 4.4.0 (2024-04-24) -- "Puppy Cup" | 4466 |
Click on any hostname to see more info about the system (e.g. compilers) (*) as reported by 'uname -p', except on Windows and Mac OS X |
Package 148/2300 | Hostname | OS / Arch | INSTALL | BUILD | CHECK | BUILD BIN | ||||||||
beadarray 2.54.0 (landing page) Mark Dunning
| nebbiolo1 | Linux (Ubuntu 22.04.3 LTS) / x86_64 | OK | OK | OK | |||||||||
palomino3 | Windows Server 2022 Datacenter / x64 | OK | OK | OK | OK | |||||||||
merida1 | macOS 12.7.4 Monterey / x86_64 | OK | OK | OK | OK | |||||||||
kjohnson1 | macOS 13.6.6 Ventura / arm64 | OK | OK | OK | OK | |||||||||
To the developers/maintainers of the beadarray package: - Allow up to 24 hours (and sometimes 48 hours) for your latest push to git@git.bioconductor.org:packages/beadarray.git to reflect on this report. See Troubleshooting Build Report for more information. - Use the following Renviron settings to reproduce errors and warnings. - If 'R CMD check' started to fail recently on the Linux builder(s) over a missing dependency, add the missing dependency to 'Suggests:' in your DESCRIPTION file. See Renviron.bioc for more information. |
Package: beadarray |
Version: 2.54.0 |
Command: /Library/Frameworks/R.framework/Resources/bin/R CMD check --install=check:beadarray.install-out.txt --library=/Library/Frameworks/R.framework/Resources/library --no-vignettes --timings beadarray_2.54.0.tar.gz |
StartedAt: 2024-06-24 00:47:53 -0400 (Mon, 24 Jun 2024) |
EndedAt: 2024-06-24 01:01:23 -0400 (Mon, 24 Jun 2024) |
EllapsedTime: 810.2 seconds |
RetCode: 0 |
Status: OK |
CheckDir: beadarray.Rcheck |
Warnings: 0 |
############################################################################## ############################################################################## ### ### Running command: ### ### /Library/Frameworks/R.framework/Resources/bin/R CMD check --install=check:beadarray.install-out.txt --library=/Library/Frameworks/R.framework/Resources/library --no-vignettes --timings beadarray_2.54.0.tar.gz ### ############################################################################## ############################################################################## * using log directory ‘/Users/biocbuild/bbs-3.19-bioc/meat/beadarray.Rcheck’ * using R version 4.4.0 (2024-04-24) * using platform: x86_64-apple-darwin20 * R was compiled by Apple clang version 14.0.0 (clang-1400.0.29.202) GNU Fortran (GCC) 12.2.0 * running under: macOS Monterey 12.7.4 * using session charset: UTF-8 * using option ‘--no-vignettes’ * checking for file ‘beadarray/DESCRIPTION’ ... OK * this is package ‘beadarray’ version ‘2.54.0’ * checking package namespace information ... OK * checking package dependencies ... OK * checking if this is a source package ... OK * checking if there is a namespace ... OK * checking for hidden files and directories ... OK * checking for portable file names ... OK * checking for sufficient/correct file permissions ... OK * checking whether package ‘beadarray’ can be installed ... OK * used C compiler: ‘Apple clang version 14.0.0 (clang-1400.0.29.202)’ * used SDK: ‘MacOSX11.3.sdk’ * checking installed package size ... OK * checking package directory ... OK * checking ‘build’ directory ... OK * checking DESCRIPTION meta-information ... NOTE License stub is invalid DCF. * checking top-level files ... OK * checking for left-over files ... OK * checking index information ... OK * checking package subdirectories ... OK * checking code files for non-ASCII characters ... OK * checking R files for syntax errors ... OK * checking whether the package can be loaded ... OK * checking whether the package can be loaded with stated dependencies ... OK * checking whether the package can be unloaded cleanly ... OK * checking whether the namespace can be loaded with stated dependencies ... OK * checking whether the namespace can be unloaded cleanly ... OK * checking whether startup messages can be suppressed ... OK * checking dependencies in R code ... NOTE Package in Depends field not imported from: ‘hexbin’ These packages need to be imported from (in the NAMESPACE file) for when this namespace is loaded but not attached. Unexported objects imported by ':::' calls: ‘BeadDataPackR:::combineFiles’ ‘BeadDataPackR:::readHeader’ ‘Biobase:::assayDataStorageMode’ See the note in ?`:::` about the use of this operator. * checking S3 generic/method consistency ... OK * checking replacement functions ... OK * checking foreign function calls ... NOTE Foreign function call to a different package: .Call("roundLocsFileValues", ..., PACKAGE = "BeadDataPackR") See chapter ‘System and foreign language interfaces’ in the ‘Writing R Extensions’ manual. * checking R code for possible problems ... NOTE combinedControlPlot: no visible binding for global variable ‘Negative’ createGEOMeta: no visible binding for global variable ‘metaTemplate’ expressionQCPipeline: no visible global function definition for ‘openPage’ expressionQCPipeline: no visible global function definition for ‘hwrite’ expressionQCPipeline: no visible global function definition for ‘hwriteImage’ expressionQCPipeline: no visible global function definition for ‘closePage’ getPlatformSigs: no visible global function definition for ‘lumiHumanIDMapping_dbconn’ getPlatformSigs: no visible global function definition for ‘dbListTables’ getPlatformSigs: no visible global function definition for ‘dbListFields’ getPlatformSigs: no visible global function definition for ‘dbGetQuery’ getPlatformSigs: no visible global function definition for ‘lumiMouseIDMapping_dbconn’ getPlatformSigs: no visible global function definition for ‘lumiRatIDMapping_dbconn’ imageplot: no visible binding for global variable ‘Var1’ imageplot: no visible binding for global variable ‘Var2’ imageplot: no visible binding for global variable ‘value’ makeReport: no visible binding for global variable ‘Nozzle.R1’ makeReport: no visible binding for global variable ‘ggbio’ makeReport: no visible global function definition for ‘newCustomReport’ makeReport: no visible global function definition for ‘newSection’ makeReport: no visible global function definition for ‘newTable’ makeReport: no visible global function definition for ‘newParagraph’ makeReport: no visible global function definition for ‘addTo’ makeReport: no visible global function definition for ‘autoplot’ makeReport: no visible global function definition for ‘plotIdeogram’ makeReport: no visible global function definition for ‘tracks’ makeReport: no visible global function definition for ‘newFigure’ makeReport: no visible binding for global variable ‘IMAGE.TYPE.RASTER’ makeReport: no visible binding for global variable ‘PROTECTION.PUBLIC’ makeReport: no visible binding for global variable ‘value’ makeReport: no visible global function definition for ‘writeReport’ maplots: no visible binding for global variable ‘value.1’ maplots: no visible binding for global variable ‘value’ normaliseIllumina: no visible global function definition for ‘lumiT’ normaliseIllumina: no visible global function definition for ‘normalize.qspline’ normaliseIllumina: no visible global function definition for ‘vsn2’ plotBeadLocations2: no visible global function definition for ‘qplot’ plotBeadLocations2: no visible global function definition for ‘opts’ plotBeadLocations2: no visible global function definition for ‘theme_blank’ plotProbe: no visible global function definition for ‘autoplot’ plotProbe: no visible binding for global variable ‘genesymbol’ plotProbe: no visible global function definition for ‘tracks’ plotProbe: no visible binding for global variable ‘PROBEQUALITY’ rankInvariantNormalise: no visible global function definition for ‘normalize.invariantset’ suggestAnnotation: no visible binding for global variable ‘platformSigs’ suggestAnnotation_Vector: no visible binding for global variable ‘platformSigs’ [,ExpressionSetIllumina-ANY: no visible global function definition for ‘assayDataEnvLock’ boxplot,ExpressionSetIllumina: no visible binding for global variable ‘Var2’ boxplot,ExpressionSetIllumina: no visible binding for global variable ‘value’ plotMA,ExpressionSetIllumina: no visible binding for global variable ‘value.1’ plotMA,ExpressionSetIllumina: no visible binding for global variable ‘value’ Undefined global functions or variables: IMAGE.TYPE.RASTER Negative Nozzle.R1 PROBEQUALITY PROTECTION.PUBLIC Var1 Var2 addTo assayDataEnvLock autoplot closePage dbGetQuery dbListFields dbListTables genesymbol ggbio hwrite hwriteImage lumiHumanIDMapping_dbconn lumiMouseIDMapping_dbconn lumiRatIDMapping_dbconn lumiT metaTemplate newCustomReport newFigure newParagraph newSection newTable normalize.invariantset normalize.qspline openPage opts platformSigs plotIdeogram qplot theme_blank tracks value value.1 vsn2 writeReport * checking Rd files ... NOTE checkRd: (-1) createTargetsFile.Rd:49: Lost braces 49 | code{metricsflag}: This gives the key word that can be used to identify metrics files. | ^ checkRd: (-1) readBeadSummaryData.Rd:70: Escaped LaTeX specials: \_ checkRd: (-1) readBeadSummaryData.Rd:71: Escaped LaTeX specials: \_ \_ checkRd: (-1) readBeadSummaryData.Rd:76: Escaped LaTeX specials: \_ \_ checkRd: (-1) sampleSheet.Rd:26: Escaped LaTeX specials: \_ \_ \_ \_ \_ \_ \_ \_ \_ \_ \_ \_ * checking Rd metadata ... OK * checking Rd cross-references ... OK * checking for missing documentation entries ... OK * checking for code/documentation mismatches ... OK * checking Rd \usage sections ... OK * checking Rd contents ... OK * checking for unstated dependencies in examples ... OK * checking contents of ‘data’ directory ... OK * checking data for non-ASCII characters ... OK * checking LazyData ... OK * checking data for ASCII and uncompressed saves ... OK * checking line endings in C/C++/Fortran sources/headers ... OK * checking compiled code ... NOTE Note: information on .o files is not available * checking sizes of PDF files under ‘inst/doc’ ... OK * checking files in ‘vignettes’ ... OK * checking examples ... OK Examples with CPU (user + system) or elapsed time > 5s user system elapsed squeezedVarOutlierMethod 62.157 0.920 69.524 summarize 38.756 1.814 44.761 limmaDE 37.256 0.403 43.511 normaliseIllumina 23.706 1.089 29.118 calculateDetection 20.431 0.722 24.135 outlierplot 19.156 0.447 21.462 calculateOutlierStats 18.776 0.797 22.271 controlProbeDetection 14.557 0.443 16.970 identifyControlBeads 13.675 0.248 15.611 insertSectionData 12.311 0.455 14.565 makeQCTable 11.700 0.431 13.342 poscontPlot 11.828 0.271 13.855 addFeatureData 9.590 0.498 11.494 annotationInterface 9.228 0.512 11.072 imageplot 8.746 0.263 10.214 showArrayMask 8.143 0.423 8.993 quickSummary 7.716 0.269 9.172 boxplot 6.296 0.335 7.481 maplots 5.987 0.529 7.081 combine 4.998 0.175 5.907 plotBeadIntensities 4.546 0.285 5.423 * checking for unstated dependencies in vignettes ... OK * checking package vignettes ... OK * checking running R code from vignettes ... SKIPPED * checking re-building of vignette outputs ... SKIPPED * checking PDF version of manual ... OK * DONE Status: 6 NOTEs See ‘/Users/biocbuild/bbs-3.19-bioc/meat/beadarray.Rcheck/00check.log’ for details.
beadarray.Rcheck/00install.out
############################################################################## ############################################################################## ### ### Running command: ### ### /Library/Frameworks/R.framework/Resources/bin/R CMD INSTALL beadarray ### ############################################################################## ############################################################################## * installing to library ‘/Library/Frameworks/R.framework/Versions/4.4-x86_64/Resources/library’ * installing *source* package ‘beadarray’ ... ** using staged installation ** libs using C compiler: ‘Apple clang version 14.0.0 (clang-1400.0.29.202)’ using SDK: ‘MacOSX11.3.sdk’ clang -arch x86_64 -I"/Library/Frameworks/R.framework/Resources/include" -DNDEBUG -I/opt/R/x86_64/include -fPIC -falign-functions=64 -Wall -g -O2 -c BASH.c -o BASH.o clang -arch x86_64 -I"/Library/Frameworks/R.framework/Resources/include" -DNDEBUG -I/opt/R/x86_64/include -fPIC -falign-functions=64 -Wall -g -O2 -c HULK.c -o HULK.o clang -arch x86_64 -I"/Library/Frameworks/R.framework/Resources/include" -DNDEBUG -I/opt/R/x86_64/include -fPIC -falign-functions=64 -Wall -g -O2 -c determiningGridPositions.c -o determiningGridPositions.o clang -arch x86_64 -I"/Library/Frameworks/R.framework/Resources/include" -DNDEBUG -I/opt/R/x86_64/include -fPIC -falign-functions=64 -Wall -g -O2 -c findAllOutliers.c -o findAllOutliers.o clang -arch x86_64 -I"/Library/Frameworks/R.framework/Resources/include" -DNDEBUG -I/opt/R/x86_64/include -fPIC -falign-functions=64 -Wall -g -O2 -c imageProcessing.c -o imageProcessing.o clang -arch x86_64 -dynamiclib -Wl,-headerpad_max_install_names -undefined dynamic_lookup -L/Library/Frameworks/R.framework/Resources/lib -L/opt/R/x86_64/lib -o beadarray.so BASH.o HULK.o determiningGridPositions.o findAllOutliers.o imageProcessing.o -F/Library/Frameworks/R.framework/.. -framework R -Wl,-framework -Wl,CoreFoundation installing to /Library/Frameworks/R.framework/Versions/4.4-x86_64/Resources/library/00LOCK-beadarray/00new/beadarray/libs ** R ** data *** moving datasets to lazyload DB ** inst ** byte-compile and prepare package for lazy loading ** help *** installing help indices ** building package indices ** installing vignettes ** testing if installed package can be loaded from temporary location ** checking absolute paths in shared objects and dynamic libraries ** testing if installed package can be loaded from final location ** testing if installed package keeps a record of temporary installation path * DONE (beadarray)
beadarray.Rcheck/beadarray-Ex.timings
name | user | system | elapsed | |
BASH | 0.001 | 0.002 | 0.002 | |
BASHCompact | 0.001 | 0.001 | 0.001 | |
BASHDiffuse | 0.000 | 0.000 | 0.001 | |
BASHExtended | 0.001 | 0.001 | 0.001 | |
GEO | 0.000 | 0.001 | 0.002 | |
GEOtemplate | 0.003 | 0.003 | 0.007 | |
HULK | 0.000 | 0.000 | 0.001 | |
addFeatureData | 9.590 | 0.498 | 11.494 | |
annotationInterface | 9.228 | 0.512 | 11.072 | |
backgroundCorrectSingleSection | 0.001 | 0.001 | 0.004 | |
beadarrayUsersGuide | 0.004 | 0.001 | 0.008 | |
boxplot | 6.296 | 0.335 | 7.481 | |
calculateDetection | 20.431 | 0.722 | 24.135 | |
calculateOutlierStats | 18.776 | 0.797 | 22.271 | |
class-beadLevelData | 3.543 | 0.167 | 4.170 | |
class-illuminaChannel | 0.004 | 0.001 | 0.006 | |
combine | 4.998 | 0.175 | 5.907 | |
controlProbeDetection | 14.557 | 0.443 | 16.970 | |
createTargetsFile | 0.000 | 0.000 | 0.001 | |
expressionQCPipeline | 0.033 | 0.003 | 0.041 | |
generateNeighbours | 0.001 | 0.000 | 0.001 | |
getBeadData | 2.933 | 0.087 | 3.454 | |
identifyControlBeads | 13.675 | 0.248 | 15.611 | |
illuminaOutlierMethod | 4.135 | 0.217 | 4.914 | |
imageplot | 8.746 | 0.263 | 10.214 | |
insertBeadData | 3.610 | 0.168 | 4.241 | |
insertSectionData | 12.311 | 0.455 | 14.565 | |
limmaDE | 37.256 | 0.403 | 43.511 | |
makeControlProfile | 0.592 | 0.015 | 0.678 | |
makeQCTable | 11.700 | 0.431 | 13.342 | |
maplots | 5.987 | 0.529 | 7.081 | |
medianNormalise | 2.867 | 0.239 | 3.370 | |
metrics | 2.778 | 0.068 | 3.221 | |
noOutlierMethod | 2.780 | 0.066 | 3.234 | |
normaliseIllumina | 23.706 | 1.089 | 29.118 | |
numBeads | 2.778 | 0.075 | 3.256 | |
outlierplot | 19.156 | 0.447 | 21.462 | |
plotBeadIntensities | 4.546 | 0.285 | 5.423 | |
plotBeadLocations | 2.967 | 0.091 | 3.591 | |
plotChipLayout | 0.001 | 0.000 | 0.001 | |
plotMAXY | 0.000 | 0.000 | 0.001 | |
poscontPlot | 11.828 | 0.271 | 13.855 | |
quickSummary | 7.716 | 0.269 | 9.172 | |
readBeadSummaryData | 0.000 | 0.001 | 0.001 | |
sectionNames | 2.779 | 0.070 | 3.157 | |
showArrayMask | 8.143 | 0.423 | 8.993 | |
squeezedVarOutlierMethod | 62.157 | 0.920 | 69.524 | |
summarize | 38.756 | 1.814 | 44.761 | |
transformationFunctions | 4.395 | 0.208 | 4.915 | |
weightsOutlierMethod | 0.001 | 0.001 | 0.001 | |