Back to Multiple platform build/check report for BioC 3.19: simplified long |
|
This page was generated on 2024-08-06 17:42 -0400 (Tue, 06 Aug 2024).
Hostname | OS | Arch (*) | R version | Installed pkgs |
---|---|---|---|---|
nebbiolo1 | Linux (Ubuntu 22.04.3 LTS) | x86_64 | 4.4.1 (2024-06-14) -- "Race for Your Life" | 4756 |
palomino7 | Windows Server 2022 Datacenter | x64 | 4.4.1 (2024-06-14 ucrt) -- "Race for Your Life" | 4490 |
merida1 | macOS 12.7.5 Monterey | x86_64 | 4.4.1 (2024-06-14) -- "Race for Your Life" | 4519 |
kjohnson1 | macOS 13.6.6 Ventura | arm64 | 4.4.1 (2024-06-14) -- "Race for Your Life" | 4468 |
Click on any hostname to see more info about the system (e.g. compilers) (*) as reported by 'uname -p', except on Windows and Mac OS X |
Package 510/2300 | Hostname | OS / Arch | INSTALL | BUILD | CHECK | BUILD BIN | ||||||||
dar 1.0.0 (landing page) Francesc Catala-Moll
| nebbiolo1 | Linux (Ubuntu 22.04.3 LTS) / x86_64 | OK | OK | OK | |||||||||
palomino7 | Windows Server 2022 Datacenter / x64 | OK | OK | OK | OK | |||||||||
merida1 | macOS 12.7.5 Monterey / x86_64 | OK | OK | OK | OK | |||||||||
kjohnson1 | macOS 13.6.6 Ventura / arm64 | OK | OK | OK | OK | |||||||||
To the developers/maintainers of the dar package: - Allow up to 24 hours (and sometimes 48 hours) for your latest push to git@git.bioconductor.org:packages/dar.git to reflect on this report. See Troubleshooting Build Report for more information. - Use the following Renviron settings to reproduce errors and warnings. - If 'R CMD check' started to fail recently on the Linux builder(s) over a missing dependency, add the missing dependency to 'Suggests:' in your DESCRIPTION file. See Renviron.bioc for more information. |
Package: dar |
Version: 1.0.0 |
Command: /Library/Frameworks/R.framework/Resources/bin/R CMD check --install=check:dar.install-out.txt --library=/Library/Frameworks/R.framework/Resources/library --no-vignettes --timings dar_1.0.0.tar.gz |
StartedAt: 2024-08-05 17:43:03 -0400 (Mon, 05 Aug 2024) |
EndedAt: 2024-08-05 17:56:36 -0400 (Mon, 05 Aug 2024) |
EllapsedTime: 813.4 seconds |
RetCode: 0 |
Status: OK |
CheckDir: dar.Rcheck |
Warnings: 0 |
############################################################################## ############################################################################## ### ### Running command: ### ### /Library/Frameworks/R.framework/Resources/bin/R CMD check --install=check:dar.install-out.txt --library=/Library/Frameworks/R.framework/Resources/library --no-vignettes --timings dar_1.0.0.tar.gz ### ############################################################################## ############################################################################## * using log directory ‘/Users/biocbuild/bbs-3.19-bioc/meat/dar.Rcheck’ * using R version 4.4.1 (2024-06-14) * using platform: aarch64-apple-darwin20 * R was compiled by Apple clang version 14.0.0 (clang-1400.0.29.202) GNU Fortran (GCC) 12.2.0 * running under: macOS Ventura 13.6.6 * using session charset: UTF-8 * using option ‘--no-vignettes’ * checking for file ‘dar/DESCRIPTION’ ... OK * this is package ‘dar’ version ‘1.0.0’ * package encoding: UTF-8 * checking package namespace information ... OK * checking package dependencies ... OK * checking if this is a source package ... OK * checking if there is a namespace ... OK * checking for hidden files and directories ... OK * checking for portable file names ... OK * checking for sufficient/correct file permissions ... OK * checking whether package ‘dar’ can be installed ... OK * checking installed package size ... OK * checking package directory ... OK * checking ‘build’ directory ... OK * checking DESCRIPTION meta-information ... OK * checking top-level files ... OK * checking for left-over files ... OK * checking index information ... OK * checking package subdirectories ... OK * checking code files for non-ASCII characters ... OK * checking R files for syntax errors ... OK * checking whether the package can be loaded ... OK * checking whether the package can be loaded with stated dependencies ... OK * checking whether the package can be unloaded cleanly ... OK * checking whether the namespace can be loaded with stated dependencies ... OK * checking whether the namespace can be unloaded cleanly ... OK * checking dependencies in R code ... OK * checking S3 generic/method consistency ... OK * checking replacement functions ... OK * checking foreign function calls ... OK * checking R code for possible problems ... OK * checking Rd files ... OK * checking Rd metadata ... OK * checking Rd cross-references ... OK * checking for missing documentation entries ... OK * checking for code/documentation mismatches ... OK * checking Rd \usage sections ... OK * checking Rd contents ... OK * checking for unstated dependencies in examples ... OK * checking contents of ‘data’ directory ... OK * checking data for non-ASCII characters ... OK * checking data for ASCII and uncompressed saves ... OK * checking R/sysdata.rda ... OK * checking files in ‘vignettes’ ... OK * checking examples ... OK Examples with CPU (user + system) or elapsed time > 5s user system elapsed step_aldex 19.029 2.068 21.559 step_ancom 17.395 0.706 18.251 step_deseq 7.484 0.080 7.579 step_metagenomeseq 4.063 0.090 11.222 prep 2.186 0.071 40.128 export_steps 1.816 0.167 14.527 import_steps 1.556 0.083 40.135 recipe 0.857 0.028 20.096 * checking for unstated dependencies in ‘tests’ ... OK * checking tests ... Running ‘testthat.R’ OK * checking for unstated dependencies in vignettes ... OK * checking package vignettes ... OK * checking running R code from vignettes ... SKIPPED * checking re-building of vignette outputs ... SKIPPED * checking PDF version of manual ... OK * DONE Status: OK
dar.Rcheck/00install.out
############################################################################## ############################################################################## ### ### Running command: ### ### /Library/Frameworks/R.framework/Resources/bin/R CMD INSTALL dar ### ############################################################################## ############################################################################## * installing to library ‘/Library/Frameworks/R.framework/Versions/4.4-arm64/Resources/library’ * installing *source* package ‘dar’ ... ** using staged installation ** R ** data ** inst ** byte-compile and prepare package for lazy loading ** help *** installing help indices *** copying figures ** building package indices ** installing vignettes ** testing if installed package can be loaded from temporary location ** testing if installed package can be loaded from final location ** testing if installed package keeps a record of temporary installation path * DONE (dar)
dar.Rcheck/tests/testthat.Rout
R version 4.4.1 (2024-06-14) -- "Race for Your Life" Copyright (C) 2024 The R Foundation for Statistical Computing Platform: aarch64-apple-darwin20 R is free software and comes with ABSOLUTELY NO WARRANTY. You are welcome to redistribute it under certain conditions. Type 'license()' or 'licence()' for distribution details. R is a collaborative project with many contributors. Type 'contributors()' for more information and 'citation()' on how to cite R or R packages in publications. Type 'demo()' for some demos, 'help()' for on-line help, or 'help.start()' for an HTML browser interface to help. Type 'q()' to quit R. > library(testthat) > library(dar) > > test_check("dar") Starting 2 test processes [ FAIL 0 | WARN 0 | SKIP 10 | PASS 82 ] ══ Skipped tests (10) ══════════════════════════════════════════════════════════ • On CRAN (10): 'test-roxytest-tests-bake.R:18:3', 'test-roxytest-tests-ancom.R:14:3', 'test-roxytest-tests-lefse.R:15:3', 'test-roxytest-tests-maaslin2.R:16:3', 'test-roxytest-tests-pkg_check.R:6:3', 'test-roxytest-tests-misc.R:73:3', 'test-roxytest-tests-misc.R:101:3', 'test-roxytest-tests-misc.R:108:3', 'test-roxytest-tests-read_data.R:24:3', 'test-roxytest-tests-steps_and_checks.R:7:3' [ FAIL 0 | WARN 0 | SKIP 10 | PASS 82 ] > > proc.time() user system elapsed 242.268 16.505 424.255
dar.Rcheck/dar-Ex.timings
name | user | system | elapsed | |
abundance_plt | 3.019 | 0.093 | 3.130 | |
add_tax | 0.181 | 0.007 | 0.189 | |
add_var | 0.167 | 0.007 | 0.175 | |
bake | 0.528 | 0.013 | 0.544 | |
contains_rarefaction | 0.307 | 0.014 | 0.323 | |
cool | 0.329 | 0.010 | 0.338 | |
corr_heatmap | 3.898 | 0.090 | 4.031 | |
exclusion_plt | 0.924 | 0.014 | 0.941 | |
export_steps | 1.816 | 0.167 | 14.527 | |
find_intersections | 0.192 | 0.005 | 0.213 | |
get_comparisons | 0.034 | 0.003 | 0.038 | |
get_phy | 0.028 | 0.004 | 0.031 | |
get_tax | 0.031 | 0.004 | 0.034 | |
get_var | 0.034 | 0.005 | 0.039 | |
import_steps | 1.556 | 0.083 | 40.135 | |
intersection_df | 0.187 | 0.008 | 0.195 | |
intersection_plt | 1.621 | 0.018 | 1.646 | |
mutual_plt | 2.002 | 0.026 | 2.037 | |
otu_table | 0.371 | 0.004 | 0.375 | |
overlap_df | 0.299 | 0.008 | 0.307 | |
phy_qc | 1.096 | 0.021 | 1.118 | |
prep | 2.186 | 0.071 | 40.128 | |
rand_id | 0 | 0 | 0 | |
read_data | 1.553 | 0.133 | 1.651 | |
recipe | 0.857 | 0.028 | 20.096 | |
required_deps | 0.069 | 0.009 | 0.078 | |
sample_data | 0.039 | 0.003 | 0.043 | |
step_aldex | 19.029 | 2.068 | 21.559 | |
step_ancom | 17.395 | 0.706 | 18.251 | |
step_corncob | 3.073 | 0.167 | 3.350 | |
step_deseq | 7.484 | 0.080 | 7.579 | |
step_filter_by_abundance | 0.049 | 0.011 | 0.060 | |
step_filter_by_prevalence | 0.049 | 0.009 | 0.058 | |
step_filter_by_rarity | 0.050 | 0.010 | 0.059 | |
step_filter_by_variance | 0.050 | 0.007 | 0.057 | |
step_filter_taxa | 0.049 | 0.013 | 0.062 | |
step_lefse | 0.077 | 0.011 | 0.089 | |
step_maaslin | 3.169 | 0.155 | 3.328 | |
step_metagenomeseq | 4.063 | 0.090 | 11.222 | |
step_rarefaction | 0.055 | 0.010 | 0.064 | |
step_subset_taxa | 0.047 | 0.008 | 0.054 | |
step_wilcox | 1.873 | 0.025 | 1.899 | |
steps_ids | 0.026 | 0.005 | 0.031 | |
tax_table | 0.060 | 0.006 | 0.065 | |
tidyeval | 0.017 | 0.001 | 0.017 | |
to_tibble | 0.426 | 0.006 | 0.433 | |
use_rarefy | 0.024 | 0.002 | 0.027 | |
zero_otu | 0.458 | 0.007 | 0.466 | |