Back to Multiple platform build/check report for BioC 3.20: simplified long |
|
This page was generated on 2025-02-06 12:11 -0500 (Thu, 06 Feb 2025).
Hostname | OS | Arch (*) | R version | Installed pkgs |
---|---|---|---|---|
nebbiolo2 | Linux (Ubuntu 24.04.1 LTS) | x86_64 | 4.4.2 (2024-10-31) -- "Pile of Leaves" | 4753 |
palomino8 | Windows Server 2022 Datacenter | x64 | 4.4.2 (2024-10-31 ucrt) -- "Pile of Leaves" | 4501 |
merida1 | macOS 12.7.5 Monterey | x86_64 | 4.4.2 (2024-10-31) -- "Pile of Leaves" | 4524 |
kjohnson1 | macOS 13.6.6 Ventura | arm64 | 4.4.2 (2024-10-31) -- "Pile of Leaves" | 4476 |
taishan | Linux (openEuler 24.03 LTS) | aarch64 | 4.4.2 (2024-10-31) -- "Pile of Leaves" | 4407 |
Click on any hostname to see more info about the system (e.g. compilers) (*) as reported by 'uname -p', except on Windows and Mac OS X |
Package 969/2289 | Hostname | OS / Arch | INSTALL | BUILD | CHECK | BUILD BIN | ||||||||
hiReadsProcessor 1.42.0 (landing page) Nirav V Malani
| nebbiolo2 | Linux (Ubuntu 24.04.1 LTS) / x86_64 | OK | OK | OK | ![]() | ||||||||
palomino8 | Windows Server 2022 Datacenter / x64 | ... NOT SUPPORTED ... | ||||||||||||
merida1 | macOS 12.7.5 Monterey / x86_64 | OK | OK | OK | OK | ![]() | ||||||||
kjohnson1 | macOS 13.6.6 Ventura / arm64 | OK | OK | OK | OK | ![]() | ||||||||
taishan | Linux (openEuler 24.03 LTS) / aarch64 | OK | OK | OK | ||||||||||
To the developers/maintainers of the hiReadsProcessor package: - Allow up to 24 hours (and sometimes 48 hours) for your latest push to git@git.bioconductor.org:packages/hiReadsProcessor.git to reflect on this report. See Troubleshooting Build Report for more information. - Use the following Renviron settings to reproduce errors and warnings. - If 'R CMD check' started to fail recently on the Linux builder(s) over a missing dependency, add the missing dependency to 'Suggests:' in your DESCRIPTION file. See Renviron.bioc for more information. - See Martin Grigorov's blog post for how to debug Linux ARM64 related issues on a x86_64 host. |
Package: hiReadsProcessor |
Version: 1.42.0 |
Command: /home/biocbuild/R/R/bin/R CMD check --install=check:hiReadsProcessor.install-out.txt --library=/home/biocbuild/R/R/site-library --no-vignettes --timings hiReadsProcessor_1.42.0.tar.gz |
StartedAt: 2025-02-04 07:51:46 -0000 (Tue, 04 Feb 2025) |
EndedAt: 2025-02-04 07:57:42 -0000 (Tue, 04 Feb 2025) |
EllapsedTime: 356.3 seconds |
RetCode: 0 |
Status: OK |
CheckDir: hiReadsProcessor.Rcheck |
Warnings: 0 |
############################################################################## ############################################################################## ### ### Running command: ### ### /home/biocbuild/R/R/bin/R CMD check --install=check:hiReadsProcessor.install-out.txt --library=/home/biocbuild/R/R/site-library --no-vignettes --timings hiReadsProcessor_1.42.0.tar.gz ### ############################################################################## ############################################################################## * using log directory ‘/home/biocbuild/bbs-3.20-bioc/meat/hiReadsProcessor.Rcheck’ * using R version 4.4.2 (2024-10-31) * using platform: aarch64-unknown-linux-gnu * R was compiled by aarch64-unknown-linux-gnu-gcc (GCC) 14.2.0 GNU Fortran (GCC) 12.3.1 (openEuler 12.3.1-36.oe2403) * running under: openEuler 24.03 (LTS) * using session charset: UTF-8 * using option ‘--no-vignettes’ * checking for file ‘hiReadsProcessor/DESCRIPTION’ ... OK * this is package ‘hiReadsProcessor’ version ‘1.42.0’ * checking package namespace information ... OK * checking package dependencies ... OK * checking if this is a source package ... OK * checking if there is a namespace ... OK * checking for hidden files and directories ... NOTE Found the following hidden files and directories: .BBSoptions These were most likely included in error. See section ‘Package structure’ in the ‘Writing R Extensions’ manual. * checking for portable file names ... OK * checking for sufficient/correct file permissions ... OK * checking whether package ‘hiReadsProcessor’ can be installed ... OK * checking installed package size ... OK * checking package directory ... OK * checking ‘build’ directory ... OK * checking DESCRIPTION meta-information ... OK * checking top-level files ... OK * checking for left-over files ... OK * checking index information ... OK * checking package subdirectories ... OK * checking code files for non-ASCII characters ... OK * checking R files for syntax errors ... OK * checking whether the package can be loaded ... OK * checking whether the package can be loaded with stated dependencies ... OK * checking whether the package can be unloaded cleanly ... OK * checking whether the namespace can be loaded with stated dependencies ... OK * checking whether the namespace can be unloaded cleanly ... OK * checking loading without being on the library search path ... OK * checking dependencies in R code ... OK * checking S3 generic/method consistency ... OK * checking replacement functions ... OK * checking foreign function calls ... OK * checking R code for possible problems ... NOTE chunkize: no visible global function definition for ‘breakInChunks’ chunkize: no visible global function definition for ‘detectCores’ clusterSites : <anonymous>: no visible binding for global variable ‘queryHits’ clusterSites: no visible binding for global variable ‘clusteredValue’ clusterSites: no visible binding for global variable ‘clusteredValue.freq’ crossOverCheck: no visible binding for global variable ‘queryHits’ decodeByBarcode: no visible global function definition for ‘metadata<-’ decodeByBarcode: no visible global function definition for ‘metadata’ extractSeqs : <anonymous>: no visible global function definition for ‘metadata’ extractSeqs : <anonymous> : <anonymous> : <anonymous>: no visible global function definition for ‘IRanges’ extractSeqs : <anonymous> : <anonymous>: no visible global function definition for ‘IRanges’ findBarcodes: no visible global function definition for ‘metadata<-’ findBarcodes: no visible global function definition for ‘metadata’ findIntegrations: no visible global function definition for ‘fasta.info’ findIntegrations : <anonymous>: no visible global function definition for ‘IRanges’ findVector : <anonymous>: no visible global function definition for ‘IRanges’ pairUpAlignments : <anonymous>: no visible binding for global variable ‘queryHits’ pairwiseAlignSeqs: no visible global function definition for ‘IRangesList’ pairwiseAlignSeqs: no visible global function definition for ‘IRanges’ primerIDAlignSeqs: no visible global function definition for ‘IRanges’ primerIDAlignSeqs: no visible global function definition for ‘IRangesList’ pslToRangedObject: no visible global function definition for ‘IRanges’ read.BAMasPSL: no visible global function definition for ‘ScanBamParam’ read.BAMasPSL: no visible global function definition for ‘scanBamFlag’ read.BAMasPSL: no visible global function definition for ‘DataFrame’ read.SeqFolder: no visible global function definition for ‘SimpleList’ read.psl: no visible global function definition for ‘mclapply’ read.psl : <anonymous>: no visible binding for global variable ‘matches’ read.psl : <anonymous>: no visible binding for global variable ‘misMatches’ read.psl : <anonymous>: no visible binding for global variable ‘qBaseInsert’ read.psl : <anonymous>: no visible binding for global variable ‘tBaseInsert’ read.psl: no visible binding for global variable ‘matches’ read.psl: no visible binding for global variable ‘misMatches’ read.psl: no visible binding for global variable ‘qBaseInsert’ read.psl: no visible binding for global variable ‘tBaseInsert’ read.sampleInfo: no visible global function definition for ‘SimpleList’ splitSeqsToFiles: no visible global function definition for ‘fasta.info’ vpairwiseAlignSeqs: no visible global function definition for ‘Rle’ vpairwiseAlignSeqs: no visible global function definition for ‘runLength’ vpairwiseAlignSeqs: no visible global function definition for ‘IRanges’ vpairwiseAlignSeqs: no visible global function definition for ‘runValue’ Undefined global functions or variables: DataFrame IRanges IRangesList Rle ScanBamParam SimpleList breakInChunks clusteredValue clusteredValue.freq detectCores fasta.info matches mclapply metadata metadata<- misMatches qBaseInsert queryHits runLength runValue scanBamFlag tBaseInsert * checking Rd files ... OK * checking Rd metadata ... OK * checking Rd cross-references ... OK * checking for missing documentation entries ... OK * checking for code/documentation mismatches ... OK * checking Rd \usage sections ... OK * checking Rd contents ... OK * checking for unstated dependencies in examples ... OK * checking contents of ‘data’ directory ... OK * checking data for non-ASCII characters ... OK * checking data for ASCII and uncompressed saves ... OK * checking files in ‘vignettes’ ... OK * checking examples ... OK * checking for unstated dependencies in vignettes ... OK * checking package vignettes ... OK * checking running R code from vignettes ... SKIPPED * checking re-building of vignette outputs ... SKIPPED * checking PDF version of manual ... OK * DONE Status: 2 NOTEs See ‘/home/biocbuild/bbs-3.20-bioc/meat/hiReadsProcessor.Rcheck/00check.log’ for details.
hiReadsProcessor.Rcheck/00install.out
############################################################################## ############################################################################## ### ### Running command: ### ### /home/biocbuild/R/R/bin/R CMD INSTALL hiReadsProcessor ### ############################################################################## ############################################################################## * installing to library ‘/home/biocbuild/R/R-4.4.2/site-library’ * installing *source* package ‘hiReadsProcessor’ ... ** using staged installation ** R ** data ** inst ** byte-compile and prepare package for lazy loading ** help *** installing help indices ** building package indices ** installing vignettes ** testing if installed package can be loaded from temporary location ** testing if installed package can be loaded from final location ** testing if installed package keeps a record of temporary installation path * DONE (hiReadsProcessor)
hiReadsProcessor.Rcheck/hiReadsProcessor-Ex.timings
name | user | system | elapsed | |
addFeature | 0.206 | 0.006 | 0.213 | |
addListNameToReads | 0.313 | 0.024 | 0.337 | |
annotateSites | 0 | 0 | 0 | |
blatSeqs | 0 | 0 | 0 | |
chunkize | 0.028 | 0.012 | 0.040 | |
clusterSites | 0.372 | 0.031 | 0.405 | |
crossOverCheck | 0.120 | 0.008 | 0.129 | |
dereplicateReads | 0.076 | 0.004 | 0.080 | |
doRCtest | 2.736 | 0.056 | 2.811 | |
extractFeature | 0.147 | 0.109 | 0.138 | |
extractSeqs | 0.475 | 0.032 | 0.508 | |
findAndTrimSeq | 1.013 | 0.248 | 1.262 | |
findBarcodes | 0.678 | 0.000 | 0.679 | |
findIntegrations | 0 | 0 | 0 | |
findLTRs | 0 | 0 | 0 | |
findLinkers | 0 | 0 | 0 | |
findPrimers | 0 | 0 | 0 | |
findVector | 0 | 0 | 0 | |
getIntegrationSites | 1.662 | 0.000 | 1.665 | |
getSectorsForSamples | 0.082 | 0.004 | 0.087 | |
getSonicAbund | 0.435 | 0.168 | 0.561 | |
isuSites | 3.290 | 0.287 | 3.583 | |
otuSites | 3.741 | 0.156 | 3.903 | |
pairUpAlignments | 0 | 0 | 0 | |
pairwiseAlignSeqs | 1.919 | 1.191 | 2.873 | |
primerIDAlignSeqs | 2.474 | 0.850 | 3.215 | |
pslCols | 0 | 0 | 0 | |
pslToRangedObject | 0.227 | 0.000 | 0.227 | |
read.BAMasPSL | 0 | 0 | 0 | |
read.SeqFolder | 1.244 | 0.028 | 1.282 | |
read.blast8 | 0 | 0 | 0 | |
read.psl | 0 | 0 | 0 | |
read.sampleInfo | 1.259 | 0.040 | 1.309 | |
read.seqsFromSector | 0 | 0 | 0 | |
removeReadsWithNs | 0.026 | 0.000 | 0.025 | |
replicateReads | 0.059 | 0.000 | 0.059 | |
sampleSummary | 0.837 | 0.048 | 0.886 | |
splitByBarcode | 0.037 | 0.000 | 0.037 | |
splitSeqsToFiles | 0.182 | 0.000 | 0.183 | |
startgfServer | 0 | 0 | 0 | |
trimSeqs | 0.034 | 0.004 | 0.038 | |
vpairwiseAlignSeqs | 1.657 | 1.095 | 2.543 | |
write.listedDNAStringSet | 0.000 | 0.000 | 0.001 | |
write.psl | 0.021 | 0.000 | 0.022 | |