Back to Multiple platform build/check report for BioC 3.20:   simplified   long
ABCDEFGHIJKL[M]NOPQRSTUVWXYZ

This page was generated on 2025-02-06 12:10 -0500 (Thu, 06 Feb 2025).

HostnameOSArch (*)R versionInstalled pkgs
nebbiolo2Linux (Ubuntu 24.04.1 LTS)x86_644.4.2 (2024-10-31) -- "Pile of Leaves" 4753
palomino8Windows Server 2022 Datacenterx644.4.2 (2024-10-31 ucrt) -- "Pile of Leaves" 4501
merida1macOS 12.7.5 Montereyx86_644.4.2 (2024-10-31) -- "Pile of Leaves" 4524
kjohnson1macOS 13.6.6 Venturaarm644.4.2 (2024-10-31) -- "Pile of Leaves" 4476
taishanLinux (openEuler 24.03 LTS)aarch644.4.2 (2024-10-31) -- "Pile of Leaves" 4407
Click on any hostname to see more info about the system (e.g. compilers)      (*) as reported by 'uname -p', except on Windows and Mac OS X

Package 1155/2289HostnameOS / ArchINSTALLBUILDCHECKBUILD BIN
maSigPro 1.78.0  (landing page)
Maria Jose Nueda
Snapshot Date: 2025-02-03 13:00 -0500 (Mon, 03 Feb 2025)
git_url: https://git.bioconductor.org/packages/maSigPro
git_branch: RELEASE_3_20
git_last_commit: fe4032a
git_last_commit_date: 2024-10-29 09:25:15 -0500 (Tue, 29 Oct 2024)
nebbiolo2Linux (Ubuntu 24.04.1 LTS) / x86_64  OK    OK    OK  UNNEEDED, same version is already published
palomino8Windows Server 2022 Datacenter / x64  OK    OK    OK    OK  UNNEEDED, same version is already published
merida1macOS 12.7.5 Monterey / x86_64  OK    OK    OK    OK  UNNEEDED, same version is already published
kjohnson1macOS 13.6.6 Ventura / arm64  OK    OK    OK    OK  UNNEEDED, same version is already published
taishanLinux (openEuler 24.03 LTS) / aarch64  OK    OK    OK  


CHECK results for maSigPro on kjohnson1

To the developers/maintainers of the maSigPro package:
- Allow up to 24 hours (and sometimes 48 hours) for your latest push to git@git.bioconductor.org:packages/maSigPro.git to reflect on this report. See Troubleshooting Build Report for more information.
- Use the following Renviron settings to reproduce errors and warnings.
- If 'R CMD check' started to fail recently on the Linux builder(s) over a missing dependency, add the missing dependency to 'Suggests:' in your DESCRIPTION file. See Renviron.bioc for more information.

raw results


Summary

Package: maSigPro
Version: 1.78.0
Command: /Library/Frameworks/R.framework/Resources/bin/R CMD check --install=check:maSigPro.install-out.txt --library=/Library/Frameworks/R.framework/Resources/library --no-vignettes --timings maSigPro_1.78.0.tar.gz
StartedAt: 2025-02-05 00:35:56 -0500 (Wed, 05 Feb 2025)
EndedAt: 2025-02-05 00:38:37 -0500 (Wed, 05 Feb 2025)
EllapsedTime: 160.9 seconds
RetCode: 0
Status:   OK  
CheckDir: maSigPro.Rcheck
Warnings: 0

Command output

##############################################################################
##############################################################################
###
### Running command:
###
###   /Library/Frameworks/R.framework/Resources/bin/R CMD check --install=check:maSigPro.install-out.txt --library=/Library/Frameworks/R.framework/Resources/library --no-vignettes --timings maSigPro_1.78.0.tar.gz
###
##############################################################################
##############################################################################


* using log directory ‘/Users/biocbuild/bbs-3.20-bioc/meat/maSigPro.Rcheck’
* using R version 4.4.2 (2024-10-31)
* using platform: aarch64-apple-darwin20
* R was compiled by
    Apple clang version 14.0.0 (clang-1400.0.29.202)
    GNU Fortran (GCC) 12.2.0
* running under: macOS Ventura 13.7.1
* using session charset: UTF-8
* using option ‘--no-vignettes’
* checking for file ‘maSigPro/DESCRIPTION’ ... OK
* checking extension type ... Package
* this is package ‘maSigPro’ version ‘1.78.0’
* checking package namespace information ... OK
* checking package dependencies ... OK
* checking if this is a source package ... OK
* checking if there is a namespace ... OK
* checking for hidden files and directories ... OK
* checking for portable file names ... OK
* checking for sufficient/correct file permissions ... OK
* checking whether package ‘maSigPro’ can be installed ... OK
* checking installed package size ... OK
* checking package directory ... OK
* checking ‘build’ directory ... OK
* checking DESCRIPTION meta-information ... OK
* checking top-level files ... OK
* checking for left-over files ... OK
* checking index information ... OK
* checking package subdirectories ... OK
* checking code files for non-ASCII characters ... OK
* checking R files for syntax errors ... OK
* checking whether the package can be loaded ... OK
* checking whether the package can be loaded with stated dependencies ... OK
* checking whether the package can be unloaded cleanly ... OK
* checking whether the namespace can be loaded with stated dependencies ... OK
* checking whether the namespace can be unloaded cleanly ... OK
* checking dependencies in R code ... OK
* checking S3 generic/method consistency ... OK
* checking replacement functions ... OK
* checking foreign function calls ... OK
* checking R code for possible problems ... OK
* checking Rd files ... OK
* checking Rd metadata ... OK
* checking Rd cross-references ... OK
* checking for missing documentation entries ... OK
* checking for code/documentation mismatches ... OK
* checking Rd \usage sections ... OK
* checking Rd contents ... OK
* checking for unstated dependencies in examples ... OK
* checking contents of ‘data’ directory ... OK
* checking data for non-ASCII characters ... OK
* checking data for ASCII and uncompressed saves ... OK
* checking sizes of PDF files under ‘inst/doc’ ... OK
* checking installed files from ‘inst/doc’ ... OK
* checking files in ‘vignettes’ ... OK
* checking examples ... OK
Examples with CPU (user + system) or elapsed time > 5s
                user system elapsed
getDS         12.044  0.279  12.508
IsoModel      11.888  0.280  12.201
getDSPatterns 11.883  0.281  12.172
ISOdesign     11.666  0.348  12.065
seeDS         11.722  0.262  12.033
PodiumChange  11.535  0.239  11.928
tableDS       11.344  0.225  11.662
IsoPlot       11.200  0.333  11.613
ISOdata       11.032  0.305  11.447
T.fit          5.053  0.046   5.174
* checking for unstated dependencies in vignettes ... OK
* checking package vignettes ... OK
* checking running R code from vignettes ... SKIPPED
* checking re-building of vignette outputs ... SKIPPED
* checking PDF version of manual ... OK
* DONE

Status: OK


Installation output

maSigPro.Rcheck/00install.out

##############################################################################
##############################################################################
###
### Running command:
###
###   /Library/Frameworks/R.framework/Resources/bin/R CMD INSTALL maSigPro
###
##############################################################################
##############################################################################


* installing to library ‘/Library/Frameworks/R.framework/Versions/4.4-arm64/Resources/library’
* installing *source* package ‘maSigPro’ ...
** using staged installation
** R
** data
** inst
** byte-compile and prepare package for lazy loading
** help
*** installing help indices
** building package indices
** installing vignettes
** testing if installed package can be loaded from temporary location
** testing if installed package can be loaded from final location
** testing if installed package keeps a record of temporary installation path
* DONE (maSigPro)

Tests output


Example timings

maSigPro.Rcheck/maSigPro-Ex.timings

nameusersystemelapsed
ISOdata11.032 0.30511.447
ISOdesign11.666 0.34812.065
IsoModel11.888 0.28012.201
IsoPlot11.200 0.33311.613
NBdata0.0010.0010.003
NBdesign0.0010.0010.002
PlotGroups0.0320.0030.038
PlotProfiles0.0040.0000.007
PodiumChange11.535 0.23911.928
T.fit5.0530.0465.174
average.rows0.0020.0000.002
data.abiotic0.0060.0030.009
edesign.abiotic0.0020.0020.004
edesignCT0.0000.0020.002
edesignDR0.0000.0010.002
get.siggenes2.3850.0262.435
getDS12.044 0.27912.508
getDSPatterns11.883 0.28112.172
i.rank0.0000.0000.001
maSigProUsersGuide0.0040.0080.013
make.design.matrix0.0050.0090.014
p.vector1.4120.0221.440
position0.0010.0000.000
reg.coeffs000
see.genes0.5420.0240.567
seeDS11.722 0.26212.033
stepback0.0200.0010.021
stepfor0.0810.0010.082
suma2Venn0.0220.0020.025
tableDS11.344 0.22511.662
two.ways.stepback0.0710.0010.072
two.ways.stepfor0.0880.0020.090