Back to Multiple platform build/check report for BioC 3.19: simplified long |
|
This page was generated on 2024-07-09 17:43 -0400 (Tue, 09 Jul 2024).
Hostname | OS | Arch (*) | R version | Installed pkgs |
---|---|---|---|---|
nebbiolo1 | Linux (Ubuntu 22.04.3 LTS) | x86_64 | 4.4.1 (2024-06-14) -- "Race for Your Life" | 4709 |
palomino7 | Windows Server 2022 Datacenter | x64 | 4.4.1 (2024-06-14 ucrt) -- "Race for Your Life" | 4483 |
merida1 | macOS 12.7.4 Monterey | x86_64 | 4.4.1 (2024-06-14) -- "Race for Your Life" | 4512 |
kjohnson1 | macOS 13.6.6 Ventura | arm64 | 4.4.1 (2024-06-14) -- "Race for Your Life" | 4461 |
Click on any hostname to see more info about the system (e.g. compilers) (*) as reported by 'uname -p', except on Windows and Mac OS X |
Package 1299/2300 | Hostname | OS / Arch | INSTALL | BUILD | CHECK | BUILD BIN | ||||||||
mixOmics 6.28.0 (landing page) Max Bladen
| nebbiolo1 | Linux (Ubuntu 22.04.3 LTS) / x86_64 | OK | OK | OK | |||||||||
palomino7 | Windows Server 2022 Datacenter / x64 | OK | OK | OK | OK | |||||||||
merida1 | macOS 12.7.4 Monterey / x86_64 | OK | OK | OK | OK | |||||||||
kjohnson1 | macOS 13.6.6 Ventura / arm64 | OK | OK | OK | OK | |||||||||
To the developers/maintainers of the mixOmics package: - Allow up to 24 hours (and sometimes 48 hours) for your latest push to git@git.bioconductor.org:packages/mixOmics.git to reflect on this report. See Troubleshooting Build Report for more information. - Use the following Renviron settings to reproduce errors and warnings. - If 'R CMD check' started to fail recently on the Linux builder(s) over a missing dependency, add the missing dependency to 'Suggests:' in your DESCRIPTION file. See Renviron.bioc for more information. |
Package: mixOmics |
Version: 6.28.0 |
Command: /Library/Frameworks/R.framework/Resources/bin/R CMD check --install=check:mixOmics.install-out.txt --library=/Library/Frameworks/R.framework/Resources/library --no-vignettes --timings mixOmics_6.28.0.tar.gz |
StartedAt: 2024-07-09 02:01:52 -0400 (Tue, 09 Jul 2024) |
EndedAt: 2024-07-09 02:08:02 -0400 (Tue, 09 Jul 2024) |
EllapsedTime: 369.5 seconds |
RetCode: 0 |
Status: OK |
CheckDir: mixOmics.Rcheck |
Warnings: 0 |
############################################################################## ############################################################################## ### ### Running command: ### ### /Library/Frameworks/R.framework/Resources/bin/R CMD check --install=check:mixOmics.install-out.txt --library=/Library/Frameworks/R.framework/Resources/library --no-vignettes --timings mixOmics_6.28.0.tar.gz ### ############################################################################## ############################################################################## * using log directory ‘/Users/biocbuild/bbs-3.19-bioc/meat/mixOmics.Rcheck’ * using R version 4.4.1 (2024-06-14) * using platform: aarch64-apple-darwin20 * R was compiled by Apple clang version 14.0.0 (clang-1400.0.29.202) GNU Fortran (GCC) 12.2.0 * running under: macOS Ventura 13.6.6 * using session charset: UTF-8 * using option ‘--no-vignettes’ * checking for file ‘mixOmics/DESCRIPTION’ ... OK * checking extension type ... Package * this is package ‘mixOmics’ version ‘6.28.0’ * package encoding: UTF-8 * checking package namespace information ... OK * checking package dependencies ... OK * checking if this is a source package ... OK * checking if there is a namespace ... OK * checking for hidden files and directories ... OK * checking for portable file names ... OK * checking for sufficient/correct file permissions ... OK * checking whether package ‘mixOmics’ can be installed ... OK * checking installed package size ... NOTE installed size is 8.1Mb sub-directories of 1Mb or more: R 1.4Mb data 3.3Mb doc 1.9Mb * checking package directory ... OK * checking DESCRIPTION meta-information ... OK * checking top-level files ... OK * checking for left-over files ... OK * checking index information ... OK * checking package subdirectories ... OK * checking code files for non-ASCII characters ... OK * checking R files for syntax errors ... OK * checking whether the package can be loaded ... OK * checking whether the package can be loaded with stated dependencies ... OK * checking whether the package can be unloaded cleanly ... OK * checking whether the namespace can be loaded with stated dependencies ... OK * checking whether the namespace can be unloaded cleanly ... OK * checking whether startup messages can be suppressed ... OK * checking dependencies in R code ... OK * checking S3 generic/method consistency ... OK * checking replacement functions ... OK * checking foreign function calls ... OK * checking R code for possible problems ... OK * checking Rd files ... OK * checking Rd metadata ... OK * checking Rd cross-references ... OK * checking for missing documentation entries ... OK * checking for code/documentation mismatches ... OK * checking Rd \usage sections ... OK * checking Rd contents ... OK * checking for unstated dependencies in examples ... OK * checking contents of ‘data’ directory ... OK * checking data for non-ASCII characters ... OK * checking data for ASCII and uncompressed saves ... OK * checking installed files from ‘inst/doc’ ... OK * checking files in ‘vignettes’ ... OK * checking examples ... OK Examples with CPU (user + system) or elapsed time > 5s user system elapsed biplot 10.924 0.098 11.032 background.predict 8.254 2.089 10.415 block.splsda 6.303 0.125 6.434 circosPlot 5.729 0.091 5.831 block.spls 5.310 0.117 5.431 * checking for unstated dependencies in ‘tests’ ... OK * checking tests ... Running ‘testthat.R’ OK * checking for unstated dependencies in vignettes ... OK * checking package vignettes ... OK * checking running R code from vignettes ... SKIPPED * checking re-building of vignette outputs ... SKIPPED * checking PDF version of manual ... OK * DONE Status: 1 NOTE See ‘/Users/biocbuild/bbs-3.19-bioc/meat/mixOmics.Rcheck/00check.log’ for details.
mixOmics.Rcheck/00install.out
############################################################################## ############################################################################## ### ### Running command: ### ### /Library/Frameworks/R.framework/Resources/bin/R CMD INSTALL mixOmics ### ############################################################################## ############################################################################## * installing to library ‘/Library/Frameworks/R.framework/Versions/4.4-arm64/Resources/library’ * installing *source* package ‘mixOmics’ ... ** using staged installation ** R ** data ** inst ** byte-compile and prepare package for lazy loading ** help *** installing help indices ** building package indices ** installing vignettes ** testing if installed package can be loaded from temporary location ** testing if installed package can be loaded from final location ** testing if installed package keeps a record of temporary installation path * DONE (mixOmics)
mixOmics.Rcheck/tests/testthat.Rout
R version 4.4.1 (2024-06-14) -- "Race for Your Life" Copyright (C) 2024 The R Foundation for Statistical Computing Platform: aarch64-apple-darwin20 R is free software and comes with ABSOLUTELY NO WARRANTY. You are welcome to redistribute it under certain conditions. Type 'license()' or 'licence()' for distribution details. R is a collaborative project with many contributors. Type 'contributors()' for more information and 'citation()' on how to cite R or R packages in publications. Type 'demo()' for some demos, 'help()' for on-line help, or 'help.start()' for an HTML browser interface to help. Type 'q()' to quit R. > library(testthat) > library(mixOmics) Loading required package: MASS Loading required package: lattice Loading required package: ggplot2 Loaded mixOmics 6.28.0 Thank you for using mixOmics! Tutorials: http://mixomics.org Bookdown vignette: https://mixomicsteam.github.io/Bookdown Questions, issues: Follow the prompts at http://mixomics.org/contact-us Cite us: citation('mixOmics') > > test_check("mixOmics") 2024-07-09 02:05:34.834 R[76953:120924903] XType: Using static font registry. [ FAIL 0 | WARN 4 | SKIP 0 | PASS 236 ] [ FAIL 0 | WARN 4 | SKIP 0 | PASS 236 ] Warning messages: 1: In for (h in 1:ncomp) { : closing unused connection 6 (<-localhost:11868) 2: In for (h in 1:ncomp) { : closing unused connection 5 (<-localhost:11868) > > proc.time() user system elapsed 103.129 5.338 140.674
mixOmics.Rcheck/mixOmics-Ex.timings
name | user | system | elapsed | |
S3methods-print | 0.022 | 0.005 | 0.027 | |
auroc | 1.097 | 0.035 | 1.132 | |
background.predict | 8.254 | 2.089 | 10.415 | |
biplot | 10.924 | 0.098 | 11.032 | |
block.pls | 0.541 | 0.016 | 0.557 | |
block.plsda | 0.637 | 0.008 | 0.646 | |
block.spls | 5.310 | 0.117 | 5.431 | |
block.splsda | 6.303 | 0.125 | 6.434 | |
cim | 0.051 | 0.006 | 0.056 | |
cimDiablo | 0.273 | 0.011 | 0.290 | |
circosPlot | 5.729 | 0.091 | 5.831 | |
colors | 0.050 | 0.002 | 0.052 | |
explained_variance | 0.136 | 0.007 | 0.143 | |
get.confusion_matrix | 0.509 | 0.014 | 0.523 | |
image.tune.rcc | 2.174 | 0.085 | 2.260 | |
imgCor | 0.072 | 0.008 | 0.080 | |
impute.nipals | 0.012 | 0.003 | 0.015 | |
ipca | 0.771 | 0.020 | 0.791 | |
logratio-transformations | 0.117 | 0.022 | 0.141 | |
map | 0.006 | 0.004 | 0.010 | |
mat.rank | 0.002 | 0.001 | 0.002 | |
mint.block.pls | 0.184 | 0.010 | 0.194 | |
mint.block.plsda | 0.170 | 0.008 | 0.178 | |
mint.block.spls | 0.206 | 0.010 | 0.233 | |
mint.block.splsda | 0.166 | 0.005 | 0.172 | |
mint.pca | 0.373 | 0.011 | 0.386 | |
mint.pls | 0.504 | 0.009 | 0.514 | |
mint.plsda | 0.565 | 0.008 | 0.574 | |
mint.spls | 0.472 | 0.008 | 0.481 | |
mint.splsda | 0.568 | 0.007 | 0.577 | |
mixOmics | 0.408 | 0.021 | 0.429 | |
nearZeroVar | 0.949 | 0.047 | 0.996 | |
network | 0.015 | 0.004 | 0.018 | |
pca | 4.501 | 0.075 | 4.579 | |
perf | 2.828 | 0.147 | 2.978 | |
plot.rcc | 0.016 | 0.004 | 0.020 | |
plot.tune | 0.000 | 0.001 | 0.001 | |
plotArrow | 3.369 | 0.080 | 3.457 | |
plotDiablo | 0.219 | 0.011 | 0.230 | |
plotIndiv | 0.306 | 0.010 | 0.315 | |
plotLoadings | 0.134 | 0.013 | 0.147 | |
plotMarkers | 0 | 0 | 0 | |
plotVar | 0.562 | 0.011 | 0.576 | |
pls | 0.006 | 0.002 | 0.008 | |
plsda | 0.340 | 0.009 | 0.349 | |
predict | 0.192 | 0.012 | 0.205 | |
rcc | 0.003 | 0.002 | 0.005 | |
selectVar | 0.494 | 0.051 | 0.545 | |
sipca | 0.526 | 0.025 | 0.552 | |
spca | 3.929 | 0.161 | 4.093 | |
spls | 0.223 | 0.017 | 0.240 | |
splsda | 0.336 | 0.011 | 0.348 | |
study_split | 0.008 | 0.002 | 0.011 | |
summary | 0.030 | 0.004 | 0.033 | |
tune | 4.609 | 0.274 | 4.888 | |
tune.block.splsda | 0.000 | 0.001 | 0.000 | |
tune.mint.splsda | 2.31 | 0.14 | 2.45 | |
tune.pca | 0.217 | 0.014 | 0.232 | |
tune.rcc | 2.234 | 0.101 | 2.336 | |
tune.spca | 0.637 | 0.021 | 0.659 | |
tune.spls | 0.000 | 0.001 | 0.000 | |
tune.splsda | 4.574 | 0.364 | 4.942 | |
tune.splslevel | 0.911 | 0.047 | 0.958 | |
unmap | 0.005 | 0.004 | 0.009 | |
vip | 0.009 | 0.003 | 0.011 | |
withinVariation | 0.893 | 0.014 | 0.908 | |
wrapper.rgcca | 0.059 | 0.004 | 0.063 | |
wrapper.sgcca | 0.113 | 0.009 | 0.121 | |