Back to Multiple platform build/check report for BioC 3.20:   simplified   long
ABCDEFGHIJKL[M]NOPQRSTUVWXYZ

This page was generated on 2025-02-03 12:10 -0500 (Mon, 03 Feb 2025).

HostnameOSArch (*)R versionInstalled pkgs
nebbiolo2Linux (Ubuntu 24.04.1 LTS)x86_644.4.2 (2024-10-31) -- "Pile of Leaves" 4746
palomino8Windows Server 2022 Datacenterx644.4.2 (2024-10-31 ucrt) -- "Pile of Leaves" 4494
merida1macOS 12.7.5 Montereyx86_644.4.2 (2024-10-31) -- "Pile of Leaves" 4517
kjohnson1macOS 13.6.6 Venturaarm644.4.2 (2024-10-31) -- "Pile of Leaves" 4469
taishanLinux (openEuler 24.03 LTS)aarch644.4.2 (2024-10-31) -- "Pile of Leaves" 4400
Click on any hostname to see more info about the system (e.g. compilers)      (*) as reported by 'uname -p', except on Windows and Mac OS X

Package 1381/2289HostnameOS / ArchINSTALLBUILDCHECKBUILD BIN
musicatk 2.0.0  (landing page)
Joshua D. Campbell
Snapshot Date: 2025-01-30 13:00 -0500 (Thu, 30 Jan 2025)
git_url: https://git.bioconductor.org/packages/musicatk
git_branch: RELEASE_3_20
git_last_commit: c0c8b45
git_last_commit_date: 2024-10-29 10:52:22 -0500 (Tue, 29 Oct 2024)
nebbiolo2Linux (Ubuntu 24.04.1 LTS) / x86_64  OK    OK    OK  UNNEEDED, same version is already published
palomino8Windows Server 2022 Datacenter / x64  OK    OK    OK    OK  UNNEEDED, same version is already published
merida1macOS 12.7.5 Monterey / x86_64  OK    OK    OK    OK  UNNEEDED, same version is already published
kjohnson1macOS 13.6.6 Ventura / arm64  OK    OK    OK    OK  UNNEEDED, same version is already published
taishanLinux (openEuler 24.03 LTS) / aarch64  OK    OK    OK  


CHECK results for musicatk on kjohnson1

To the developers/maintainers of the musicatk package:
- Allow up to 24 hours (and sometimes 48 hours) for your latest push to git@git.bioconductor.org:packages/musicatk.git to reflect on this report. See Troubleshooting Build Report for more information.
- Use the following Renviron settings to reproduce errors and warnings.
- If 'R CMD check' started to fail recently on the Linux builder(s) over a missing dependency, add the missing dependency to 'Suggests:' in your DESCRIPTION file. See Renviron.bioc for more information.

raw results


Summary

Package: musicatk
Version: 2.0.0
Command: /Library/Frameworks/R.framework/Resources/bin/R CMD check --install=check:musicatk.install-out.txt --library=/Library/Frameworks/R.framework/Resources/library --no-vignettes --timings musicatk_2.0.0.tar.gz
StartedAt: 2025-02-01 02:52:10 -0500 (Sat, 01 Feb 2025)
EndedAt: 2025-02-01 03:06:16 -0500 (Sat, 01 Feb 2025)
EllapsedTime: 845.7 seconds
RetCode: 0
Status:   OK  
CheckDir: musicatk.Rcheck
Warnings: 0

Command output

##############################################################################
##############################################################################
###
### Running command:
###
###   /Library/Frameworks/R.framework/Resources/bin/R CMD check --install=check:musicatk.install-out.txt --library=/Library/Frameworks/R.framework/Resources/library --no-vignettes --timings musicatk_2.0.0.tar.gz
###
##############################################################################
##############################################################################


* using log directory ‘/Users/biocbuild/bbs-3.20-bioc/meat/musicatk.Rcheck’
* using R version 4.4.2 (2024-10-31)
* using platform: aarch64-apple-darwin20
* R was compiled by
    Apple clang version 14.0.0 (clang-1400.0.29.202)
    GNU Fortran (GCC) 12.2.0
* running under: macOS Ventura 13.7.1
* using session charset: UTF-8
* using option ‘--no-vignettes’
* checking for file ‘musicatk/DESCRIPTION’ ... OK
* checking extension type ... Package
* this is package ‘musicatk’ version ‘2.0.0’
* package encoding: UTF-8
* checking package namespace information ... OK
* checking package dependencies ... OK
* checking if this is a source package ... OK
* checking if there is a namespace ... OK
* checking for hidden files and directories ... OK
* checking for portable file names ... OK
* checking for sufficient/correct file permissions ... OK
* checking whether package ‘musicatk’ can be installed ... OK
* checking installed package size ... OK
* checking package directory ... OK
* checking ‘build’ directory ... OK
* checking DESCRIPTION meta-information ... OK
* checking top-level files ... OK
* checking for left-over files ... OK
* checking index information ... OK
* checking package subdirectories ... OK
* checking code files for non-ASCII characters ... OK
* checking R files for syntax errors ... OK
* checking whether the package can be loaded ... OK
* checking whether the package can be loaded with stated dependencies ... OK
* checking whether the package can be unloaded cleanly ... OK
* checking whether the namespace can be loaded with stated dependencies ... OK
* checking whether the namespace can be unloaded cleanly ... OK
* checking dependencies in R code ... OK
* checking S3 generic/method consistency ... OK
* checking replacement functions ... OK
* checking foreign function calls ... OK
* checking R code for possible problems ... OK
* checking Rd files ... OK
* checking Rd metadata ... OK
* checking Rd cross-references ... OK
* checking for missing documentation entries ... OK
* checking for code/documentation mismatches ... OK
* checking Rd \usage sections ... OK
* checking Rd contents ... OK
* checking for unstated dependencies in examples ... OK
* checking contents of ‘data’ directory ... OK
* checking data for non-ASCII characters ... OK
* checking LazyData ... OK
* checking data for ASCII and uncompressed saves ... OK
* checking files in ‘vignettes’ ... OK
* checking examples ... OK
Examples with CPU (user + system) or elapsed time > 5s
                        user system elapsed
plot_k_comparison    224.068  1.145 225.526
compare_k_vals       197.478  1.468 199.654
build_standard_table   8.865  1.069  10.002
plot_cluster           6.147  0.116   6.278
create_umap            5.945  0.061   6.014
plot_umap              5.806  0.052   5.866
* checking for unstated dependencies in ‘tests’ ... OK
* checking tests ...
  Running ‘testthat.R’
 OK
* checking for unstated dependencies in vignettes ... OK
* checking package vignettes ... OK
* checking running R code from vignettes ... SKIPPED
* checking re-building of vignette outputs ... SKIPPED
* checking PDF version of manual ... OK
* DONE

Status: OK


Installation output

musicatk.Rcheck/00install.out

##############################################################################
##############################################################################
###
### Running command:
###
###   /Library/Frameworks/R.framework/Resources/bin/R CMD INSTALL musicatk
###
##############################################################################
##############################################################################


* installing to library ‘/Library/Frameworks/R.framework/Versions/4.4-arm64/Resources/library’
* installing *source* package ‘musicatk’ ...
** using staged installation
** R
** data
*** moving datasets to lazyload DB
** inst
** byte-compile and prepare package for lazy loading
** help
*** installing help indices
** building package indices
** installing vignettes
** testing if installed package can be loaded from temporary location
** testing if installed package can be loaded from final location
** testing if installed package keeps a record of temporary installation path
* DONE (musicatk)

Tests output

musicatk.Rcheck/tests/testthat.Rout


R version 4.4.2 (2024-10-31) -- "Pile of Leaves"
Copyright (C) 2024 The R Foundation for Statistical Computing
Platform: aarch64-apple-darwin20

R is free software and comes with ABSOLUTELY NO WARRANTY.
You are welcome to redistribute it under certain conditions.
Type 'license()' or 'licence()' for distribution details.

R is a collaborative project with many contributors.
Type 'contributors()' for more information and
'citation()' on how to cite R or R packages in publications.

Type 'demo()' for some demos, 'help()' for on-line help, or
'help.start()' for an HTML browser interface to help.
Type 'q()' to quit R.

> library("testthat")
> library("musicatk")
Loading required package: NMF
Loading required package: registry
Loading required package: rngtools
Loading required package: cluster
NMF - BioConductor layer [OK] | Shared memory capabilities [NO: synchronicity] | Cores 2/2
  To enable shared memory capabilities, try: install.extras('
NMF
')

Attaching package: 'NMF'

The following object is masked from 'package:testthat':

    compare

> 
> test_check("musicatk")
[ FAIL 0 | WARN 1 | SKIP 0 | PASS 41 ]

[ FAIL 0 | WARN 1 | SKIP 0 | PASS 41 ]
> 
> proc.time()
   user  system elapsed 
 23.955   0.929  24.896 

Example timings

musicatk.Rcheck/musicatk-Ex.timings

nameusersystemelapsed
add_flank_to_variants2.1750.2372.412
add_variant_type0.1860.0040.191
annotate_replication_strand0.1550.0100.165
annotate_transcript_strand2.6990.0432.742
annotate_variant_length0.0150.0030.018
annotate_variant_type0.0020.0020.005
auto_predict_grid2.1490.0562.205
build_custom_table1.0740.0221.096
build_standard_table 8.865 1.06910.002
built_tables0.0030.0020.004
cluster_exposure0.0200.0040.026
combine_count_tables2.5760.3012.879
combine_predict_grid0.3330.0150.351
compare_cosmic_v21.5780.0371.672
compare_cosmic_v30.8840.0100.967
compare_k_vals197.478 1.468199.654
compare_results1.7030.0361.740
cosmic_v2_subtype_map0.0010.0000.001
create_musica_from_counts0.0050.0020.008
create_musica_from_variants1.0450.2481.115
create_result_model0.0020.0010.003
create_umap5.9450.0616.014
credible_intervals0.0030.0020.006
discover_signatures0.7660.1140.880
drop_annotation0.0020.0020.005
exposure_differential_analysis0.0120.0020.015
exposures0.0180.0040.023
extract_count_tables0.0050.0020.007
extract_variants4.3420.1004.167
extract_variants_from_maf0.1580.0110.177
extract_variants_from_maf_file0.1060.0040.112
extract_variants_from_matrix0.1600.0090.119
extract_variants_from_vcf0.7940.0400.694
extract_variants_from_vcf_file0.4370.0040.441
generate_result_grid0.4010.0040.407
get_modality0.0060.0040.010
get_model0.0050.0040.009
get_result_list_entry0.0050.0020.008
hyperparameter0.0020.0020.005
k_select0.6680.0130.682
metrics0.0020.0010.004
modality0.0010.0020.003
model_id0.0020.0020.005
musicatk0.0000.0000.001
name_signatures0.0290.0020.031
num_signatures0.0020.0020.004
other_parameters0.0020.0020.005
parameter0.0020.0030.004
pipe0.0030.0010.003
plot_cluster6.1470.1166.278
plot_differential_analysis0.1550.0030.159
plot_exposures0.3230.0140.337
plot_heatmap0.7170.0180.736
plot_k_comparison224.068 1.145225.526
plot_sample_counts0.5370.0130.550
plot_sample_reconstruction_error0.6770.0060.684
plot_signatures0.7150.0060.722
plot_umap5.8060.0525.866
predict_exposure1.1930.1071.300
rc0.0030.0000.002
result_list0.0040.0020.006
samp_annot0.0080.0040.013
sample_names0.0030.0020.006
select_genome0.0000.0010.000
signatures0.0190.0070.025
subset_musica_by_annotation0.0070.0040.011
subset_musica_by_counts0.0100.0040.014
subset_variant_by_type0.0060.0030.009
subset_variants_by_samples0.0060.0030.009
table_selected0.0030.0020.005
tables0.0050.0020.006
umap0.0030.0020.004
variants0.0050.0030.008