Back to Multiple platform build/check report for BioC 3.20:   simplified   long
ABCDEFGHIJKLMNOPQR[S]TUVWXYZ

This page was generated on 2025-02-06 12:12 -0500 (Thu, 06 Feb 2025).

HostnameOSArch (*)R versionInstalled pkgs
nebbiolo2Linux (Ubuntu 24.04.1 LTS)x86_644.4.2 (2024-10-31) -- "Pile of Leaves" 4753
palomino8Windows Server 2022 Datacenterx644.4.2 (2024-10-31 ucrt) -- "Pile of Leaves" 4501
merida1macOS 12.7.5 Montereyx86_644.4.2 (2024-10-31) -- "Pile of Leaves" 4524
kjohnson1macOS 13.6.6 Venturaarm644.4.2 (2024-10-31) -- "Pile of Leaves" 4476
taishanLinux (openEuler 24.03 LTS)aarch644.4.2 (2024-10-31) -- "Pile of Leaves" 4407
Click on any hostname to see more info about the system (e.g. compilers)      (*) as reported by 'uname -p', except on Windows and Mac OS X

Package 1977/2289HostnameOS / ArchINSTALLBUILDCHECKBUILD BIN
singleCellTK 2.16.0  (landing page)
Joshua David Campbell
Snapshot Date: 2025-02-03 13:00 -0500 (Mon, 03 Feb 2025)
git_url: https://git.bioconductor.org/packages/singleCellTK
git_branch: RELEASE_3_20
git_last_commit: 6bbe76f
git_last_commit_date: 2024-10-29 11:30:33 -0500 (Tue, 29 Oct 2024)
nebbiolo2Linux (Ubuntu 24.04.1 LTS) / x86_64  OK    OK    OK  UNNEEDED, same version is already published
palomino8Windows Server 2022 Datacenter / x64  OK    OK    OK    OK  UNNEEDED, same version is already published
merida1macOS 12.7.5 Monterey / x86_64  OK    OK    OK    NA  
kjohnson1macOS 13.6.6 Ventura / arm64  OK    OK    OK    OK  YES
taishanLinux (openEuler 24.03 LTS) / aarch64  OK    OK    OK  


CHECK results for singleCellTK on taishan

To the developers/maintainers of the singleCellTK package:
- Allow up to 24 hours (and sometimes 48 hours) for your latest push to git@git.bioconductor.org:packages/singleCellTK.git to reflect on this report. See Troubleshooting Build Report for more information.
- Use the following Renviron settings to reproduce errors and warnings.
- If 'R CMD check' started to fail recently on the Linux builder(s) over a missing dependency, add the missing dependency to 'Suggests:' in your DESCRIPTION file. See Renviron.bioc for more information.
- See Martin Grigorov's blog post for how to debug Linux ARM64 related issues on a x86_64 host.

raw results


Summary

Package: singleCellTK
Version: 2.16.0
Command: /home/biocbuild/R/R/bin/R CMD check --install=check:singleCellTK.install-out.txt --library=/home/biocbuild/R/R/site-library --no-vignettes --timings singleCellTK_2.16.0.tar.gz
StartedAt: 2025-02-04 11:09:19 -0000 (Tue, 04 Feb 2025)
EndedAt: 2025-02-04 11:27:31 -0000 (Tue, 04 Feb 2025)
EllapsedTime: 1091.3 seconds
RetCode: 0
Status:   OK  
CheckDir: singleCellTK.Rcheck
Warnings: 0

Command output

##############################################################################
##############################################################################
###
### Running command:
###
###   /home/biocbuild/R/R/bin/R CMD check --install=check:singleCellTK.install-out.txt --library=/home/biocbuild/R/R/site-library --no-vignettes --timings singleCellTK_2.16.0.tar.gz
###
##############################################################################
##############################################################################


* using log directory ‘/home/biocbuild/bbs-3.20-bioc/meat/singleCellTK.Rcheck’
* using R version 4.4.2 (2024-10-31)
* using platform: aarch64-unknown-linux-gnu
* R was compiled by
    aarch64-unknown-linux-gnu-gcc (GCC) 14.2.0
    GNU Fortran (GCC) 12.3.1 (openEuler 12.3.1-36.oe2403)
* running under: openEuler 24.03 (LTS)
* using session charset: UTF-8
* using option ‘--no-vignettes’
* checking for file ‘singleCellTK/DESCRIPTION’ ... OK
* checking extension type ... Package
* this is package ‘singleCellTK’ version ‘2.16.0’
* package encoding: UTF-8
* checking package namespace information ... OK
* checking package dependencies ... OK
* checking if this is a source package ... OK
* checking if there is a namespace ... OK
* checking for hidden files and directories ... OK
* checking for portable file names ... OK
* checking for sufficient/correct file permissions ... OK
* checking whether package ‘singleCellTK’ can be installed ... OK
* checking installed package size ... NOTE
  installed size is  7.0Mb
  sub-directories of 1Mb or more:
    R         1.0Mb
    extdata   1.6Mb
    shiny     3.0Mb
* checking package directory ... OK
* checking ‘build’ directory ... OK
* checking DESCRIPTION meta-information ... NOTE
License stub is invalid DCF.
* checking top-level files ... OK
* checking for left-over files ... OK
* checking index information ... OK
* checking package subdirectories ... OK
* checking code files for non-ASCII characters ... OK
* checking R files for syntax errors ... OK
* checking whether the package can be loaded ... OK
* checking whether the package can be loaded with stated dependencies ... OK
* checking whether the package can be unloaded cleanly ... OK
* checking whether the namespace can be loaded with stated dependencies ... OK
* checking whether the namespace can be unloaded cleanly ... OK
* checking loading without being on the library search path ... OK
* checking whether startup messages can be suppressed ... OK
* checking dependencies in R code ... OK
* checking S3 generic/method consistency ... OK
* checking replacement functions ... OK
* checking foreign function calls ... OK
* checking R code for possible problems ... OK
* checking Rd files ... OK
* checking Rd metadata ... OK
* checking Rd cross-references ... OK
* checking for missing documentation entries ... OK
* checking for code/documentation mismatches ... OK
* checking Rd \usage sections ... OK
* checking Rd contents ... OK
* checking for unstated dependencies in examples ... OK
* checking contents of ‘data’ directory ... OK
* checking data for non-ASCII characters ... OK
* checking data for ASCII and uncompressed saves ... OK
* checking R/sysdata.rda ... OK
* checking files in ‘vignettes’ ... OK
* checking examples ... OK
Examples with CPU (user + system) or elapsed time > 5s
                           user system elapsed
runSeuratSCTransform     44.305  0.713  45.226
plotDoubletFinderResults 34.177  0.347  34.719
plotScDblFinderResults   33.004  0.330  33.516
runDoubletFinder         30.780  0.046  30.910
runScDblFinder           21.548  0.450  22.081
importExampleData        14.695  1.423  22.150
plotBatchCorrCompare     10.854  0.426  11.634
plotScdsHybridResults     9.420  0.164   8.937
plotBcdsResults           8.217  0.186   7.752
plotDecontXResults        7.541  0.160   7.715
plotCxdsResults           6.324  0.146   6.610
runDecontX                6.304  0.009   6.331
runUMAP                   6.058  0.100   6.309
plotUMAP                  5.942  0.053   6.139
plotDEGViolin             5.855  0.105   5.971
plotFindMarkerHeatmap     5.681  0.080   5.773
plotEmptyDropsResults     5.561  0.017   5.581
plotEmptyDropsScatter     5.489  0.025   5.517
runEmptyDrops             5.235  0.000   5.244
convertSCEToSeurat        5.013  0.080   5.105
plotTSCANClusterDEG       5.060  0.032   5.109
detectCellOutlier         5.052  0.039   5.107
runEnrichR                0.443  0.266   9.683
getEnrichRResult          0.502  0.116   9.614
* checking for unstated dependencies in ‘tests’ ... OK
* checking tests ...
  Running ‘spelling.R’
  Running ‘testthat.R’
 OK
* checking for unstated dependencies in vignettes ... OK
* checking package vignettes ... OK
* checking running R code from vignettes ... SKIPPED
* checking re-building of vignette outputs ... SKIPPED
* checking PDF version of manual ... OK
* DONE

Status: 2 NOTEs
See
  ‘/home/biocbuild/bbs-3.20-bioc/meat/singleCellTK.Rcheck/00check.log’
for details.


Installation output

singleCellTK.Rcheck/00install.out

##############################################################################
##############################################################################
###
### Running command:
###
###   /home/biocbuild/R/R/bin/R CMD INSTALL singleCellTK
###
##############################################################################
##############################################################################


* installing to library ‘/home/biocbuild/R/R-4.4.2/site-library’
* installing *source* package ‘singleCellTK’ ...
** using staged installation
** R
** data
** exec
** inst
** byte-compile and prepare package for lazy loading
** help
*** installing help indices
** building package indices
** installing vignettes
** testing if installed package can be loaded from temporary location
** testing if installed package can be loaded from final location
** testing if installed package keeps a record of temporary installation path
* DONE (singleCellTK)

Tests output

singleCellTK.Rcheck/tests/spelling.Rout


R version 4.4.2 (2024-10-31) -- "Pile of Leaves"
Copyright (C) 2024 The R Foundation for Statistical Computing
Platform: aarch64-unknown-linux-gnu

R is free software and comes with ABSOLUTELY NO WARRANTY.
You are welcome to redistribute it under certain conditions.
Type 'license()' or 'licence()' for distribution details.

R is a collaborative project with many contributors.
Type 'contributors()' for more information and
'citation()' on how to cite R or R packages in publications.

Type 'demo()' for some demos, 'help()' for on-line help, or
'help.start()' for an HTML browser interface to help.
Type 'q()' to quit R.

> if (requireNamespace('spelling', quietly = TRUE))
+   spelling::spell_check_test(vignettes = TRUE, error = FALSE, skip_on_cran = TRUE)
NULL
> 
> proc.time()
   user  system elapsed 
  0.203   0.020   0.208 

singleCellTK.Rcheck/tests/testthat.Rout


R version 4.4.2 (2024-10-31) -- "Pile of Leaves"
Copyright (C) 2024 The R Foundation for Statistical Computing
Platform: aarch64-unknown-linux-gnu

R is free software and comes with ABSOLUTELY NO WARRANTY.
You are welcome to redistribute it under certain conditions.
Type 'license()' or 'licence()' for distribution details.

R is a collaborative project with many contributors.
Type 'contributors()' for more information and
'citation()' on how to cite R or R packages in publications.

Type 'demo()' for some demos, 'help()' for on-line help, or
'help.start()' for an HTML browser interface to help.
Type 'q()' to quit R.

> library(testthat)
> library(singleCellTK)
Loading required package: SummarizedExperiment
Loading required package: MatrixGenerics
Loading required package: matrixStats

Attaching package: 'MatrixGenerics'

The following objects are masked from 'package:matrixStats':

    colAlls, colAnyNAs, colAnys, colAvgsPerRowSet, colCollapse,
    colCounts, colCummaxs, colCummins, colCumprods, colCumsums,
    colDiffs, colIQRDiffs, colIQRs, colLogSumExps, colMadDiffs,
    colMads, colMaxs, colMeans2, colMedians, colMins, colOrderStats,
    colProds, colQuantiles, colRanges, colRanks, colSdDiffs, colSds,
    colSums2, colTabulates, colVarDiffs, colVars, colWeightedMads,
    colWeightedMeans, colWeightedMedians, colWeightedSds,
    colWeightedVars, rowAlls, rowAnyNAs, rowAnys, rowAvgsPerColSet,
    rowCollapse, rowCounts, rowCummaxs, rowCummins, rowCumprods,
    rowCumsums, rowDiffs, rowIQRDiffs, rowIQRs, rowLogSumExps,
    rowMadDiffs, rowMads, rowMaxs, rowMeans2, rowMedians, rowMins,
    rowOrderStats, rowProds, rowQuantiles, rowRanges, rowRanks,
    rowSdDiffs, rowSds, rowSums2, rowTabulates, rowVarDiffs, rowVars,
    rowWeightedMads, rowWeightedMeans, rowWeightedMedians,
    rowWeightedSds, rowWeightedVars

Loading required package: GenomicRanges
Loading required package: stats4
Loading required package: BiocGenerics

Attaching package: 'BiocGenerics'

The following objects are masked from 'package:stats':

    IQR, mad, sd, var, xtabs

The following objects are masked from 'package:base':

    Filter, Find, Map, Position, Reduce, anyDuplicated, aperm, append,
    as.data.frame, basename, cbind, colnames, dirname, do.call,
    duplicated, eval, evalq, get, grep, grepl, intersect, is.unsorted,
    lapply, mapply, match, mget, order, paste, pmax, pmax.int, pmin,
    pmin.int, rank, rbind, rownames, sapply, saveRDS, setdiff, table,
    tapply, union, unique, unsplit, which.max, which.min

Loading required package: S4Vectors

Attaching package: 'S4Vectors'

The following object is masked from 'package:utils':

    findMatches

The following objects are masked from 'package:base':

    I, expand.grid, unname

Loading required package: IRanges
Loading required package: GenomeInfoDb
Loading required package: Biobase
Welcome to Bioconductor

    Vignettes contain introductory material; view with
    'browseVignettes()'. To cite Bioconductor, see
    'citation("Biobase")', and for packages 'citation("pkgname")'.


Attaching package: 'Biobase'

The following object is masked from 'package:MatrixGenerics':

    rowMedians

The following objects are masked from 'package:matrixStats':

    anyMissing, rowMedians

Loading required package: SingleCellExperiment
Loading required package: DelayedArray
Loading required package: Matrix

Attaching package: 'Matrix'

The following object is masked from 'package:S4Vectors':

    expand

Loading required package: S4Arrays
Loading required package: abind

Attaching package: 'S4Arrays'

The following object is masked from 'package:abind':

    abind

The following object is masked from 'package:base':

    rowsum

Loading required package: SparseArray

Attaching package: 'DelayedArray'

The following objects are masked from 'package:base':

    apply, scale, sweep


Attaching package: 'singleCellTK'

The following object is masked from 'package:BiocGenerics':

    plotPCA

> 
> test_check("singleCellTK")
Found 2 batches
Using null model in ComBat-seq.
Adjusting for 0 covariate(s) or covariate level(s)
Estimating dispersions
Fitting the GLM model
Shrinkage off - using GLM estimates for parameters
Adjusting the data
Found 2 batches
Using null model in ComBat-seq.
Adjusting for 1 covariate(s) or covariate level(s)
Estimating dispersions
Fitting the GLM model
Shrinkage off - using GLM estimates for parameters
Adjusting the data
Performing log-normalization
0%   10   20   30   40   50   60   70   80   90   100%
[----|----|----|----|----|----|----|----|----|----|
**************************************************|

  |                                                                            
  |                                                                      |   0%
  |                                                                            
  |======================================================================| 100%
Calculating gene variances
0%   10   20   30   40   50   60   70   80   90   100%
[----|----|----|----|----|----|----|----|----|----|
**************************************************|
Calculating feature variances of standardized and clipped values
0%   10   20   30   40   50   60   70   80   90   100%
[----|----|----|----|----|----|----|----|----|----|
**************************************************|

  |                                                                            
  |                                                                      |   0%
  |                                                                            
  |======================================================================| 100%

  |                                                                            
  |                                                                      |   0%
  |                                                                            
  |======================================================================| 100%
Calculating gene variances
0%   10   20   30   40   50   60   70   80   90   100%
[----|----|----|----|----|----|----|----|----|----|
**************************************************|
Calculating feature variances of standardized and clipped values
0%   10   20   30   40   50   60   70   80   90   100%
[----|----|----|----|----|----|----|----|----|----|
**************************************************|
Uploading data to Enrichr... Done.
  Querying HDSigDB_Human_2021... Done.
Parsing results... Done.
Performing log-normalization
0%   10   20   30   40   50   60   70   80   90   100%
[----|----|----|----|----|----|----|----|----|----|
**************************************************|
Calculating gene variances
0%   10   20   30   40   50   60   70   80   90   100%
[----|----|----|----|----|----|----|----|----|----|
**************************************************|
Calculating feature variances of standardized and clipped values
0%   10   20   30   40   50   60   70   80   90   100%
[----|----|----|----|----|----|----|----|----|----|
**************************************************|
Calculating gene means
0%   10   20   30   40   50   60   70   80   90   100%
[----|----|----|----|----|----|----|----|----|----|
**************************************************|
Calculating gene variance to mean ratios
0%   10   20   30   40   50   60   70   80   90   100%
[----|----|----|----|----|----|----|----|----|----|
**************************************************|
Calculating gene means
0%   10   20   30   40   50   60   70   80   90   100%
[----|----|----|----|----|----|----|----|----|----|
**************************************************|
Calculating gene variance to mean ratios
0%   10   20   30   40   50   60   70   80   90   100%
[----|----|----|----|----|----|----|----|----|----|
**************************************************|
Performing log-normalization
0%   10   20   30   40   50   60   70   80   90   100%
[----|----|----|----|----|----|----|----|----|----|
**************************************************|
Calculating gene variances
0%   10   20   30   40   50   60   70   80   90   100%
[----|----|----|----|----|----|----|----|----|----|
**************************************************|
Calculating feature variances of standardized and clipped values
0%   10   20   30   40   50   60   70   80   90   100%
[----|----|----|----|----|----|----|----|----|----|
**************************************************|

  |                                                                            
  |                                                                      |   0%
  |                                                                            
  |======================================================================| 100%
Performing log-normalization
0%   10   20   30   40   50   60   70   80   90   100%
[----|----|----|----|----|----|----|----|----|----|
**************************************************|

  |                                                                            
  |                                                                      |   0%
  |                                                                            
  |======================================================================| 100%
Calculating gene variances
0%   10   20   30   40   50   60   70   80   90   100%
[----|----|----|----|----|----|----|----|----|----|
**************************************************|
Calculating feature variances of standardized and clipped values
0%   10   20   30   40   50   60   70   80   90   100%
[----|----|----|----|----|----|----|----|----|----|
**************************************************|

  |                                                                            
  |                                                                      |   0%
  |                                                                            
  |======================================================================| 100%

  |                                                                            
  |                                                                      |   0%
  |                                                                            
  |======================================================================| 100%
Modularity Optimizer version 1.3.0 by Ludo Waltman and Nees Jan van Eck

Number of nodes: 390
Number of edges: 9849

Running Louvain algorithm...
0%   10   20   30   40   50   60   70   80   90   100%
[----|----|----|----|----|----|----|----|----|----|
**************************************************|
Maximum modularity in 10 random starts: 0.8351
Number of communities: 7
Elapsed time: 0 seconds
Using method 'umap'
0%   10   20   30   40   50   60   70   80   90   100%
[----|----|----|----|----|----|----|----|----|----|
**************************************************|

  |                                                                            
  |                                                                      |   0%
  |                                                                            
  |======================================================================| 100%

  |                                                                            
  |                                                                      |   0%
  |                                                                            
  |======================================================================| 100%
0%   10   20   30   40   50   60   70   80   90   100%
[----|----|----|----|----|----|----|----|----|----|
**************************************************|
0%   10   20   30   40   50   60   70   80   90   100%
[----|----|----|----|----|----|----|----|----|----|
**************************************************|

  |                                                                            
  |                                                                      |   0%
  |                                                                            
  |======================================================================| 100%

  |                                                                            
  |                                                                      |   0%
  |                                                                            
  |======================================================================| 100%

  |                                                                            
  |                                                                      |   0%
  |                                                                            
  |======================================================================| 100%

  |                                                                            
  |                                                                      |   0%
  |                                                                            
  |======================================================================| 100%

  |                                                                            
  |                                                                      |   0%
  |                                                                            
  |======================================================================| 100%
Performing log-normalization
0%   10   20   30   40   50   60   70   80   90   100%
[----|----|----|----|----|----|----|----|----|----|
**************************************************|
[ FAIL 0 | WARN 20 | SKIP 0 | PASS 224 ]

[ FAIL 0 | WARN 20 | SKIP 0 | PASS 224 ]
> 
> proc.time()
   user  system elapsed 
284.425   9.605 346.874 

Example timings

singleCellTK.Rcheck/singleCellTK-Ex.timings

nameusersystemelapsed
MitoGenes0.0000.0030.002
SEG0.0000.0030.003
calcEffectSizes0.2260.0160.243
combineSCE1.0630.0761.141
computeZScore0.2670.0080.275
convertSCEToSeurat5.0130.0805.105
convertSeuratToSCE0.4680.0030.474
dedupRowNames0.0730.0010.072
detectCellOutlier5.0520.0395.107
diffAbundanceFET0.0650.0000.065
discreteColorPalette0.0080.0000.009
distinctColors0.0030.0000.003
downSampleCells0.7720.0200.794
downSampleDepth0.5840.0000.586
expData-ANY-character-method0.1630.0040.167
expData-set-ANY-character-CharacterOrNullOrMissing-logical-method0.2210.0000.222
expData-set0.2040.0080.213
expData0.2030.0000.203
expDataNames-ANY-method0.1510.0000.152
expDataNames0.1520.0000.152
expDeleteDataTag0.0410.0000.041
expSetDataTag0.0280.0000.028
expTaggedData0.030.000.03
exportSCE0.0260.0000.026
exportSCEtoAnnData0.0850.0000.085
exportSCEtoFlatFile0.0850.0000.085
featureIndex0.0410.0000.041
generateSimulatedData0.0580.0000.058
getBiomarker0.0650.0000.065
getDEGTopTable0.9000.0350.937
getDiffAbundanceResults0.0520.0000.053
getEnrichRResult0.5020.1169.614
getFindMarkerTopTable2.0110.2482.265
getMSigDBTable0.0050.0000.005
getPathwayResultNames0.0260.0000.026
getSampleSummaryStatsTable0.2450.0160.262
getSoupX000
getTSCANResults1.3470.0791.431
getTopHVG1.1440.0321.179
importAnnData0.0010.0000.002
importBUStools0.2140.0000.218
importCellRanger1.1270.0921.227
importCellRangerV2Sample0.1870.0040.192
importCellRangerV3Sample0.3940.0120.407
importDropEst0.2620.0000.264
importExampleData14.695 1.42322.150
importGeneSetsFromCollection1.9300.1322.067
importGeneSetsFromGMT0.0740.0000.076
importGeneSetsFromList0.1480.0040.153
importGeneSetsFromMSigDB3.7860.1643.958
importMitoGeneSet0.0630.0080.071
importOptimus0.0020.0000.001
importSEQC0.1870.0110.202
importSTARsolo0.2000.0040.206
iterateSimulations0.2460.0120.258
listSampleSummaryStatsTables0.3340.0240.359
mergeSCEColData0.5210.0400.562
mouseBrainSubsetSCE0.0390.0000.039
msigdb_table0.0010.0000.002
plotBarcodeRankDropsResults0.7760.0560.833
plotBarcodeRankScatter0.9410.0040.948
plotBatchCorrCompare10.854 0.42611.634
plotBatchVariance0.4270.0120.440
plotBcdsResults8.2170.1867.752
plotBubble0.9110.0250.936
plotClusterAbundance1.1150.0521.169
plotCxdsResults6.3240.1466.610
plotDEGHeatmap3.1920.0293.229
plotDEGRegression4.8330.0454.889
plotDEGViolin5.8550.1055.971
plotDEGVolcano1.1320.0081.142
plotDecontXResults7.5410.1607.715
plotDimRed0.2460.0040.251
plotDoubletFinderResults34.177 0.34734.719
plotEmptyDropsResults5.5610.0175.581
plotEmptyDropsScatter5.4890.0255.517
plotFindMarkerHeatmap5.6810.0805.773
plotMASTThresholdGenes1.8960.0121.913
plotPCA0.4440.0040.449
plotPathway0.8250.0240.852
plotRunPerCellQCResults2.6700.0122.687
plotSCEBarAssayData0.2340.0010.236
plotSCEBarColData0.1740.0070.183
plotSCEBatchFeatureMean0.3430.0010.344
plotSCEDensity0.2640.0040.269
plotSCEDensityAssayData0.2050.0000.206
plotSCEDensityColData0.2610.0040.266
plotSCEDimReduceColData0.6620.0040.667
plotSCEDimReduceFeatures0.3990.0080.407
plotSCEHeatmap0.5580.0040.563
plotSCEScatter0.310.000.31
plotSCEViolin0.3090.0000.310
plotSCEViolinAssayData0.3310.0040.336
plotSCEViolinColData0.3750.0040.379
plotScDblFinderResults33.004 0.33033.516
plotScanpyDotPlot0.0230.0030.026
plotScanpyEmbedding0.0270.0000.027
plotScanpyHVG0.0260.0000.026
plotScanpyHeatmap0.0270.0000.027
plotScanpyMarkerGenes0.0260.0000.026
plotScanpyMarkerGenesDotPlot0.0260.0000.027
plotScanpyMarkerGenesHeatmap0.0270.0000.028
plotScanpyMarkerGenesMatrixPlot0.0270.0000.027
plotScanpyMarkerGenesViolin0.0250.0000.026
plotScanpyMatrixPlot0.0270.0000.026
plotScanpyPCA0.0270.0000.027
plotScanpyPCAGeneRanking0.0260.0000.027
plotScanpyPCAVariance0.0270.0000.027
plotScanpyViolin0.0270.0000.027
plotScdsHybridResults9.4200.1648.937
plotScrubletResults0.0210.0030.025
plotSeuratElbow0.0200.0040.025
plotSeuratHVG0.0250.0000.025
plotSeuratJackStraw0.0250.0000.025
plotSeuratReduction0.0240.0000.024
plotSoupXResults000
plotTSCANClusterDEG5.0600.0325.109
plotTSCANClusterPseudo1.7070.0161.729
plotTSCANDimReduceFeatures1.7390.0121.756
plotTSCANPseudotimeGenes1.9990.0162.021
plotTSCANPseudotimeHeatmap1.8820.0281.916
plotTSCANResults1.6090.0361.651
plotTSNE0.4250.0120.438
plotTopHVG0.7380.0080.749
plotUMAP5.9420.0536.139
readSingleCellMatrix0.0060.0000.006
reportCellQC0.1050.0000.106
reportDropletQC0.0240.0000.025
reportQCTool0.1030.0000.104
retrieveSCEIndex0.0320.0000.033
runBBKNN0.0000.0000.001
runBarcodeRankDrops0.2950.0000.296
runBcds2.4490.0121.694
runCellQC0.0980.0080.106
runClusterSummaryMetrics0.5100.0000.513
runComBatSeq0.6480.0040.654
runCxds0.4160.0040.420
runCxdsBcdsHybrid2.3700.0431.636
runDEAnalysis0.5440.0040.550
runDecontX6.3040.0096.331
runDimReduce0.3740.0000.375
runDoubletFinder30.780 0.04630.910
runDropletQC0.0270.0000.028
runEmptyDrops5.2350.0005.244
runEnrichR0.4430.2669.683
runFastMNN3.8281.0184.862
runFeatureSelection0.2780.0080.287
runFindMarker1.8670.1111.984
runGSVA1.0750.1711.250
runHarmony0.0490.0080.058
runKMeans0.2450.0080.254
runLimmaBC0.1160.0000.117
runMNNCorrect0.5620.0280.592
runModelGeneVar0.3990.0240.424
runNormalization2.4140.3022.725
runPerCellQC0.4280.0040.434
runSCANORAMA000
runSCMerge0.0040.0000.004
runScDblFinder21.548 0.45022.081
runScanpyFindClusters0.0240.0000.024
runScanpyFindHVG0.0220.0000.023
runScanpyFindMarkers0.0190.0040.023
runScanpyNormalizeData0.1330.0080.141
runScanpyPCA0.0240.0000.024
runScanpyScaleData0.0230.0000.023
runScanpyTSNE0.0240.0000.024
runScanpyUMAP0.0230.0000.023
runScranSNN0.3840.0240.409
runScrublet0.0230.0000.023
runSeuratFindClusters0.0230.0000.023
runSeuratFindHVG0.6450.0320.679
runSeuratHeatmap0.0260.0000.025
runSeuratICA0.0260.0000.026
runSeuratJackStraw0.0240.0000.025
runSeuratNormalizeData0.0250.0030.028
runSeuratPCA0.0230.0040.027
runSeuratSCTransform44.305 0.71345.226
runSeuratScaleData0.0240.0000.024
runSeuratUMAP0.0230.0000.023
runSingleR0.0520.0000.051
runSoupX000
runTSCAN0.8610.0120.875
runTSCANClusterDEAnalysis0.9470.0120.962
runTSCANDEG0.9460.0120.959
runTSNE0.9730.0120.988
runUMAP6.0580.1006.309
runVAM0.4480.0040.453
runZINBWaVE0.0040.0000.004
sampleSummaryStats0.2260.0000.228
scaterCPM0.1500.0000.151
scaterPCA0.6420.0200.665
scaterlogNormCounts0.3040.0000.304
sce0.0220.0000.023
sctkListGeneSetCollections0.0940.0000.095
sctkPythonInstallConda000
sctkPythonInstallVirtualEnv0.0010.0000.000
selectSCTKConda000
selectSCTKVirtualEnvironment000
setRowNames0.1030.0000.103
setSCTKDisplayRow0.4100.0120.423
singleCellTK000
subDiffEx0.4210.0040.427
subsetSCECols0.1010.0000.102
subsetSCERows0.3450.0200.366
summarizeSCE0.0750.0040.079
trimCounts0.2110.0000.212