Back to Multiple platform build/check report for BioC 3.20: simplified long |
|
This page was generated on 2025-02-17 12:09 -0500 (Mon, 17 Feb 2025).
Hostname | OS | Arch (*) | R version | Installed pkgs |
---|---|---|---|---|
nebbiolo2 | Linux (Ubuntu 24.04.1 LTS) | x86_64 | 4.4.2 (2024-10-31) -- "Pile of Leaves" | 4767 |
palomino8 | Windows Server 2022 Datacenter | x64 | 4.4.2 (2024-10-31 ucrt) -- "Pile of Leaves" | 4502 |
merida1 | macOS 12.7.5 Monterey | x86_64 | 4.4.2 (2024-10-31) -- "Pile of Leaves" | 4525 |
kjohnson1 | macOS 13.6.6 Ventura | arm64 | 4.4.2 (2024-10-31) -- "Pile of Leaves" | 4477 |
taishan | Linux (openEuler 24.03 LTS) | aarch64 | 4.4.2 (2024-10-31) -- "Pile of Leaves" | 4414 |
Click on any hostname to see more info about the system (e.g. compilers) (*) as reported by 'uname -p', except on Windows and Mac OS X |
Package 2020/2289 | Hostname | OS / Arch | INSTALL | BUILD | CHECK | BUILD BIN | ||||||||
spatialHeatmap 2.12.1 (landing page) Jianhai Zhang
| nebbiolo2 | Linux (Ubuntu 24.04.1 LTS) / x86_64 | OK | OK | OK | ![]() | ||||||||
palomino8 | Windows Server 2022 Datacenter / x64 | OK | OK | OK | OK | ![]() | ||||||||
merida1 | macOS 12.7.5 Monterey / x86_64 | OK | OK | OK | OK | ![]() | ||||||||
kjohnson1 | macOS 13.6.6 Ventura / arm64 | OK | OK | OK | OK | ![]() | ||||||||
taishan | Linux (openEuler 24.03 LTS) / aarch64 | OK | OK | OK | ||||||||||
To the developers/maintainers of the spatialHeatmap package: - Allow up to 24 hours (and sometimes 48 hours) for your latest push to git@git.bioconductor.org:packages/spatialHeatmap.git to reflect on this report. See Troubleshooting Build Report for more information. - Use the following Renviron settings to reproduce errors and warnings. - If 'R CMD check' started to fail recently on the Linux builder(s) over a missing dependency, add the missing dependency to 'Suggests:' in your DESCRIPTION file. See Renviron.bioc for more information. |
Package: spatialHeatmap |
Version: 2.12.1 |
Command: /Library/Frameworks/R.framework/Resources/bin/R CMD check --install=check:spatialHeatmap.install-out.txt --library=/Library/Frameworks/R.framework/Resources/library --no-vignettes --timings spatialHeatmap_2.12.1.tar.gz |
StartedAt: 2025-02-14 11:35:10 -0500 (Fri, 14 Feb 2025) |
EndedAt: 2025-02-14 11:55:07 -0500 (Fri, 14 Feb 2025) |
EllapsedTime: 1196.7 seconds |
RetCode: 0 |
Status: OK |
CheckDir: spatialHeatmap.Rcheck |
Warnings: 0 |
############################################################################## ############################################################################## ### ### Running command: ### ### /Library/Frameworks/R.framework/Resources/bin/R CMD check --install=check:spatialHeatmap.install-out.txt --library=/Library/Frameworks/R.framework/Resources/library --no-vignettes --timings spatialHeatmap_2.12.1.tar.gz ### ############################################################################## ############################################################################## * using log directory ‘/Users/biocbuild/bbs-3.20-bioc/meat/spatialHeatmap.Rcheck’ * using R version 4.4.2 (2024-10-31) * using platform: x86_64-apple-darwin20 * R was compiled by Apple clang version 14.0.0 (clang-1400.0.29.202) GNU Fortran (GCC) 12.2.0 * running under: macOS Monterey 12.7.6 * using session charset: UTF-8 * using option ‘--no-vignettes’ * checking for file ‘spatialHeatmap/DESCRIPTION’ ... OK * checking extension type ... Package * this is package ‘spatialHeatmap’ version ‘2.12.1’ * package encoding: UTF-8 * checking package namespace information ... OK * checking package dependencies ... OK * checking if this is a source package ... OK * checking if there is a namespace ... OK * checking for hidden files and directories ... OK * checking for portable file names ... OK * checking for sufficient/correct file permissions ... OK * checking whether package ‘spatialHeatmap’ can be installed ... OK * checking installed package size ... NOTE installed size is 31.8Mb sub-directories of 1Mb or more: R 1.2Mb extdata 30.2Mb * checking package directory ... OK * checking ‘build’ directory ... OK * checking DESCRIPTION meta-information ... OK * checking top-level files ... OK * checking for left-over files ... OK * checking index information ... OK * checking package subdirectories ... OK * checking code files for non-ASCII characters ... OK * checking R files for syntax errors ... OK * checking whether the package can be loaded ... OK * checking whether the package can be loaded with stated dependencies ... OK * checking whether the package can be unloaded cleanly ... OK * checking whether the namespace can be loaded with stated dependencies ... OK * checking whether the namespace can be unloaded cleanly ... OK * checking dependencies in R code ... OK * checking S3 generic/method consistency ... OK * checking replacement functions ... OK * checking foreign function calls ... OK * checking R code for possible problems ... OK * checking Rd files ... OK * checking Rd metadata ... OK * checking Rd cross-references ... OK * checking for missing documentation entries ... OK * checking for code/documentation mismatches ... OK * checking Rd \usage sections ... OK * checking Rd contents ... OK * checking for unstated dependencies in examples ... OK * checking contents of ‘data’ directory ... OK * checking data for non-ASCII characters ... OK * checking data for ASCII and uncompressed saves ... OK * checking files in ‘vignettes’ ... OK * checking examples ... OK Examples with CPU (user + system) or elapsed time > 5s user system elapsed SPHM 24.165 1.501 33.705 covis 21.551 1.423 28.248 cell_group 14.346 0.415 15.941 spatial_hm 10.361 0.499 10.944 process_cell_meta 9.809 0.122 10.087 reduce_dim 9.210 0.114 9.631 SpatialEnrichment 8.212 0.622 14.675 shm 7.400 0.455 7.959 norm_srsc 6.436 0.302 6.918 plot_meta 5.287 0.851 6.505 write_svg 5.387 0.619 6.088 adj_mod 4.888 0.242 6.157 matrix_hm 4.811 0.116 5.069 * checking for unstated dependencies in ‘tests’ ... OK * checking tests ... Running ‘runTests.R’ OK * checking for unstated dependencies in vignettes ... OK * checking package vignettes ... OK * checking running R code from vignettes ... SKIPPED * checking re-building of vignette outputs ... SKIPPED * checking PDF version of manual ... OK * DONE Status: 1 NOTE See ‘/Users/biocbuild/bbs-3.20-bioc/meat/spatialHeatmap.Rcheck/00check.log’ for details.
spatialHeatmap.Rcheck/00install.out
############################################################################## ############################################################################## ### ### Running command: ### ### /Library/Frameworks/R.framework/Resources/bin/R CMD INSTALL spatialHeatmap ### ############################################################################## ############################################################################## * installing to library ‘/Library/Frameworks/R.framework/Versions/4.4-x86_64/Resources/library’ * installing *source* package ‘spatialHeatmap’ ... ** using staged installation ** R ** data ** inst ** byte-compile and prepare package for lazy loading Creating a new generic function for ‘svg’ in package ‘spatialHeatmap’ Creating a new generic function for ‘match’ in package ‘spatialHeatmap’ ** help *** installing help indices ** building package indices ** installing vignettes ** testing if installed package can be loaded from temporary location ** testing if installed package can be loaded from final location ** testing if installed package keeps a record of temporary installation path * DONE (spatialHeatmap)
spatialHeatmap.Rcheck/tests/runTests.Rout
R version 4.4.2 (2024-10-31) -- "Pile of Leaves" Copyright (C) 2024 The R Foundation for Statistical Computing Platform: x86_64-apple-darwin20 R is free software and comes with ABSOLUTELY NO WARRANTY. You are welcome to redistribute it under certain conditions. Type 'license()' or 'licence()' for distribution details. R is a collaborative project with many contributors. Type 'contributors()' for more information and 'citation()' on how to cite R or R packages in publications. Type 'demo()' for some demos, 'help()' for on-line help, or 'help.start()' for an HTML browser interface to help. Type 'q()' to quit R. > BiocGenerics:::testPackage("spatialHeatmap") Attaching package: 'spatialHeatmap' The following object is masked from 'package:grDevices': svg The following object is masked from 'package:base': match Loading required package: Biobase Loading required package: BiocGenerics Attaching package: 'BiocGenerics' The following object is masked from 'package:spatialHeatmap': match The following objects are masked from 'package:stats': IQR, mad, sd, var, xtabs The following objects are masked from 'package:base': Filter, Find, Map, Position, Reduce, anyDuplicated, aperm, append, as.data.frame, basename, cbind, colnames, dirname, do.call, duplicated, eval, evalq, get, grep, grepl, intersect, is.unsorted, lapply, mapply, match, mget, order, paste, pmax, pmax.int, pmin, pmin.int, rank, rbind, rownames, sapply, saveRDS, setdiff, table, tapply, union, unique, unsplit, which.max, which.min Welcome to Bioconductor Vignettes contain introductory material; view with 'browseVignettes()'. To cite Bioconductor, see 'citation("Biobase")', and for packages 'citation("pkgname")'. Loading required package: SummarizedExperiment Loading required package: MatrixGenerics Loading required package: matrixStats Attaching package: 'matrixStats' The following objects are masked from 'package:Biobase': anyMissing, rowMedians Attaching package: 'MatrixGenerics' The following objects are masked from 'package:matrixStats': colAlls, colAnyNAs, colAnys, colAvgsPerRowSet, colCollapse, colCounts, colCummaxs, colCummins, colCumprods, colCumsums, colDiffs, colIQRDiffs, colIQRs, colLogSumExps, colMadDiffs, colMads, colMaxs, colMeans2, colMedians, colMins, colOrderStats, colProds, colQuantiles, colRanges, colRanks, colSdDiffs, colSds, colSums2, colTabulates, colVarDiffs, colVars, colWeightedMads, colWeightedMeans, colWeightedMedians, colWeightedSds, colWeightedVars, rowAlls, rowAnyNAs, rowAnys, rowAvgsPerColSet, rowCollapse, rowCounts, rowCummaxs, rowCummins, rowCumprods, rowCumsums, rowDiffs, rowIQRDiffs, rowIQRs, rowLogSumExps, rowMadDiffs, rowMads, rowMaxs, rowMeans2, rowMedians, rowMins, rowOrderStats, rowProds, rowQuantiles, rowRanges, rowRanks, rowSdDiffs, rowSds, rowSums2, rowTabulates, rowVarDiffs, rowVars, rowWeightedMads, rowWeightedMeans, rowWeightedMedians, rowWeightedSds, rowWeightedVars The following object is masked from 'package:Biobase': rowMedians Loading required package: GenomicRanges Loading required package: stats4 Loading required package: S4Vectors Attaching package: 'S4Vectors' The following object is masked from 'package:utils': findMatches The following objects are masked from 'package:base': I, expand.grid, unname Loading required package: IRanges Loading required package: GenomeInfoDb Loading required package: limma Attaching package: 'limma' The following object is masked from 'package:BiocGenerics': plotMA Loading required package: xml2 Loading required package: RCurl Loading required package: jsonlite Loading required package: BiocStyle Attaching package: 'BiocStyle' The following object is masked from 'package:spatialHeatmap': output Normalising: ESF type "ratio" Syntactically valid column names are made! Syntactically valid column names are made! All values before filtering: Min. 1st Qu. Median Mean 3rd Qu. Max. 0.000 0.000 0.287 2.442 4.268 19.991 All coefficient of variances (CVs) before filtering: Min. 1st Qu. Median Mean 3rd Qu. Max. 0.0007742 0.0767696 0.4019655 0.6217813 0.9956157 2.0000000 All values after filtering: Min. 1st Qu. Median Mean 3rd Qu. Max. 0.000 2.654 4.976 4.779 6.451 14.695 All coefficient of variances (CVs) after filtering: Min. 1st Qu. Median Mean 3rd Qu. Max. 0.3001 0.3648 0.4637 0.5651 0.7392 1.1548 Warning: variables of sample/condition are less than 5! ..connectivity.. ..matrix multiplication (system BLAS).. ..normalization.. ..done. ..done. ..done. ..done. ..done. Normalising: ESF type "ratio" Syntactically valid column names are made! Syntactically valid column names are made! All values before filtering: Min. 1st Qu. Median Mean 3rd Qu. Max. 0.000 0.000 0.287 2.442 4.268 19.991 All coefficient of variances (CVs) before filtering: Min. 1st Qu. Median Mean 3rd Qu. Max. 0.0007742 0.0767696 0.4019655 0.6217813 0.9956157 2.0000000 All values after filtering: Min. 1st Qu. Median Mean 3rd Qu. Max. 0.000 2.654 4.976 4.779 6.451 14.695 All coefficient of variances (CVs) after filtering: Min. 1st Qu. Median Mean 3rd Qu. Max. 0.3001 0.3648 0.4637 0.5651 0.7392 1.1548 RUNIT TEST PROTOCOL -- Fri Feb 14 11:54:45 2025 *********************************************** Number of test functions: 2 Number of errors: 0 Number of failures: 0 1 Test Suite : spatialHeatmap RUnit Tests - 2 test functions, 0 errors, 0 failures Number of test functions: 2 Number of errors: 0 Number of failures: 0 > > proc.time() user system elapsed 49.524 2.403 54.059
spatialHeatmap.Rcheck/spatialHeatmap-Ex.timings
name | user | system | elapsed | |
SPHM | 24.165 | 1.501 | 33.705 | |
SPHMMethods | 3.099 | 0.700 | 4.249 | |
SVG | 1.247 | 0.366 | 2.432 | |
SVGMethods | 0.728 | 0.170 | 2.080 | |
SpatialEnrichment | 8.212 | 0.622 | 14.675 | |
aSVG.remote.repo | 0.003 | 0.003 | 0.008 | |
adj_mod | 4.888 | 0.242 | 6.157 | |
aggr_rep | 1.879 | 0.057 | 2.035 | |
cell_group | 14.346 | 0.415 | 15.941 | |
cluster_cell | 1.961 | 0.035 | 2.096 | |
coclus_opt | 0.472 | 0.015 | 0.734 | |
cocluster | 0.355 | 0.024 | 0.496 | |
com_factor | 0.328 | 0.021 | 0.537 | |
covis | 21.551 | 1.423 | 28.248 | |
custom_shiny | 0.034 | 0.010 | 0.789 | |
cut_dendro | 1.876 | 0.023 | 3.173 | |
cvt_id | 0.922 | 0.036 | 1.953 | |
data_ref | 1.549 | 0.027 | 1.594 | |
database | 0.650 | 0.041 | 0.959 | |
edit_tar | 0.009 | 0.002 | 0.042 | |
filter_data | 1.981 | 0.058 | 2.072 | |
matrix_hm | 4.811 | 0.116 | 5.069 | |
network | 3.576 | 0.105 | 4.347 | |
norm_cell | 2.665 | 0.048 | 2.721 | |
norm_data | 1.855 | 0.055 | 1.934 | |
norm_srsc | 6.436 | 0.302 | 6.918 | |
opt_bar | 0.324 | 0.006 | 0.348 | |
opt_setting | 0.019 | 0.009 | 0.028 | |
opt_violin | 0.408 | 0.003 | 0.420 | |
optimal_k | 0.283 | 0.004 | 0.342 | |
plot_dim | 2.543 | 0.038 | 2.647 | |
plot_kmeans | 1.044 | 0.038 | 1.096 | |
plot_meta | 5.287 | 0.851 | 6.505 | |
process_cell_meta | 9.809 | 0.122 | 10.087 | |
qc_cell | 1.657 | 0.030 | 1.701 | |
read_cache | 2.588 | 0.050 | 2.678 | |
read_fr | 0.009 | 0.002 | 0.012 | |
read_svg | 0.878 | 0.346 | 1.270 | |
reduce_dim | 9.210 | 0.114 | 9.631 | |
reduce_rep | 0.002 | 0.003 | 0.005 | |
return_feature | 1.473 | 0.023 | 1.555 | |
save_cache | 2.418 | 0.031 | 2.504 | |
shiny_shm | 0.000 | 0.001 | 0.001 | |
shm | 7.400 | 0.455 | 7.959 | |
spatialHeatmap-package | 0.001 | 0.002 | 0.002 | |
spatial_hm | 10.361 | 0.499 | 10.944 | |
submatrix | 4.224 | 0.074 | 4.354 | |
true_bulk | 0.503 | 0.022 | 0.537 | |
update_feature | 0.002 | 0.002 | 0.005 | |
write_svg | 5.387 | 0.619 | 6.088 | |