Back to Mac ARM64 build report for BioC 3.19 |
|
This page was generated on 2024-05-07 11:32:31 -0400 (Tue, 07 May 2024).
Hostname | OS | Arch (*) | R version | Installed pkgs |
---|---|---|---|---|
kjohnson3 | macOS 13.6.5 Ventura | arm64 | 4.4.0 (2024-04-24) -- "Puppy Cup" | 4461 |
Click on any hostname to see more info about the system (e.g. compilers) (*) as reported by 'uname -p', except on Windows and Mac OS X |
Package 387/2300 | Hostname | OS / Arch | INSTALL | BUILD | CHECK | BUILD BIN | ||||||||
CNEr 1.40.0 (landing page) Ge Tan
| kjohnson3 | macOS 13.6.5 Ventura / arm64 | OK | OK | ERROR | OK | ||||||||
To the developers/maintainers of the CNEr package: - Use the following Renviron settings to reproduce errors and warnings. - If 'R CMD check' started to fail recently on the Linux builder(s) over a missing dependency, add the missing dependency to 'Suggests:' in your DESCRIPTION file. See Renviron.bioc for more information. |
Package: CNEr |
Version: 1.40.0 |
Command: /Library/Frameworks/R.framework/Resources/bin/R CMD build --keep-empty-dirs --no-resave-data CNEr |
StartedAt: 2024-05-06 16:35:57 -0400 (Mon, 06 May 2024) |
EndedAt: 2024-05-06 16:36:37 -0400 (Mon, 06 May 2024) |
EllapsedTime: 40.5 seconds |
RetCode: 0 |
Status: OK |
PackageFile: CNEr_1.40.0.tar.gz |
PackageFileSize: 9.59 MiB |
############################################################################## ############################################################################## ### ### Running command: ### ### /Library/Frameworks/R.framework/Resources/bin/R CMD build --keep-empty-dirs --no-resave-data CNEr ### ############################################################################## ############################################################################## * checking for file ‘CNEr/DESCRIPTION’ ... OK * preparing ‘CNEr’: * checking DESCRIPTION meta-information ... OK * cleaning src * installing the package to build vignettes * creating vignettes ... OK * cleaning src * checking for LF line-endings in source and make files and shell scripts * checking for empty or unneeded directories * looking to see if a ‘data/datalist’ file should be added NB: this package now depends on R (>= 3.5.0) WARNING: Added dependency on R >= 3.5.0 because serialized objects in serialize/load version 3 cannot be read in older versions of R. File(s) containing such objects: ‘CNEr/data/axisTrack.rda’ ‘CNEr/data/CNEDanRer10Hg38.rda’ ‘CNEr/data/cneFinalListDanRer10Hg38.rda’ ‘CNEr/data/CNEHg38DanRer10.rda’ ‘CNEr/data/cpgIslands.rda’ ‘CNEr/data/grangesPairsForDotplot.rda’ ‘CNEr/data/refGenes.rda’ * building ‘CNEr_1.40.0.tar.gz’