Back to Mac ARM64 build report for BioC 3.19 |
|
This page was generated on 2024-05-07 11:32:38 -0400 (Tue, 07 May 2024).
Hostname | OS | Arch (*) | R version | Installed pkgs |
---|---|---|---|---|
kjohnson3 | macOS 13.6.5 Ventura | arm64 | 4.4.0 (2024-04-24) -- "Puppy Cup" | 4461 |
Click on any hostname to see more info about the system (e.g. compilers) (*) as reported by 'uname -p', except on Windows and Mac OS X |
Package 1252/2300 | Hostname | OS / Arch | INSTALL | BUILD | CHECK | BUILD BIN | ||||||||
Mfuzz 2.64.0 (landing page) Matthias Futschik
| kjohnson3 | macOS 13.6.5 Ventura / arm64 | OK | OK | WARNINGS | OK | ||||||||
To the developers/maintainers of the Mfuzz package: - Use the following Renviron settings to reproduce errors and warnings. - If 'R CMD check' started to fail recently on the Linux builder(s) over a missing dependency, add the missing dependency to 'Suggests:' in your DESCRIPTION file. See Renviron.bioc for more information. |
Package: Mfuzz |
Version: 2.64.0 |
Command: /Library/Frameworks/R.framework/Resources/bin/R CMD build --keep-empty-dirs --no-resave-data Mfuzz |
StartedAt: 2024-05-06 18:00:03 -0400 (Mon, 06 May 2024) |
EndedAt: 2024-05-06 18:00:09 -0400 (Mon, 06 May 2024) |
EllapsedTime: 6.1 seconds |
RetCode: 0 |
Status: OK |
PackageFile: Mfuzz_2.64.0.tar.gz |
PackageFileSize: 823 KiB |
############################################################################## ############################################################################## ### ### Running command: ### ### /Library/Frameworks/R.framework/Resources/bin/R CMD build --keep-empty-dirs --no-resave-data Mfuzz ### ############################################################################## ############################################################################## * checking for file ‘Mfuzz/DESCRIPTION’ ... OK * preparing ‘Mfuzz’: * checking DESCRIPTION meta-information ... OK Warning: /private/var/folders/r0/l4fjk6cj5xj0j3brt4bplpl40000gt/T/RtmpO9IStB/Rbuilddbf21c4fedd3/Mfuzz/man/cselection.Rd:25: unexpected '}' * installing the package to build vignettes * creating vignettes ... OK * checking for LF line-endings in source and make files and shell scripts * checking for empty or unneeded directories * looking to see if a ‘data/datalist’ file should be added * building ‘Mfuzz_2.64.0.tar.gz’