Back to the "Multiple platform build/check report"
| Package 2/48 | Hostname | OS | Arch | BUILD | CHECK | BUILD BIN | 
ALL1.4.3Xiaochun LiLast Changed Date: 2007-06-05 09:16:51 -0700 Last Changed Rev: 329  | lamb1 | Linux (SUSE 10.1) | x86_64 | [ OK ] | OK | |
| lemming | Windows Server 2003 (32-bit) | x64 | OK | OK | OK | 
| Package: ALL | 
| Version: 1.4.3 | 
| Command: /home/biocbuild/bbs-2.0-bioc/R/bin/R CMD build ALL | 
| RetCode: 0 | 
| Time: 38.1 seconds | 
| Status: OK | 
| PackageFile: ALL_1.4.3.tar.gz | 
* checking for file 'ALL/DESCRIPTION' ... OK
* preparing 'ALL':
* checking DESCRIPTION meta-information ... OK
* installing the package to re-build vignettes
* Installing *source* package 'ALL' ...
** R
** data
** inst
** help
 >>> Building/Updating help pages for package 'ALL'
     Formats: text html latex example 
  ALL                               text    html    latex   example
  tojulian                          text    html    latex   example
** building package indices ...
Loading required package: methods
* DONE (ALL)
* creating vignettes ... OK
* removing junk files
* checking for LF line-endings in source files
* checking for empty or unneeded directories
* building 'ALL_1.4.3.tar.gz'