Back to the "Multiple platform build/check report"
| Package 2/48 | Hostname | OS | Arch | BUILD | CHECK | BUILD BIN |
ALL1.4.3Xiaochun LiLast Changed Date: 2007-06-05 09:16:51 -0700 Last Changed Rev: 329 | lamb1 | Linux (SUSE 10.1) | x86_64 | OK | [ OK ] | |
| lemming | Windows Server 2003 (32-bit) | x64 | OK | OK | OK |
| Package: ALL |
| Version: 1.4.3 |
| Command: /home/biocbuild/bbs-2.0-bioc/R/bin/R CMD check ALL_1.4.3.tar.gz |
| RetCode: 0 |
| Time: 80.2 seconds |
| Status: OK |
| CheckDir: ALL.Rcheck |
| Warnings: 0 |
* checking for working latex ... OK * using log directory '/home/biocbuild/bbs-2.0-data-experiment/meat/ALL.Rcheck' * using R version 2.5.1 (2007-06-27) * checking for file 'ALL/DESCRIPTION' ... OK * this is package 'ALL' version '1.4.3' * checking package dependencies ... OK * checking if this is a source package ... OK * checking whether package 'ALL' can be installed ... OK * checking package directory ... OK * checking for portable file names ... OK * checking for sufficient/correct file permissions ... OK * checking DESCRIPTION meta-information ... OK * checking top-level files ... OK * checking index information ... OK * checking package subdirectories ... OK * checking R files for non-ASCII characters ... OK * checking R files for syntax errors ... OK * checking whether the package can be loaded ... OK * checking whether the package can be loaded with stated dependencies ... OK * checking for unstated dependencies in R code ... OK * checking S3 generic/method consistency ... OK * checking replacement functions ... OK * checking foreign function calls ... OK * checking R code for possible problems ... OK * checking Rd files ... OK * checking Rd cross-references ... OK * checking for missing documentation entries ... OK * checking for code/documentation mismatches ... OK * checking Rd \usage sections ... OK * checking data for non-ASCII characters ... OK * creating ALL-Ex.R ... OK * checking examples ... OK * checking package vignettes in 'inst/doc' ... OK * creating ALL-manual.tex ... OK * checking ALL-manual.tex ... OK
ALL.Rcheck/00install.out:
* Installing *source* package 'ALL' ...
** R
** data
** inst
** help
>>> Building/Updating help pages for package 'ALL'
Formats: text html latex example
ALL text html latex example
tojulian text html latex example
** building package indices ...
Loading required package: methods
* DONE (ALL)