Back to the "Multiple platform build/check report"
| Package 8/48 | Hostname | OS | Arch | BUILD | CHECK | BUILD BIN | 
CLL1.2.3Elizabeth WhalenLast Changed Date: 2007-05-11 17:16:32 -0700 Last Changed Rev: 293  | lamb1 | Linux (SUSE 10.1) | x86_64 | OK | OK | |
| lemming | Windows Server 2003 (32-bit) | x64 | OK | OK | [ OK ] | 
| Package: CLL | 
| Version: 1.2.3 | 
| Command: D:\biocbld\bbs-2.0-bioc\R\bin\R.exe CMD INSTALL --build --library=CLL.buildbin-libdir CLL_1.2.3.tar.gz | 
| RetCode: 0 | 
| Time: 52.4 seconds | 
| Status: OK | 
| PackageFile: CLL_1.2.3.zip | 
installing R.css in D:/biocbld/bbs-2.0-data-experiment/meat/CLL.buildbin-libdir
Using auto-selected zip options 'CLL-ZIPDATA=zip'
---------- Making package CLL ------------
  adding build stamp to DESCRIPTION
  installing R files
  installing data files
  installing man source files
  installing indices
  zipping data
  installing help
 >>> Building/Updating help pages for package 'CLL'
     Formats: text html latex example chm 
  CLL-package                       text    html    latex   example chm
  CLLbatch                          text    html    latex   example chm
  disease                           text    html    latex   example chm
  nsFilter                          text    html    latex   example chm
  sCLLex                            text    html    latex   example chm
  sFiltert                          text    html    latex   example chm
  sFiltertBH                        text    html    latex   example chm
Microsoft HTML Help Compiler 4.74.8702
Compiling d:\biocbld\bbs-2.0-data-experiment\meat\R.INSTALL.6584\CLL\chm\CLL.chm
Compile time: 0 minutes, 0 seconds
8	Topics
15	Local links
0	Internet links
1	Graphic
Created d:\biocbld\bbs-2.0-data-experiment\meat\R.INSTALL.6584\CLL\chm\CLL.chm, 23,064 bytes
Compression decreased file by 567 bytes.
  adding MD5 sums
packaged installation of package 'CLL' as CLL_1.2.3.zip
* DONE (CLL)