Back to the "Multiple platform build/check report"
| Package 8/48 | Hostname | OS | Arch | BUILD | CHECK | BUILD BIN | 
CLL1.2.3Elizabeth WhalenLast Changed Date: 2007-05-11 17:16:32 -0700 Last Changed Rev: 293  | lamb1 | Linux (SUSE 10.1) | x86_64 | OK | OK | |
| lemming | Windows Server 2003 (32-bit) | x64 | [ OK ] | OK | OK | 
| Package: CLL | 
| Version: 1.2.3 | 
| Command: D:\biocbld\bbs-2.0-bioc\R\bin\R.exe CMD build CLL | 
| RetCode: 0 | 
| Time: 27.8 seconds | 
| Status: OK | 
| PackageFile: CLL_1.2.3.tar.gz | 
* checking for file 'CLL/DESCRIPTION' ... OK * preparing 'CLL': * checking DESCRIPTION meta-information ... OK * removing junk files * checking for LF line-endings in source files * checking for empty or unneeded directories * building 'CLL_1.2.3.tar.gz'