Back to the "Multiple platform build/check report"
| Package 26/48 | Hostname | OS | Arch | BUILD | CHECK | BUILD BIN | 
HIVcDNAvantWout031.2.0Chris FraleyLast Changed Date: 2007-01-10 09:38:56 -0800 Last Changed Rev: 227  | lamb1 | Linux (SUSE 10.1) | x86_64 | OK | OK | |
| lemming | Windows Server 2003 (32-bit) | x64 | OK | OK | [ OK ] | 
| Package: HIVcDNAvantWout03 | 
| Version: 1.2.0 | 
| Command: D:\biocbld\bbs-2.0-bioc\R\bin\R.exe CMD INSTALL --build --library=HIVcDNAvantWout03.buildbin-libdir HIVcDNAvantWout03_1.2.0.tar.gz | 
| RetCode: 0 | 
| Time: 24.1 seconds | 
| Status: OK | 
| PackageFile: HIVcDNAvantWout03_1.2.0.zip | 
installing R.css in D:/biocbld/bbs-2.0-data-experiment/meat/HIVcDNAvantWout03.buildbin-libdir
Using auto-selected zip options 'HIVcDNAvantWout03-ZIPDATA=zip'
---------- Making package HIVcDNAvantWout03 ------------
  adding build stamp to DESCRIPTION
  no R files in this package
  installing inst files
  installing data files
  installing man source files
  installing indices
Read 450000 items
Read 450000 items
  zipping data
  installing help
 >>> Building/Updating help pages for package 'HIVcDNAvantWout03'
     Formats: text html latex example chm 
  hiv1raw                           text    html    latex           chm
  hiv2raw                           text    html    latex           chm
Microsoft HTML Help Compiler 4.74.8702
Compiling d:\biocbld\bbs-2.0-data-experiment\meat\R.INSTALL.7176\HIVcDNAvantWout03\chm\HIVcDNAvantWout03.chm
Compile time: 0 minutes, 0 seconds
3	Topics
4	Local links
2	Internet links
1	Graphic
Created d:\biocbld\bbs-2.0-data-experiment\meat\R.INSTALL.7176\HIVcDNAvantWout03\chm\HIVcDNAvantWout03.chm, 17,860 bytes
Compression increased file by 7,098 bytes.
  adding MD5 sums
packaged installation of package 'HIVcDNAvantWout03' as HIVcDNAvantWout03_1.2.0.zip
* DONE (HIVcDNAvantWout03)