Back to the "Multiple platform build/check report"
| Package 26/48 | Hostname | OS | Arch | BUILD | CHECK | BUILD BIN | 
HIVcDNAvantWout031.2.0Chris FraleyLast Changed Date: 2007-01-10 09:38:56 -0800 Last Changed Rev: 227  | lamb1 | Linux (SUSE 10.1) | x86_64 | OK | OK | |
| lemming | Windows Server 2003 (32-bit) | x64 | [ OK ] | OK | OK | 
| Package: HIVcDNAvantWout03 | 
| Version: 1.2.0 | 
| Command: D:\biocbld\bbs-2.0-bioc\R\bin\R.exe CMD build HIVcDNAvantWout03 | 
| RetCode: 0 | 
| Time: 11.4 seconds | 
| Status: OK | 
| PackageFile: HIVcDNAvantWout03_1.2.0.tar.gz | 
* checking for file 'HIVcDNAvantWout03/DESCRIPTION' ... OK * preparing 'HIVcDNAvantWout03': * checking DESCRIPTION meta-information ... OK * checking whether 'INDEX' is up-to-date ... NO * use '--force' to overwrite the existing 'INDEX' * removing junk files * checking for LF line-endings in source files * checking for empty or unneeded directories * building 'HIVcDNAvantWout03_1.2.0.tar.gz'