Back to the "Multiple platform build/check report"
| Package 27/48 | Hostname | OS | Arch | BUILD | CHECK | BUILD BIN |
Iyer5171.4.2Vince CareyLast Changed Date: 2007-07-10 04:15:48 -0700 Last Changed Rev: 390 | lamb1 | Linux (SUSE 10.1) | x86_64 | [ OK ] | OK | |
| lemming | Windows Server 2003 (32-bit) | x64 | OK | OK | OK |
| Package: Iyer517 |
| Version: 1.4.2 |
| Command: /home/biocbuild/bbs-2.0-bioc/R/bin/R CMD build Iyer517 |
| RetCode: 0 |
| Time: 4.5 seconds |
| Status: OK |
| PackageFile: Iyer517_1.4.2.tar.gz |
* checking for file 'Iyer517/DESCRIPTION' ... OK
* preparing 'Iyer517':
* checking DESCRIPTION meta-information ... OK
* checking whether 'INDEX' is up-to-date ... OK
* installing the package to re-build vignettes
* Installing *source* package 'Iyer517' ...
** R
** data
** inst
** help
>>> Building/Updating help pages for package 'Iyer517'
Formats: text html latex example
Iyer517 text html latex example
IyerAnnotated text html latex example
get.dna2 text html latex example
** building package indices ...
Loading required package: methods
* DONE (Iyer517)
* creating vignettes ... OK
* removing junk files
* checking for LF line-endings in source files
* checking for empty or unneeded directories
* building 'Iyer517_1.4.2.tar.gz'