Back to the "Multiple platform build/check report"
| Package 27/48 | Hostname | OS | Arch | BUILD | CHECK | BUILD BIN |
Iyer5171.4.2Vince CareyLast Changed Date: 2007-07-10 04:15:48 -0700 Last Changed Rev: 390 | lamb1 | Linux (SUSE 10.1) | x86_64 | OK | OK | |
| lemming | Windows Server 2003 (32-bit) | x64 | [ OK ] | OK | OK |
| Package: Iyer517 |
| Version: 1.4.2 |
| Command: D:\biocbld\bbs-2.0-bioc\R\bin\R.exe CMD build Iyer517 |
| RetCode: 0 |
| Time: 31.5 seconds |
| Status: OK |
| PackageFile: Iyer517_1.4.2.tar.gz |
* checking for file 'Iyer517/DESCRIPTION' ... OK
* preparing 'Iyer517':
* checking DESCRIPTION meta-information ... OK
* checking whether 'INDEX' is up-to-date ... NO
* use '--force' to overwrite the existing 'INDEX'
* installing the package to re-build vignettes
installing R.css in D:/biocbld/bbs-2.0-data-experiment/tmpdir/Rinst140889266
---------- Making package Iyer517 ------------
adding build stamp to DESCRIPTION
installing R files
installing inst files
installing data files
installing man source files
installing indices
Loading required package: methods
not zipping data
installing help
>>> Building/Updating help pages for package 'Iyer517'
Formats: text html latex example chm
Iyer517 text html latex example chm
IyerAnnotated text html latex example chm
get.dna2 text html latex example chm
Microsoft HTML Help Compiler 4.74.8702
Compiling d:\biocbld\bbs-2.0-data-experiment\meat\Iyer517\chm\Iyer517.chm
Compile time: 0 minutes, 0 seconds
4 Topics
7 Local links
1 Internet link
1 Graphic
Created d:\biocbld\bbs-2.0-data-experiment\meat\Iyer517\chm\Iyer517.chm, 19,272 bytes
Compression increased file by 6,816 bytes.
adding MD5 sums
* DONE (Iyer517)
* creating vignettes ... OK
* removing junk files
* checking for LF line-endings in source files
* checking for empty or unneeded directories
* building 'Iyer517_1.4.2.tar.gz'