Back to the "Multiple platform build/check report"
| Package 37/48 | Hostname | OS | Arch | BUILD | CHECK | BUILD BIN | 
ProData0.4.1Xiaochun LiLast Changed Date: 2006-10-09 17:54:27 -0700 Last Changed Rev: 158  | lamb1 | Linux (SUSE 10.1) | x86_64 | OK | [ OK ] | |
| lemming | Windows Server 2003 (32-bit) | x64 | OK | OK | OK | 
| Package: ProData | 
| Version: 0.4.1 | 
| Command: /home/biocbuild/bbs-2.0-bioc/R/bin/R CMD check ProData_0.4.1.tar.gz | 
| RetCode: 0 | 
| Time: 14.5 seconds | 
| Status: OK | 
| CheckDir: ProData.Rcheck | 
| Warnings: 0 | 
* checking for working latex ... OK * using log directory '/home/biocbuild/bbs-2.0-data-experiment/meat/ProData.Rcheck' * using R version 2.5.1 (2007-06-27) * checking for file 'ProData/DESCRIPTION' ... OK * this is package 'ProData' version '0.4.1' * checking package dependencies ... OK * checking if this is a source package ... OK * checking whether package 'ProData' can be installed ... OK * checking package directory ... OK * checking for portable file names ... OK * checking for sufficient/correct file permissions ... OK * checking DESCRIPTION meta-information ... OK * checking top-level files ... OK * checking index information ... OK * checking package subdirectories ... OK * checking whether the package can be loaded ... OK * checking whether the package can be loaded with stated dependencies ... OK * checking Rd files ... OK * checking Rd cross-references ... OK * checking for missing documentation entries ... OK * checking for code/documentation mismatches ... OK * checking Rd \usage sections ... OK * checking data for non-ASCII characters ... OK * creating ProData-Ex.R ... OK * checking examples ... OK * creating ProData-manual.tex ... OK * checking ProData-manual.tex ... OK
ProData.Rcheck/00install.out:
* Installing *source* package 'ProData' ...
** data
** inst
** help
 >>> Building/Updating help pages for package 'ProData'
     Formats: text html latex example 
  ProData                           text    html    latex   example
  f45cbmk                           text    html    latex   example
** building package indices ...
Loading required package: methods
* DONE (ProData)