Back to the "Multiple platform build/check report"
| Package 37/48 | Hostname | OS | Arch | BUILD | CHECK | BUILD BIN | 
ProData0.4.1Xiaochun LiLast Changed Date: 2006-10-09 17:54:27 -0700 Last Changed Rev: 158  | lamb1 | Linux (SUSE 10.1) | x86_64 | OK | OK | |
| lemming | Windows Server 2003 (32-bit) | x64 | OK | OK | [ OK ] | 
| Package: ProData | 
| Version: 0.4.1 | 
| Command: D:\biocbld\bbs-2.0-bioc\R\bin\R.exe CMD INSTALL --build --library=ProData.buildbin-libdir ProData_0.4.1.tar.gz | 
| RetCode: 0 | 
| Time: 33.9 seconds | 
| Status: OK | 
| PackageFile: ProData_0.4.1.zip | 
installing R.css in D:/biocbld/bbs-2.0-data-experiment/meat/ProData.buildbin-libdir
Using auto-selected zip options ''
---------- Making package ProData ------------
  adding build stamp to DESCRIPTION
  no R files in this package
  installing inst files
  installing data files
  installing man source files
  installing indices
Loading required package: methods
  not zipping data
  installing help
 >>> Building/Updating help pages for package 'ProData'
     Formats: text html latex example chm 
  ProData                           text    html    latex   example chm
  f45cbmk                           text    html    latex   example chm
Microsoft HTML Help Compiler 4.74.8702
Compiling d:\biocbld\bbs-2.0-data-experiment\meat\R.INSTALL.5244\ProData\chm\ProData.chm
Compile time: 0 minutes, 0 seconds
3	Topics
4	Local links
0	Internet links
1	Graphic
Created d:\biocbld\bbs-2.0-data-experiment\meat\R.INSTALL.5244\ProData\chm\ProData.chm, 19,212 bytes
Compression increased file by 8,731 bytes.
  adding MD5 sums
packaged installation of package 'ProData' as ProData_0.4.1.zip
* DONE (ProData)